{"text_format":"1","workbook":"xlsx","n_sheets":34,"sheets":["Table2","enum-ListOfIndicatorsIfPublicOf","enum-EmoneyTokenWhitePaper","enum-ListOfPersonTypesDomain","Table3","TableOfContent_T3","Table4","TableOfContent_T4","Action&Log","table2_E15","currencies","data_T2","TableOfContent_T2","enum-ListOfHomeMemberStatesDoma","enum-ListOfExemptionFromAuthori","enum-ListOfAuthorisationAuthori","enum-ListOfCompetentAuthorityDo","enum-AssetreferencedTokenWhiteP","enum-ListOfHostMemberStatesDoma","enum-CurrencyDomain","enum-ListOfTargetedHoldersDomai","enum-ListOfPlacementFormDomain","enum-OtherCryptoassetWhitePaper","enum-ListOfSubmissionTypeDomain","table2-02","table2-05","data_T3","data_T4","enum-CountryDomain","Field format","About this file","ESMA_Secu","boolean","Info_Field"],"not_rendered":{"charts":0,"images":1,"macros":1,"external_links":0,"defined_names":0,"comments":8,"pivot_tables":0},"unopened":[],"bounds":{"document_bytes":16777216,"sheet_cells":100000,"rows_first":2000,"rows_last":500,"rows_between":2000,"halvings":0,"cell_chars":16384,"cell_head_chars":4096},"cells_cut":0,"cells_raw":0,"read":"whole","date_system":"1900"}

{"sheet":"Table2","index":0,"n_rows":293,"n_cols":6,"rows_kept":293,"cut":false,"hidden":true,"merged":[]}
[null,null,null,null,null," "]
[]
[null,"[Table 2] Template for white papers for crypto-assets other than asset-referenced tokens or e-money tokens"]
[]
[null,"Template for white papers for crypto-assets other than asset-referenced tokens or e-money tokens [abstract]"]
[null,"General information"]
[null,"00 Table of content",null,"boolean true","true"]
[null,"01 Date of notification",null,"date","YYYY-MM-DD"]
[null,"02 Statement in accordance with Article 6(3) of Regulation (EU) 2023/1114",null,"boolean true","-- Select value --"]
[null,"03 Compliance statement in accordance with Article 6(6) of Regulation (EU) 2023/1114",null,"boolean true","This crypto-asset white paper complies with Title II of Regulation (EU) 2023/1114 of the European Parliament and of the Council and, to the best of the knowledge of the management body, the information presented in the crypto-asset white paper is fair, clear and not misleading and the crypto-asset white paper makes no omission likely to affect its import."]
[null,"04 Statement in accordance with Article 6(5), points (a), (b), (c), of Regulation (EU) 2023/1114",null,"boolean true","The crypto-asset referred to in this crypto-asset white paper may lose its value in part or in full, may not always be transferable and may not be liquid"]
[null,"05 Statement in accordance with Article 6(5), point (d), of Regulation (EU) 2023/1114",null,"boolean true","-- Select value --"]
[null,"06 Statement in accordance with Article 6(5), points (e) and (f), of Regulation (EU) 2023/1114",null,"boolean true","The crypto-asset referred to in this white paper is not covered by the investor compensation schemes under Directive 97/9/EC of the European Parliament and of the Council or the deposit guarantee schemes under Directive 2014/49/EU of the European Parliament and of the Council."]
[null,"SUMMARY"]
[null,"07 Warning in accordance with Article 6(7), second subparagraph, of Regulation (EU) 2023/1114",null,"boolean true","Warning\n\nThis summary should be read as an introduction to the crypto-asset white paper.\n\nThe prospective holder should base any decision to purchase this crypto –asset on the content of the crypto-asset white paper as a whole and not on the summary alone.\n\nThe offer to the public of this crypto-asset does not constitute an offer or solicitation to purchase financial instruments and any such offer or solicitation can be made only by means of a prospectus or other offer documents pursuant to the applicable national law.\n\nThis crypto-asset white paper does not constitute a prospectus as referred to in Regulation (EU) 2017/1129 of the European Parliament and of the Council or any other offer document pursuant to Union or national law."]
[null,"08 Characteristics of the crypto-asset",null,"textBlock"," Ex: Here is a sample text... (textBlock format)"]
[null,"09 Further information about utility tokens",null,"textBlock"," Ex: Here is a sample text... (textBlock format)"]
[null,"10 Key information about the offer to the public or admission to trading",null,"textBlock"," Ex: Here is a sample text... (textBlock format)"]
[null,"Part A - Information about offeror or person seeking admission to trading"]
[null,"A.1 Name",null,"text"," Ex: Here is a sample text... (text format)"]
[null,"A.2 Legal form",null,"text"," Ex: Here is a sample text... (text format)"]
[null,"A.3 Registered address"]
[null,"Registered addess",null,"text"," Ex: Here is a sample text... (text format)"]
[null,"Country",null,"enumeration","-- Select value --"]
[null,"Sub-division",null,"text"," Ex: Here is a sample text... (text format)"]
[null,"A.4 Head office"]
[null,"Head office",null,"text"," Ex: Here is a sample text... (text format)"]
[null,"Country",null,"enumeration","-- Select value --"]
[null,"Sub-division",null,"text"," Ex: Here is a sample text... (text format)"]
[null,"A.5 Registration date",null,"date","YYYY-MM-DD"]
[null,"A.6 Legal entity identifier",null,"LEI"," Ex: 999999A9AA99AAAAAA99"]
[null,"A.7 Another identifier required pursuant to applicable national law",null,"text"," Ex: Here is a sample text... (text format)"]
[null,"A.8 Contact telephone number",null,"text"," Ex: Here is a sample text... (text format)"]
[null,"A.9 E-mail address",null,"text"," Ex: Here is a sample text... (text format)"]
[null,"A.10 Response time (days)",null,"integer"," Ex: 27"]
[null,"A.11 Parent company",null,"text"," Ex: Here is a sample text... (text format)"]
[null,"A.12 Members of the management body"]
[null,"Member #1",null,"id",1]
[null,"Identity",null,"text"," Ex: Here is a sample text... (text format)"]
[null,"Business address",null,"text"," Ex: Here is a sample text... (text format)"]
[null,"Function",null,"text"," Ex: Here is a sample text... (text format)"]
[null,"Member #2",null,"id",2]
[null,"Identity",null,"text"," Ex: Here is a sample text... (text format)"]
[null,"Business address",null,"text"," Ex: Here is a sample text... (text format)"]
[null,"Function",null,"text"," Ex: Here is a sample text... (text format)"]
[null,"A.13 Business activity",null,"textBlock"," Ex: Here is a sample text... (textBlock format)"]
[null,"A.14 Parent company business activity",null,"textBlock"," Ex: Here is a sample text... (textBlock format)"]
[null,"A.15 Newly established",null,"boolean","true/false"]
[null,"A.16 Financial condition for the past three years",null,"textBlock"," Ex: Here is a sample text... (textBlock format)"]
[null,"A.17 Financial condition since registration",null,"textBlock"," Ex: Here is a sample text... (textBlock format)"]
[null,"Part B - Information about issuer, if different from offeror or person seeking admission to trading"]
[null,"B.1 Issuer different from offerror or person seeking admission to trading",null,"boolean","true/false"]
[null,"B.2 Name",null,"text"," Ex: Here is a sample text... (text format)"]
[null,"B.3 Legal form",null,"text"," Ex: Here is a sample text... (text format)"]
[null,"B.4 Registered address"]
[null,"Registered addess",null,"text"," Ex: Here is a sample text... (text format)"]
[null,"Country",null,"enumeration","-- Select value --"]
[null,"Sub-division",null,"text"," Ex: Here is a sample text... (text format)"]
[null,"B.5 Head office"]
[null,"Head office",null,"text"," Ex: Here is a sample text... (text format)"]
[null,"Country",null,"enumeration","-- Select value --"]
[null,"Sub-division",null,"text"," Ex: Here is a sample text... (text format)"]
[null,"B.6 Registration date",null,"date","YYYY-MM-DD"]
[null,"B.7 Legal entity identifier",null,"LEI"," Ex: 999999A9AA99AAAAAA99"]
[null,"B.8 Another identifier required pursuant to applicable national law",null,"text"," Ex: Here is a sample text... (text format)"]
[null,"B.9 Parent company",null,"text"," Ex: Here is a sample text... (text format)"]
[null,"B.10 Members of the management body"]
[null,"Member #1",null,"id",1]
[null,"Identity",null,"text"," Ex: Here is a sample text... (text format)"]
[null,"Business address",null,"text"," Ex: Here is a sample text... (text format)"]
[null,"Function",null,"text"," Ex: Here is a sample text... (text format)"]
[null,"Member #2",null,"id",2]
[null,"Identity",null,"text"," Ex: Here is a sample text... (text format)"]
[null,"Business address",null,"text"," Ex: Here is a sample text... (text format)"]
[null,"Function",null,"text"," Ex: Here is a sample text... (text format)"]
[null,"B.11 Business activity",null,"textBlock"," Ex: Here is a sample text... (textBlock format)"]
[null,"B.12 Parent company business activity",null,"textBlock"," Ex: Here is a sample text... (textBlock format)"]
[null,"Part C - Information about the operator of the trading platform in cases where it draws up the crypto-asset white paper and information about other persons drawing the crypto-asset white paper pursuant to Article 6(1), second subparagraph, of Regulation (EU) 2023/1114"]
[null,"C.1 Name",null,"N/A","","."]
[null,"C.2 Legal form",null,"N/A","","."]
[null,"C.3 Registered address"]
[null,"Registered address",null,"N/A","","."]
[null,"Country",null,"N/A",null,"."]
[null,"Sub-division",null,"N/A","","."]
[null,"C.4 Head office"]
[null,"Head office",null,"N/A","","."]
[null,"Country",null,"N/A",null,"."]
[null,"Sub-division",null,"N/A","","."]
[null,"C.5 Registration date",null,"N/A",null,"."]
[null,"C.6 Legal entity identifier",null,"N/A",null,"."]
[null,"C.7 Another identifier required pursuant to applicable national law",null,"N/A","","."]
[null,"C.8 Parent company",null,"N/A","","."]
[null,"C.9 Reason for crypto-asset white paper preparation",null,"N/A","","."]
[null,"C.10 Members of the management body"]
[null,"Member #1",null,"N/A",null,"."]
[null,"Identity",null,"N/A","","."]
[null,"Business address",null,"N/A","","."]
[null,"Function",null,"N/A","","."]
[null,"C.11 Operator business activity",null,"N/A","","."]
[null,"C.12 Parent company business activity",null,"N/A","","."]
[null,"C.13 Other persons drawing up the crypto-asset white paper according to Article 6(1), second subparagraph, of Regulation (EU) 2023/1114",null,"N/A","","."]
[null,"C.14 Reason for drawing the white paper by persons referred to in Article 6(1), second subparagraph, of Regulation (EU) 2023/1114",null,"N/A","","."]
[null,"Part D - Information about other token project"]
[null,"D.1 Crypto-asset project name",null,"text"," Ex: Here is a sample text... (text format)"]
[null,"D.2 Crypto-asset name",null,"text"," Ex: Here is a sample text... (text format)"]
[null,"D.3 Abbreviation",null,"text"," Ex: Here is a sample text... (text format)"]
[null,"D.4 Crypto-asset project description",null,"textBlock"," Ex: Here is a sample text... (textBlock format)"]
[null,"D.5 Details of all natural or legal persons involved in implementation of crypto-asset project"]
[null,"Person #1",null,"id",1]
[null,"Type of person",null,"enumeration","-- Select value --"]
[null,"Name of person ",null,"text"," Ex: Here is a sample text... (text format)"]
[null,"Business address of person",null,"text"," Ex: Here is a sample text... (text format)"]
[null,"Domicile of company",null,"enumeration","-- Select value --"]
[null,"Person #2",null,"id",2]
[null,"Type of person",null,"enumeration","-- Select value --"]
[null,"Name of person ",null,"text"," Ex: Here is a sample text... (text format)"]
[null,"Business address of person",null,"text"," Ex: Here is a sample text... (text format)"]
[null,"Domicile of company",null,"enumeration","-- Select value --"]
[null,"D.6 Utility token classification",null,"boolean","true/false"]
[null,"D.7 Key features of goods or services for utility token projects",null,"text"," Ex: Here is a sample text... (text format)"]
[null,"D.8 Plans for the token"]
[null,"Description of past milestones",null,"textBlock"," Ex: Here is a sample text... (textBlock format)"]
[null,"Description of future milestones",null,"textBlock"," Ex: Here is a sample text... (textBlock format)"]
[null,"D.9 Resource allocation",null,"text"," Ex: Here is a sample text... (text format)"]
[null,"D.10 Planned use of collected funds or other tokens",null,"text"," Ex: Here is a sample text... (text format)"]
[null,"Part E - Information about offer to public of other tokens or their admission to trading"]
[null,"E.1 Public offering or admission to trading",null,"enumeration","-- Select value --"]
[null,"E.2 Reasons for public offer or admission to trading",null,"textBlock"," Ex: Here is a sample text... (textBlock format)"]
[null,"E.3 Fundraising target"]
[null,"Target expressed in currency",null,"monetary"," Ex: 18.16","EUR"]
[null,"Target expressed in units",null,"decimal"," Ex: 27.1018"]
[null,"Target expressed in digital token identifier",null,"text"," Ex: Here is a sample text... (text format)"]
[null,"E.4 Minimum subscription goals"]
[null,"Goals expressed in currency",null,"monetary"," Ex: 18.16","EUR"]
[null,"Goals expressed in units",null,"decimal"," Ex: 27.1018"]
[null,"Goals expressed in digital token identifier",null,"text"," Ex: Here is a sample text... (text format)"]
[null,"E.5 Maximum subscription goals"]
[null,"Goasl expressed in currency",null,"monetary"," Ex: 18.16","EUR"]
[null,"Goals expressed in units",null,"decimal"," Ex: 27.1018"]
[null,"Goals expressed in digital token identifier",null,"text"," Ex: Here is a sample text... (text format)"]
[null,"E.6 Oversubscription acceptance",null,"boolean","true/false"]
[null,"E.7 Oversubscription allocation",null,"text"," Ex: Here is a sample text... (text format)"]
[null,"Issue price details"]
[null,"E.8 Issue price",null,"decimal"," Ex: 27.1018"]
[null,"E.9 Official currency determining issue price",null,"enumeration","-- Select value --"]
[null,"E.9 Any other tokens determining issue price",null,"text"," Ex: Here is a sample text... (text format)"]
[null,"E.10 Subscription fee"]
[null,"Fee expressed in currency",null,"monetary"," Ex: 18.16","EUR"]
[null,"Fee expressed in units","                                                 ","decimal"," Ex: 27.1018"]
[null,"Fee expressed in digital token identifier",null,"text"," Ex: Here is a sample text... (text format)"]
[null,"E.11 Offer price determination method",null,"text"," Ex: Here is a sample text... (text format)"]
[null,"E.12 Total number of offered or traded other tokens",null,"integer"," Ex: 27"]
[null,"E.13 Targeted holders",null,"enumeration","-- Select value --"]
[null,"E.14 Holder restrictions",null,"text"," Ex: Here is a sample text... (text format)"]
[null,"E.15 Reimbursement notice",null,"boolean true","-- Select value --"]
[null,"E.16 Refund mechanism",null,"textBlock"," Ex: Here is a sample text... (textBlock format)"]
[null,"E.17 Refund timeline",null,"text"," Ex: Here is a sample text... (text format)"]
[null,"E.18 Offer phases",null,"textBlock"," Ex: Here is a sample text... (textBlock format)"]
[null,"E.19 Early purchase discount",null,"textBlock"," Ex: Here is a sample text... (textBlock format)"]
[null,"E.20 Time-limited offer",null,"boolean","true/false"]
[null,"E.21 Subscription period beginning",null,"date","YYYY-MM-DD"]
[null,"E.22 Subscription period end",null,"date","YYYY-MM-DD"]
[null,"E.23 Safeguarding arrangements for offered funds or other tokens",null,"textBlock"," Ex: Here is a sample text... (textBlock format)"]
[null,"E.24 Payment methods for other token purchase",null,"textBlock"," Ex: Here is a sample text... (textBlock format)"]
[null,"E.25 Value transfer methods for reimbursement",null,"textBlock"," Ex: Here is a sample text... (textBlock format)"]
[null,"E.26 Right of withdrawal",null,"textBlock"," Ex: Here is a sample text... (textBlock format)"]
[null,"E.27 Transfer of purchased other tokens",null,"textBlock"," Ex: Here is a sample text... (textBlock format)"]
[null,"E.28 Transfer time schedule",null,"text"," Ex: Here is a sample text... (text format)"]
[null,"E.29 Purchaser's technical requirements",null,"textBlock"," Ex: Here is a sample text... (textBlock format)"]
[null,"Other token services provider characteristics"]
[null,"E.30 Other token service provider (CASP) name",null,"text"," Ex: Here is a sample text... (text format)"]
[null,"E.31 CASP identifier",null,"LEI"," Ex: 999999A9AA99AAAAAA99"]
[null,"E.32 Placement form",null,"enumeration","-- Select value --"]
[null,"Trading platforms characteristics"]
[null,"E.33 Trading platforms name",null,"text"," Ex: Here is a sample text... (text format)"]
[null,"E.34 Trading platforms market identifier code (MIC)",null,"text"," Ex: Here is a sample text... (text format)"]
[null,"E.35 Trading platforms access",null,"text"," Ex: Here is a sample text... (text format)"]
[null,"E.36 Involved costs",null,"textBlock"," Ex: Here is a sample text... (textBlock format)"]
[null,"E.37 Offer expenses",null,"textBlock"," Ex: Here is a sample text... (textBlock format)"]
[null,"E.38 Conflicts of interest",null,"textBlock"," Ex: Here is a sample text... (textBlock format)"]
[null,"E.39 Applicable law",null,"textBlock"," Ex: Here is a sample text... (textBlock format)"]
[null,"E.40 Competent court",null,"textBlock"," Ex: Here is a sample text... (textBlock format)"]
[null,"Part F - Information about other tokens"]
[null,"F.1 Crypto-asset type",null,"text"," Ex: Here is a sample text... (text format)"]
[null,"F.2 Other token functionality",null,"textBlock"," Ex: Here is a sample text... (textBlock format)"]
[null,"F.3 Planned application of functionalities",null,"textBlock"," Ex: Here is a sample text... (textBlock format)"]
[null,"A description of the characteristics of the other token, including the data necessary for classification of the crypto-asset white paper in the register referred to in Article 109 of Regulation (EU) 2023/1114, as specified in accordance with paragraph 8 of that Article"]
[null,"F.4 Type of crypto-asset white paper",null,"enumeration","-- Select value --"]
[null,"F.5 Type of submission",null,"enumeration","-- Select value --"]
[null,"F.6 Other token characteristics",null,"textBlock"," Ex: Here is a sample text... (textBlock format)"]
[null,"F.7 Commercial name or trading name",null,"text"," Ex: Here is a sample text... (text format)"]
[null,"F.8 Website of the issuer",null,"text"," Ex: Here is a sample text... (text format)"]
[null,"F.9 Starting date of offer to the public or admission to trading",null,"date","YYYY-MM-DD"]
[null,"F.10 Publication date",null,"date","YYYY-MM-DD"]
[null,"F.11 Any other services provided by the issuer",null,"textBlock"," Ex: Here is a sample text... (textBlock format)"]
[null,"F.12 Language or languages of white paper",null,"text"," Ex: Here is a sample text... (text format)"]
[null,"F.13 Digital token identifier code used to uniquely identify the crypto-asset or each of the several crypto assets to which the white paper relates, where available",null,"text"," Ex: Here is a sample text... (text format)"]
[null,"F.14 Functionally fungible group digital token identifier, where available",null,"text"," Ex: Here is a sample text... (text format)"]
[null,"F.15 Voluntary data flag",null,"boolean","true/false"]
[null,"F.16 Personal data flag",null,"boolean","true/false"]
[null,"F.17 LEI eligibility",null,"boolean","true/false"]
[null,"F.18 Home member state",null,"enumeration","-- Select value --"]
[null,"F.19 Host member states #1",null,"enumerationSet","Belgium"]
[null,"F.19 Host member states #2",null,"enumerationSet","Bulgaria"]
[null,"Part G - Information on rights and obligations attached to other tokens"]
[null,"G.1 Purchaser rights and obligations",null,"textBlock"," Ex: Here is a sample text... (textBlock format)"]
[null,"G.2 Exercise of rights and obligations",null,"textBlock"," Ex: Here is a sample text... (textBlock format)"]
[null,"G.3 Conditions for modifications of rights and obligations",null,"textBlock"," Ex: Here is a sample text... (textBlock format)"]
[null,"G.4 Future public offers",null,"textBlock"," Ex: Here is a sample text... (textBlock format)"]
[null,"G.5 Issuer retained other token",null,"integer"," Ex: 27"]
[null,"G.6 Utility token classification",null,"boolean","true/false"]
[null,"G.7 Key features of goods or services utility tokens",null,"text"," Ex: Here is a sample text... (text format)"]
[null,"G.8 Utility tokens redemption",null,"text"," Ex: Here is a sample text... (text format)"]
[null,"G.9 Non-trading request",null,"boolean","true/false"]
[null,"G.10 Other tokens purchase or sale modalities",null,"text"," Ex: Here is a sample text... (text format)"]
[null,"G.11 Other tokens transfer restrictions",null,"text"," Ex: Here is a sample text... (text format)"]
[null,"G.12 Supply adjustment protocols",null,"boolean","true/false"]
[null,"G.13 Supply adjustment mechanisms",null,"text"," Ex: Here is a sample text... (text format)"]
[null,"Other token schemes details"]
[null,"G.14 Token value protection schemes",null,"boolean","true/false"]
[null,"G.15 Token value protection schemes description",null,"textBlock"," Ex: Here is a sample text... (textBlock format)"]
[null,"G.16 Compensation schemes",null,"boolean","true/false"]
[null,"G.17 Compensation schemes description",null,"textBlock"," Ex: Here is a sample text... (textBlock format)"]
[null,"G.18 Applicable law",null,"textBlock"," Ex: Here is a sample text... (textBlock format)"]
[null,"G.19 Competent court",null,"textBlock"," Ex: Here is a sample text... (textBlock format)"]
[null,"Part H – Information on underlying technology"]
[null,"H.1 Distributed ledger technology (DTL)",null,"text"," Ex: Here is a sample text... (text format)"]
[null,"H.2 Protocols and technical standards",null,"text"," Ex: Here is a sample text... (text format)"]
[null,"H.3 Technology used",null,"textBlock"," Ex: Here is a sample text... (textBlock format)"]
[null,"H.4 Consensus mechanism",null,"text"," Ex: Here is a sample text... (text format)"]
[null,"H.5 Incentive mechanisms and applicable fees",null,"text"," Ex: Here is a sample text... (text format)"]
[null,"H.6 Use of distributed ledger technology",null,"boolean","true/false"]
[null,"H.7 DLT functionality description",null,"textBlock"," Ex: Here is a sample text... (textBlock format)"]
[null,"Other token audit details"]
[null,"H.8 Audit",null,"boolean","true/false"]
[null,"H.9 Audit outcome",null,"textBlock"," Ex: Here is a sample text... (textBlock format)"]
[null,"Part I - Information on risks"]
[null,"I.1 Offer-related risks",null,"textBlock"," Ex: Here is a sample text... (textBlock format)"]
[null,"I.2 Issuer-related risks",null,"textBlock"," Ex: Here is a sample text... (textBlock format)"]
[null,"I.3 Other tokens-related risks",null,"textBlock"," Ex: Here is a sample text... (textBlock format)"]
[null,"I.4 Project implementation-related risks",null,"textBlock"," Ex: Here is a sample text... (textBlock format)"]
[null,"I.5 Technology-related risks",null,"textBlock"," Ex: Here is a sample text... (textBlock format)"]
[null,"I.6 Mitigation measures",null,"textBlock"," Ex: Here is a sample text... (textBlock format)"]
[null,"Part J - Information on the sustainability indicators in relation to adverse impact on the climate and other environment-related adverse impacts"]
[null,"J.1 Adverse impacts on climate and other environment-related adverse impacts",null,"textBlock"," Ex: Here is a sample text... (textBlock format)"]
[null,"Mandatory information on principal adverse impacts on the climate and other environment-related adverse impacts of the consensus mechanism"]
[null,"General information about adverse impacts"]
[null,"S.1 Name",null,"text"," Ex: Here is a sample text... (text format)"]
[null,"S.2 Relevant legal entity identifier",null,"text"," Ex: Here is a sample text... (text format)"]
[null,"S.3 Name of the crypto-asset",null,"text"," Ex: Here is a sample text... (text format)"]
[null,"S.4 Consensus mechanism",null,"text"," Ex: Here is a sample text... (text format)"]
[null,"S.5 Incentive mechanisms and applicable fees",null,"text"," Ex: Here is a sample text... (text format)"]
[null,"S.6 Beginning of period to which disclosed information relates",null,"date","YYYY-MM-DD"]
[null,"S.7 End of period to which disclosed information relates",null,"date","YYYY-MM-DD"]
[null,"Mandatory key indicator"]
[null,"S.8 Energy consumption",null,"energy (kWh) "," Ex: 27.04"]
[null,"Sources and methodologies"]
[null,"S.9 Energy consumption sources and methodologies",null,"textBlock"," Ex: Here is a sample text... (textBlock format)"]
[null,"Supplementary information on principal adverse impacts on climate and other environment-related adverse impacts of consensus mechanism"]
[null,"Supplementary key indicators"]
[null,"S.10 Renewable energy consumption",null,"percent"," Ex: 27.1018%"]
[null,"S.11 Energy intensity",null,"energy (kWh)"," Ex: 27.04"]
[null,"S.12 Scope 1 DLT GHG emissions - controlled",null,"GHG emissions (tCO2e)"," Ex: 27.04"]
[null,"S.13 Scope 2 DLT GHG emissions - purchased",null,"GHG emissions (tCO2e)"," Ex: 27.04"]
[null,"S.14 GHG intensity",null,"GHG emissions (tCO2e)"," Ex: 27.04"]
[null,"Sources and methodologies"]
[null,"S.15 Key energy sources and methodologies",null,"textBlock"," Ex: Here is a sample text... (textBlock format)"]
[null,"S.16 Key GHG sources and methodologies",null,"textBlock"," Ex: Here is a sample text... (textBlock format)"]
[null,"Optional information on principal adverse impacts on the climate and on other environment-related adverse impacts of the consensus mechanism"]
[null,"Optional indicators"]
[null,"S. 17 Energy mix",null,"percent"," Ex: 27.1018%"]
[null,"S.18 Energy use reduction"]
[null,"Energy use reduction target (absolute value)",null,"energy (kWh)"," Ex: 27.04"]
[null,"Energy use reduction target (percentage)",null,"percent"," Ex: 27.1018%"]
[null,"S.19 Carbon intensity (kgCO2e/kWh)",null,"decimal"," Ex: 27.1018"]
[null,"S.20 Scope 3 DLT GHG emissions - value chain",null,"GHG emissions (tCO2e)"," Ex: 27.04"]
[null,"S.21 GHG emissions reduction targets or commitments",null,"textBlock"," Ex: Here is a sample text... (textBlock format)"]
[null,"S.22 Generation of waste electrical and electronic equipment (WEEE)",null,"mass (tonnes)"," Ex: 27.04"]
[null,"S.23 Non-recycled WEEE ratio",null,"percent"," Ex: 27.1018%"]
[null,"S.24 Generation of hazardous waste",null,"mass (tonnes)"," Ex: 27.04"]
[null,"S.25 Generation of waste (all types)",null,"mass (tonnes)"," Ex: 27.04"]
[null,"S.26 Non-recycled waste ratio (all types)",null,"percent"," Ex: 27.1018%"]
[null,"S.27 Waste intensity (all types)",null,"mass (tonnes)"," Ex: 27.04"]
[null,"S.28 Waste reduction targets or commitments (all types)",null,"textBlock"," Ex: Here is a sample text... (textBlock format)"]
[null,"S.29 Impact of use of equipment on natural resources",null,"textBlock"," Ex: Here is a sample text... (textBlock format)"]
[null,"S.30 Natural resources use reduction targets or commitments",null,"textBlock"," Ex: Here is a sample text... (textBlock format)"]
[null,"S.31 Water use",null,"volume (m3)"," Ex: 27.04"]
[null,"S.32 Non recycled water ratio",null,"percent"," Ex: 27.1018%"]
[null,"Sources and methodologies"]
[null,"S.33 Other energy sources and methodologies",null,"textBlock"," Ex: Here is a sample text... (textBlock format)"]
[null,"S.34 Other GHG sources and methodologies",null,"textBlock"," Ex: Here is a sample text... (textBlock format)"]
[null,"S.35 Waste sources and methodologies",null,"textBlock"," Ex: Here is a sample text... (textBlock format)"]
[null,"S.36 Natural resources sources and methodologies",null,"textBlock"," Ex: Here is a sample text... (textBlock format)"]

{"sheet":"enum-ListOfIndicatorsIfPublicOf","index":1,"n_rows":2,"n_cols":2,"rows_kept":2,"cut":false,"hidden":true,"merged":[]}
["https://www.esma.europa.eu/taxonomy/2025-03-31/mica/#AdmissionToTrading","Admission to trading"]
["https://www.esma.europa.eu/taxonomy/2025-03-31/mica/#OfferToPublic","Offer to public"]

{"sheet":"enum-EmoneyTokenWhitePaper","index":2,"n_rows":1,"n_cols":2,"rows_kept":1,"cut":false,"hidden":true,"merged":[]}
["https://www.esma.europa.eu/taxonomy/2025-03-31/mica/#EmoneyTokenWhitePaper","E-money token white paper"]

{"sheet":"enum-ListOfPersonTypesDomain","index":3,"n_rows":4,"n_cols":2,"rows_kept":4,"cut":false,"hidden":true,"merged":[]}
["https://www.esma.europa.eu/taxonomy/2025-03-31/mica/#Advisor","Advisor"]
["https://www.esma.europa.eu/taxonomy/2025-03-31/mica/#DevelopmentTeam","Development team"]
["https://www.esma.europa.eu/taxonomy/2025-03-31/mica/#CryptoassetServiceProvider","Crypto-asset service provider"]
["https://www.esma.europa.eu/taxonomy/2025-03-31/mica/#OtherPersonInvolvedInImplementation","Other person involved in implementation"]

{"sheet":"Table3","index":4,"n_rows":258,"n_cols":6,"rows_kept":258,"cut":false,"hidden":false,"merged":[]}
[null,null,null,null,null," "]
[]
[null,"[Table 3] Template for white papers for asset-referenced tokens"]
[]
[null,"Template for white papers for asset-referenced tokens [abstract]"]
[null,"General information"]
[null,"I.00 Table of content",null,"boolean true","true"]
[null,"I.01 Date of notification",null,"date","YYYY-MM-DD"]
[null,"I.02 Statement in accordance with Article 19(4), points (a) to (e), of Regulation (EU) 2023/1114",null,"boolean true","The asset-referenced token referred to in this crypto-asset white paper may lose its value in part or in full, may not always be transferable and may not be liquid.\n\nThe asset-refenced token referred to in this crypto-asset white paper is not covered by the investor compensation schemes under Directive 97/9/EC of the European Parliament and of the Council or the deposit guarantee schemes under Directive 2014/49/EU of the European Parliament and of the Council."]
[null,"I.03 Compliance statement in accordance with Article 19(5) of Regulation (EU) 2023/1114",null,"boolean true","This crypto-asset white paper complies with Title III of Regulation (EU) 2023/1114 of the European Parliament and of the Council and to the best of the knowledge of the management body, the information presented in this crypto-asset white paper is fair, clear and not misleading and the crypto-asset white paper makes no omission likely to affect its import"]
[null,"SUMMARY"]
[null,"I.04 Warning in accordance with Article 19(6), second subparagraph, of Regulation (EU) 2023/1114",null,"boolean true","Warning\n\nThis summary should be read as an introduction to the crypto-asset white paper.\n\nThe prospective holder should base any decision to purchase this asset-referenced token on the content of the crypto-asset white paper as a whole and not on the summary alone.\n\nThe offer to the public of this crypto-asset does not constitute an offer or solicitation to purchase financial instruments and any such offer or solicitation can be made only by means of a prospectus or other offer documents pursuant to the applicable national law.\n\nThis crypto-asset white paper does not constitute a prospectus as referred to in Regulation (EU) 2017/1129 of the European Parliament and of the Council or any other offer document pursuant to Union or national law."]
[null,"I.05 Characteristics of the crypto-asset",null,"textBlock"," Ex: Here is a sample text... (textBlock format)"]
[null,"I.06 Right of redemption",null,"textBlock"," Ex: Here is a sample text... (textBlock format)"]
[null,"I.07 Key information about the offer to the public and or admission to trading",null,"textBlock"," Ex: Here is a sample text... (textBlock format)"]
[null,"Part A – Information about issuer of asset-referenced token"]
[null,"A.1 Statutory Name",null,"text"," Ex: Here is a sample text... (text format)"]
[null,"A.2 Trading name",null,"text"," Ex: Here is a sample text... (text format)"]
[null,"A.3 Legal form",null,"text"," Ex: Here is a sample text... (text format)"]
[null,"A.4 Registered address"]
[null,"Registered addess",null,"text"," Ex: Here is a sample text... (text format)"]
[null,"Country",null,"enumeration","-- Select value --"]
[null,"Sub-division",null,"text"," Ex: Here is a sample text... (text format)"]
[null,"A.5 Head office"]
[null,"Head office",null,"text"," Ex: Here is a sample text... (text format)"]
[null,"Country",null,"enumeration","-- Select value --"]
[null,"Sub-division",null,"text"," Ex: Here is a sample text... (text format)"]
[null,"A.6 Registration date",null,"date","YYYY-MM-DD"]
[null,"A.7 Legal entity identifier",null,"LEI"," Ex: 999999A9AA99AAAAAA99"]
[null,"A.8 Other identifier required pursuant to applicable national law",null,"text"," Ex: Here is a sample text... (text format)"]
[null,"A.9 Parent company",null,"text"," Ex: Here is a sample text... (text format)"]
[null,"A.10 Members of management body"]
[null,"Member #1",null,"id",1]
[null,"Identity",null,"text"," Ex: Here is a sample text... (text format)"]
[null,"Business address",null,"text"," Ex: Here is a sample text... (text format)"]
[null,"Function",null,"text"," Ex: Here is a sample text... (text format)"]
[null,"Member #2",null,"id",2]
[null,"Identity",null,"text"," Ex: Here is a sample text... (text format)"]
[null,"Business address",null,"text"," Ex: Here is a sample text... (text format)"]
[null,"Function",null,"text"," Ex: Here is a sample text... (text format)"]
[null,"A.11 Business activity",null,"textBlock"," Ex: Here is a sample text... (textBlock format)"]
[null,"A.12 Parent company business activity",null,"textBlock"," Ex: Here is a sample text... (textBlock format)"]
[null,"A.13 Newly established",null,"boolean","true/false"]
[null,"A.14 Financial condition for the past three years",null,"textBlock"," Ex: Here is a sample text... (textBlock format)"]
[null,"A.15 Financial condition since registration",null,"textBlock"," Ex: Here is a sample text... (textBlock format)"]
[null,"A.16 Governance arrangements",null,"textBlock"," Ex: Here is a sample text... (textBlock format)"]
[null,"A.17 Exemption from authorisation",null,"enumeration","-- Select value --"]
[null,"A.18 Authorisation as issuer of asset-referenced token",null,"text"," Ex: Here is a sample text... (text format)"]
[null,"A.19 Authorisation authority",null,"enumeration","-- Select value --"]
[null,"A.20 Competent authority for credit institutions",null,"enumeration","-- Select value --"]
[null,"A.21 Issuance of other crypto-assets",null,"boolean","true/false"]
[null,"A.22 Activities related to other crypto-assets",null,"boolean","true/false"]
[null,"Asset-referenced token issuer and DLT business association"]
[null,"A.23 Connection between the issuer and the entity running the DLT",null,"boolean","true/false"]
[null,"A.24 Description of the connection between the issuer and the entity running the DLT",null,"textBlock"," Ex: Here is a sample text... (textBlock format)"]
[null,"AA Information on other persons offering to the public or seeking admission to trading of asset-referenced tokens other than the issuer and on other persons drawing up the crypto-asset white paper in accordance with Article 19(1), second subparagraph, of Regulation (EU) 2023/1114"]
[null,"AA.1 Persons other than the issuer offering to the public or seeking admission to trading of the asset referenced token according to Article 19(1), second subparagraph, of Regulation (EU) 2023/1114",null,"N/A",null,"."]
[null,"AA.1.2 Persons other than the issuer offering to the public or seeking admission to trading of the asset referenced token according to Article 19(1), second subparagraph, of Regulation (EU) 2023/1114",null,"N/A","","."]
[null,"AA.2 Reason for offering to the public or seeking admission to trading the asset-referenced token by persons referred to in Article 19(1), second subparagraph, of Regulation (EU) 2023/1114",null,"N/A","","."]
[null,"AA.3 Other persons drawing up the crypto-asset white paper according to Article 19(1), second subparagraph, of Regulation (EU) 2023/1114",null,"N/A",null,"."]
[null,"AA.3.1 Other persons drawing up the crypto-asset white paper according to Article 19(1), second subparagraph, of Regulation (EU) 2023/1114",null,"N/A","","."]
[null,"AA.4 Reason for drawing the white paper by persons referred to in Article 19(1), second subparagraph, of Regulation (EU) 2023/1114",null,"N/A","","."]
[null,"Part B - Information about asset-referenced token"]
[null,"B.1 Asset-referenced token name",null,"text"," Ex: Here is a sample text... (text format)"]
[null,"B.2 Token abbreviation",null,"text"," Ex: Here is a sample text... (text format)"]
[null,"B.3 Details of all natural or legal persons involved in the operationalisation of the asset-referenced token"]
[null,"Person #1",null,"id",1]
[null,"Type of person",null,"enumeration","-- Select value --"]
[null,"Name of person ",null,"text"," Ex: Here is a sample text... (text format)"]
[null,"Business address of person",null,"text"," Ex: Here is a sample text... (text format)"]
[null,"Domicile of company",null,"enumeration","-- Select value --"]
[null,"Person #2",null,"id",2]
[null,"Type of person",null,"enumeration","-- Select value --"]
[null,"Name of person ",null,"text"," Ex: Here is a sample text... (text format)"]
[null,"Business address of person",null,"text"," Ex: Here is a sample text... (text format)"]
[null,"Domicile of company",null,"enumeration","-- Select value --"]
[null,"B.4 Third-party roles",null,"textBlock"," Ex: Here is a sample text... (textBlock format)"]
[null,"B.5 Plans for the token"]
[null,"Past milestones",null,"textBlock"," Ex: Here is a sample text... (textBlock format)"]
[null,"Future milestones",null,"textBlock"," Ex: Here is a sample text... (textBlock format)"]
[null,"B.6 Resource allocation",null,"text"," Ex: Here is a sample text... (text format)"]
[null,"A description of the characteristics of the asset referenced token, including the data necessary for classification of the crypto-asset white paper in the register referred to in Article 109 of Regulation (EU) 2023/1114, as specified in accordance with paragraph 8 of that Article"]
[null,"B.7 Type of white paper",null,"enumeration","-- Select value --"]
[null,"B.8 Type of submission",null,"enumeration","-- Select value --"]
[null,"B.9 Crypto-asset characteristics",null,"textBlock"," Ex: Here is a sample text... (textBlock format)"]
[null,"B.10 Website of the issuer",null,"text"," Ex: Here is a sample text... (text format)"]
[null,"B.11 Starting date of offer to the public or admission to trading",null,"date","YYYY-MM-DD"]
[null,"B.12 Publication date",null,"date","YYYY-MM-DD"]
[null,"B.13 Any other services provided by issuer",null,"textBlock"," Ex: Here is a sample text... (textBlock format)"]
[null,"B.14 Language or languages of white paper",null,"text"," Ex: Here is a sample text... (text format)"]
[null,"B.15 Digital token identifier code used to uniquely identify the crypto-asset or each of the several crypto assets to which the white paper relates, where available",null,"text"," Ex: Here is a sample text... (text format)"]
[null,"B.16 Functionally fungible group digital token identifier, where available",null,"text"," Ex: Here is a sample text... (text format)"]
[null,"B.17 Personal data flag",null,"boolean","true/false"]
[null,"B.18 LEI eligibility",null,"boolean","true/false"]
[null,"B.19 Home member state",null,"enumeration","-- Select value --"]
[null,"B.20 Host member states #1",null,"enumerationSet","Belgium"]
[null,"B.20 Host member states #2",null,"enumerationSet","Bulgaria"]
[null,"Part C - Information about offer to public of asset-referenced token or its admission to trading"]
[null,"C.1 Public offering or admission to trading",null,"enumeration","-- Select value --"]
[null,"C.2 Fundraising target"]
[null,"Target expressed in currency",null,"monetary"," Ex: 18.16","EUR"]
[null,"Target expressed in units",null,"decimal"," Ex: 27.1018"]
[null,"Target expressed in digital token identifier",null,"text"," Ex: Here is a sample text... (text format)"]
[null,"C.3 Minimum subscription goals"]
[null,"Goals expressed in currency",null,"monetary"," Ex: 18.16","EUR"]
[null,"Goals expressed in units",null,"decimal"," Ex: 27.1018"]
[null,"Goals expressed in digital token identifier",null,"text"," Ex: Here is a sample text... (text format)"]
[null,"C.4 Maximum subscription goals"]
[null,"Goals expressed in currency",null,"monetary"," Ex: 18.16","EUR"]
[null,"Goals expressed in units",null,"decimal"," Ex: 27.1018"]
[null,"Goals expressed in digital token identifier",null,"text"," Ex: Here is a sample text... (text format)"]
[null,"C.5 Oversubscription acceptance",null,"boolean","true/false"]
[null,"C.6 Oversubscription allocation",null,"text"," Ex: Here is a sample text... (text format)"]
[null,"C.7 Token offering or trading quantity",null,"integer"," Ex: 27"]
[null,"C.8 Targeted holders",null,"enumeration","-- Select value --"]
[null,"C.9 Holders restrictions",null,"text"," Ex: Here is a sample text... (text format)"]
[null,"C.10 Reimbursement notice",null,"boolean true","Purchasers participating in the offer to the public of this asset-referenced token will be able to be reimbursed if the minimum target subscription goal is not reached at the end of the offer to the public, if they exercise the right to withdrawal provided for in Article 13 of Regulation (EU) 2023/1114 of the European Parliament and of the Council or if the offer is cancelled"]
[null,"C.11 Refund timeline",null,"text"," Ex: Here is a sample text... (text format)"]
[null,"C.12 Explicit consequences",null,"textBlock"," Ex: Here is a sample text... (textBlock format)"]
[null,"C.13 Offer phases",null,"textBlock"," Ex: Here is a sample text... (textBlock format)"]
[null,"C.14 Early purchase discount",null,"textBlock"," Ex: Here is a sample text... (textBlock format)"]
[null,"C.15 Time-limited offer",null,"boolean","true/false"]
[null,"C.16 Subscription period beginning",null,"date","YYYY-MM-DD"]
[null,"C.17 Subscription period end",null,"date","YYYY-MM-DD"]
[null,"C.18 Token purchase or redemption payment",null,"textBlock"," Ex: Here is a sample text... (textBlock format)"]
[null,"C.19 Token transfer",null,"text"," Ex: Here is a sample text... (text format)"]
[null,"C.20 Purchasers technical requirements",null,"textBlock"," Ex: Here is a sample text... (textBlock format)"]
[null,"Crypto-asset services provider characteristics"]
[null,"C.21 CASP name",null,"text"," Ex: Here is a sample text... (text format)"]
[null,"C.22 CASP identifier",null,"LEI"," Ex: 999999A9AA99AAAAAA99"]
[null,"C.23 Placement form",null,"enumeration","-- Select value --"]
[null,"Trading platform's characteristics"]
[null,"C.24 Trading platforms name",null,"text"," Ex: Here is a sample text... (text format)"]
[null,"C.25 Trading platforms market identifier code (MIC)",null,"text"," Ex: Here is a sample text... (text format)"]
[null,"C.26 Trading platforms access",null,"text"," Ex: Here is a sample text... (text format)"]
[null,"C.27 Involved costs",null,"text"," Ex: Here is a sample text... (text format)"]
[null,"C.28 Offer expenses",null,"textBlock"," Ex: Here is a sample text... (textBlock format)"]
[null,"C.29 Conflicts of interest",null,"text"," Ex: Here is a sample text... (text format)"]
[null,"C.30 Applicable law",null,"textBlock"," Ex: Here is a sample text... (textBlock format)"]
[null,"C.31 Competent court",null,"textBlock"," Ex: Here is a sample text... (textBlock format)"]
[null,"Part D - Information on the rights and obligations attached to the asset-referenced token"]
[null,"D.1 Token functionalities",null,"textBlock"," Ex: Here is a sample text... (textBlock format)"]
[null,"D.2 Planned functional use",null,"date","YYYY-MM-DD"]
[null,"D.3 Purchaser rights and obligations",null,"textBlock"," Ex: Here is a sample text... (textBlock format)"]
[null,"D.4 Rights exercise procedure",null,"textBlock"," Ex: Here is a sample text... (textBlock format)"]
[null,"D.5 Conditions for modifications of rights and obligations",null,"textBlock"," Ex: Here is a sample text... (textBlock format)"]
[null,"D.6 Future public offers",null,"textBlock"," Ex: Here is a sample text... (textBlock format)"]
[null,"D.7 Issuer retained units",null,"integer"," Ex: 27"]
[null,"D.8 Non-trading request",null,"boolean","true/false"]
[null,"D.9 Token purchase or sale modalities",null,"text"," Ex: Here is a sample text... (text format)"]
[null,"D.10 Token transfer restrictions",null,"text"," Ex: Here is a sample text... (text format)"]
[null,"D.11 Supply adjustment protocols",null,"boolean","true/false"]
[null,"D.12 Supply adjustment mechanisms",null,"text"," Ex: Here is a sample text... (text format)"]
[null,"Asset-referenced token schemes details"]
[null,"D.13 Token value protection schemes",null,"boolean","true/false"]
[null,"D.14 Token value protection schemes description",null,"textBlock"," Ex: Here is a sample text... (textBlock format)"]
[null,"D.15 Compensation schemes",null,"boolean","true/false"]
[null,"D.16 Compensation schemes description",null,"textBlock"," Ex: Here is a sample text... (textBlock format)"]
[null,"D.17 Nature and enforceability of rights",null,"textBlock"," Ex: Here is a sample text... (textBlock format)"]
[null,"D.18 Referenced assets description",null,"textBlock"," Ex: Here is a sample text... (textBlock format)"]
[null,"D.19 Referenced assets proportions",null,"text"," Ex: Here is a sample text... (text format)"]
[null,"D.20 Value-claim-reserve interrelation",null,"text"," Ex: Here is a sample text... (text format)"]
[null,"D.21 Transparent claim valuation",null,"text"," Ex: Here is a sample text... (text format)"]
[null,"D.22 Other details about the claim the asset referenced token represents over referenced assets",null,"textBlock"," Ex: Here is a sample text... (textBlock format)"]
[null,"D.23 Liquidity arrangements",null,"text"," Ex: Here is a sample text... (text format)"]
[null,"D.24 Liquidity providers",null,"text"," Ex: Here is a sample text... (text format)"]
[null,"D.25 Complaint submission contact",null,"text"," Ex: Here is a sample text... (text format)"]
[null,"D.26 Complaints handling procedures",null,"textBlock"," Ex: Here is a sample text... (textBlock format)"]
[null,"D.27 Dispute resolution mechanism",null,"textBlock"," Ex: Here is a sample text... (textBlock format)"]
[null,"D.28 Holder rights in default or insolvency",null,"textBlock"," Ex: Here is a sample text... (textBlock format)"]
[null,"D.29 Rights in recovery plan implementation",null,"textBlock"," Ex: Here is a sample text... (textBlock format)"]
[null,"D.30 Rights in redemption plan implementation",null,"textBlock"," Ex: Here is a sample text... (textBlock format)"]
[null,"D.31 Redemption form",null,"textBlock"," Ex: Here is a sample text... (textBlock format)"]
[null,"D.32 Redemption form options",null,"boolean","true/false"]
[null,"D.33 Transference form options",null,"boolean","true/false"]
[null,"D.34 Form of transference",null,"text"," Ex: Here is a sample text... (text format)"]
[null,"D.35 Redemption currency",null,"enumeration","-- Select value --"]
[null,"D.36 Applicable law",null,"textBlock"," Ex: Here is a sample text... (textBlock format)"]
[null,"D.37 Competent court",null,"textBlock"," Ex: Here is a sample text... (textBlock format)"]
[null,"Part E - Information on the underlying technology"]
[null,"E.1 Distributed ledger technology",null,"text"," Ex: Here is a sample text... (text format)"]
[null,"E.2 Protocols and technical standards",null,"textBlock"," Ex: Here is a sample text... (textBlock format)"]
[null,"E.3 Technology used",null,"textBlock"," Ex: Here is a sample text... (textBlock format)"]
[null,"E.4 Consensus mechanism",null,"text"," Ex: Here is a sample text... (text format)"]
[null,"E.5 Incentive mechanisms and applicable fees",null,"text"," Ex: Here is a sample text... (text format)"]
[null,"E.6 Use of distributed ledger technology",null,"boolean","true/false"]
[null,"E.7 DLT functionality description",null,"textBlock"," Ex: Here is a sample text... (textBlock format)"]
[null,"Asset-referenced token's audit details"]
[null,"E.8 Audit",null,"boolean","true/false"]
[null,"E.9 Audit outcome",null,"textBlock"," Ex: Here is a sample text... (textBlock format)"]
[null,"Part F - Information on the risks"]
[null,"F.1 Risks related to asset reserve",null,"textBlock"," Ex: Here is a sample text... (textBlock format)"]
[null,"F.2 Issuer-related risks",null,"textBlock"," Ex: Here is a sample text... (textBlock format)"]
[null,"F.3 Offer-related risks",null,"textBlock"," Ex: Here is a sample text... (textBlock format)"]
[null,"F.4 Token-related risks",null,"textBlock"," Ex: Here is a sample text... (textBlock format)"]
[null,"F.5 Risks related to operationalisation of the asset-referenced token project",null,"textBlock"," Ex: Here is a sample text... (textBlock format)"]
[null,"F.6 Technology-related risks",null,"textBlock"," Ex: Here is a sample text... (textBlock format)"]
[null,"F.7 Mitigation measures",null,"text"," Ex: Here is a sample text... (text format)"]
[null,"Part G - Information on the reserve of assets"]
[null,"G.1 Value alignment mechanism",null,"textBlock"," Ex: Here is a sample text... (textBlock format)"]
[null,"G.2 Asset reserve description",null,"textBlock"," Ex: Here is a sample text... (textBlock format)"]
[null,"G.3 Token issuance and redemption mechanisms",null,"textBlock"," Ex: Here is a sample text... (textBlock format)"]
[null,"G.4 Investment of reserve of assets",null,"boolean","true/false"]
[null,"G.5 Reserve asset investment policy",null,"textBlock"," Ex: Here is a sample text... (textBlock format)"]
[null,"G.6 Reserve asset custody arrangements",null,"textBlock"," Ex: Here is a sample text... (textBlock format)"]
[null,"Custodian service providers characteristics"]
[null,"G.7 Custodian service providers",null,"textBlock"," Ex: Here is a sample text... (textBlock format)"]
[null,"G.8 Custodian service providers",null,"LEI"," Ex: 999999A9AA99AAAAAA99"]
[null,"Part H - Information on the sustainability indicators in relation to adverse impact on the climate and other environment-related adverse impacts"]
[null,"H.1 Adverse impacts on climate and other environment-related adverse impacts",null,"textBlock"," Ex: Here is a sample text... (textBlock format)"]
[null,"Mandatory information on principal adverse impacts on the climate and other environment-related adverse impacts of the consensus mechanism"]
[null,"General information about adverse impacts"]
[null,"S.1 Name",null,"text"," Ex: Here is a sample text... (text format)"]
[null,"S.2 Relevant legal entity identifier",null,"text"," Ex: Here is a sample text... (text format)"]
[null,"S.3 Name of the crypto-asset",null,"text"," Ex: Here is a sample text... (text format)"]
[null,"S.4 Consensus mechanism",null,"text"," Ex: Here is a sample text... (text format)"]
[null,"S.5 Incentive mechanisms and applicable fees",null,"text"," Ex: Here is a sample text... (text format)"]
[null,"S.6 Beginning of period to which disclosed information relates",null,"date","YYYY-MM-DD"]
[null,"S.7 End of period to which disclosed information relates",null,"date","YYYY-MM-DD"]
[null,"Mandatory key indicator"]
[null,"S.8 Energy consumption",null,"energy (kWh)"," Ex: 27.04"]
[null,"Sources and methodologies"]
[null,"S.9 Energy consumption sources and methodologies",null,"textBlock"," Ex: Here is a sample text... (textBlock format)"]
[null,"Supplementary information on principal adverse impacts on climate and other environment-related adverse impacts of consensus mechanism"]
[null,"Supplementary key indicators"]
[null,"S.10 Renewable energy consumption",null,"percent"," Ex: 27.1018%"]
[null,"S.11 Energy intensity",null,"energy (kWh)"," Ex: 27.04"]
[null,"S.12 Scope 1 DLT GHG emissions - controlled",null,"GHG emissions (tCO2e)"," Ex: 27.04"]
[null,"S.13 Scope 2 DLT GHG emissions - purchased",null,"GHG emissions (tCO2e)"," Ex: 27.04"]
[null,"S.14 GHG intensity",null,"GHG emissions (tCO2e)"," Ex: 27.04"]
[null,"Sources and methodologies"]
[null,"S.15 Key energy sources and methodologies",null,"textBlock"," Ex: Here is a sample text... (textBlock format)"]
[null,"S.16 Key GHG sources and methodologies",null,"textBlock"," Ex: Here is a sample text... (textBlock format)"]
[null,"Optional information on principal adverse impacts on the climate and on other environment-related adverse impacts of the consensus mechanism"]
[null,"Optional indicators"]
[null,"S. 17 Energy mix",null,"percent"," Ex: 27.1018%"]
[null,"S.18 Energy use reduction"]
[null,"Energy use reduction target (absolute value)",null,"energy (kWh)"," Ex: 27.04"]
[null,"Energy use reduction target (percentage)",null,"percent"," Ex: 27.1018%"]
[null,"S.19 Carbon intensity (kgCO2e/kWh)",null,"decimal"," Ex: 27.1018"]
[null,"S.20 Scope 3 DLT GHG emissions - value chain",null,"GHG emissions (tCO2e)"," Ex: 27.04"]
[null,"S.21 GHG emissions reduction targets or commitments",null,"textBlock"," Ex: Here is a sample text... (textBlock format)"]
[null,"S.22 Generation of waste electrical and electronic equipment (WEEE)",null,"mass (tonnes)"," Ex: 27.04"]
[null,"S.23 Non-recycled WEEE ratio",null,"percent"," Ex: 27.1018%"]
[null,"S.24 Generation of hazardous waste",null,"mass (tonnes)"," Ex: 27.04"]
[null,"S.25 Generation of waste (all types)",null,"mass (tonnes)"," Ex: 27.04"]
[null,"S.26 Non-recycled waste ratio (all types)",null,"percent"," Ex: 27.1018%"]
[null,"S.27 Waste intensity (all types)",null,"mass (tonnes)"," Ex: 27.04"]
[null,"S.28 Waste reduction targets or commitments (all types)",null,"textBlock"," Ex: Here is a sample text... (textBlock format)"]
[null,"S.29 Impact of use of equipment on natural resources",null,"textBlock"," Ex: Here is a sample text... (textBlock format)"]
[null,"S.30 Natural resources use reduction targets or commitments",null,"textBlock"," Ex: Here is a sample text... (textBlock format)"]
[null,"S.31 Water use",null,"volume (m3)"," Ex: 27.04"]
[null,"S.32 Non recycled water ratio",null,"percent"," Ex: 27.1018%"]
[null,"Sources and methodologies"]
[null,"S.33 Other energy sources and methodologies",null,"textBlock"," Ex: Here is a sample text... (textBlock format)"]
[null,"S.34 Other GHG sources and methodologies",null,"textBlock"," Ex: Here is a sample text... (textBlock format)"]
[null,"S.35 Waste sources and methodologies",null,"textBlock"," Ex: Here is a sample text... (textBlock format)"]
[null,"S.36 Natural resources sources and methodologies",null,"textBlock"," Ex: Here is a sample text... (textBlock format)"]

{"sheet":"TableOfContent_T3","index":5,"n_rows":18,"n_cols":6,"rows_kept":18,"cut":false,"hidden":true,"merged":[[1,3,1,4]]}
[null,null,null,null,null,"  .."]
[null,null,null,"White paper for Asset-Referenced Token"]
[]
[null,null,null,"Digital Token Identifier:  ","text format"]
[null,null,null,"Issuer of asset-referenced token:  ","999999A9AA99AAAAAA99 - text format"]
[null,null,null,"Type of submission:  ","-- Select value --"]
[]
[null,"Table of content"]
[null,"General information"]
[null,"SUMMARY"]
[null,"Part A – Information about issuer of asset-referenced token"]
[null,"Part B - Information about asset-referenced token"]
[null,"Part C - Information about offer to public of asset-referenced token or its admission to trading"]
[null,"Part D - Information on the rights and obligations attached to the asset-referenced token"]
[null,"Part E - Information on the underlying technology"]
[null,"Part F - Information on the risks"]
[null,"Part G - Information on the reserve of assets"]
[null,"Part H - Information on the sustainability indicators in relation to adverse impact on the climate and other environment-related adverse impacts"]

{"sheet":"Table4","index":6,"n_rows":210,"n_cols":6,"rows_kept":210,"cut":false,"hidden":true,"merged":[]}
[null,null,null,null,null," "]
[]
[null,"[Table 4] Template for white papers for e-money tokens"]
[]
[null,"Template for white papers for e-money tokens [abstract]"]
[null,"General information"]
[null,"I.00 Table of content",null,"boolean true","true"]
[null,"I.01 Date of notification",null,"date",""]
[null,"I.02 Statement in accordance with Article 51(3) of Regulation (EU) 2023/1114",null,"boolean true","This crypto-asset white paper has not been approved by any competent authority in any Member State of the European Union. The issuer of the crypto-asset is solely responsible for the content of this crypto-asset white paper."]
[null,"I.03 Compliance statement in accordance with Article 51(5) of Regulation (EU) 2023/1114",null,"boolean true","This crypto-asset white paper complies with Title IV of Regulation (EU) 2023/1114 of the European Parliament and of the Council and to the best of the knowledge of the management body, the information presented in this crypto-asset white paper is fair, clear and not misleading and the crypto-asset white paper makes no omission likely to affect its import."]
[null,"I.04 Warning in accordance with Article 51(4), points (a) and (b), of Regulation (EU) 2023/1114",null,"boolean true","This e-money token is not covered by the investor compensation schemes under Directive 97/9/EC of the European Parliament and of the Council or the deposit guarantee schemes under Directive 2014/49/EU of the European Parliament and of the Council."]
[null,"SUMMARY"]
[null,"I.05 Warning in accordance with Article 51(6), second subparagraph of Regulation (EU) 2023/1114",null,"boolean true","Warning\n\nThis summary should be read as an introduction to the crypto-asset white paper.\n\nThe prospective holder should base any decision to purchase this e-money token on the content of the crypto-asset white paper as a whole and not on the summary alone.\n\nThe offer to the public of this crypto-asset does not constitute an offer or solicitation to purchase financial instruments and that any such offer or solicitation can be made only by means of a prospectus or other offer documents pursuant to the applicable national law.\n\nThis crypto-asset white paper does not constitute a prospectus as referred to in Regulation (EU) 2017/1129 of the European Parliament and of the Council or any other offer document pursuant to Union or national law."]
[null,"I.06 Characteristics of the crypto-asset",null,"textBlock",""]
[null,"I.07 Right of redemption",null,"textBlock",""]
[null,"I.08 Key information about the offer and/ or admission to trading",null,"textBlock",""]
[null,"Part A - Information about the issuer of the e-money token"]
[null,"A.1 Statutory name",null,"text",""]
[null,"A.2 Trading name",null,"text",""]
[null,"A.3 Legal form",null,"text",""]
[null,"A.4 Registered address"]
[null,"Registered addess",null,"text",""]
[null,"Country",null,"enumeration"]
[null,"Sub-division",null,"text",""]
[null,"A.5 Head office"]
[null,"Head office",null,"text",""]
[null,"Country",null,"enumeration"]
[null,"Sub-division",null,"text",""]
[null,"A.6 Registration date",null,"date",""]
[null,"A.7 Legal entity identifier",null,"LEI"]
[null,"A.8 Another identifier required pursuant to applicable law",null,"text",""]
[null,"A.9 Contact telephone number",null,"text",""]
[null,"A.10 E-mail address",null,"text",""]
[null,"A.11 Response time (days)",null,"integer",""]
[null,"A.12 Parent company",null,"text",""]
[null,"A.13 Members of the management body"]
[null,"Member #1",null,"id",1]
[null,"Identity",null,"text",""]
[null,"Business address",null,"text",""]
[null,"Function",null,"text",""]
[null,"Member #2",null,"id",2]
[null,"Identity",null,"text",""]
[null,"Business address",null,"text",""]
[null,"Function",null,"text",""]
[null,"A.14 Business activity",null,"textBlock",""]
[null,"A.15 Parent company business activity",null,"textBlock",""]
[null,"A.16 Conflicts of interest",null,"text",""]
[null,"A.17 Issuance of other crypto-assets",null,"boolean",""]
[null,"A.18 Activities related to other crypto-assets",null,"boolean",""]
[null,"E-money token issuer and DLT business association"]
[null,"A.19 Connection between the issuer and the entity running the DLT",null,"boolean",""]
[null,"A.20 Description of the connection between the issuer and the entity running the DLT",null,"textBlock",""]
[null,"A.21 Newly established",null,"boolean",""]
[null,"A.22 Financial condition for the past three years",null,"textBlock",""]
[null,"A.23 Financial condition since registration",null,"textBlock",""]
[null,"A.24 Exemption from authorisation",null,"boolean",""]
[null,"A.25 E-money token authorisation",null,"text",""]
[null,"A.26 Authorisation authority",null,"enumeration"]
[null,"Information on whether persons other than issuer are involved"]
[null,"A.27 Persons other than the issuer offering to the public or seeking admission to trading of the e-money token in accordance with Article 51(1), second subparagraph, of Regulation (EU) 2023/1114",null,"LEI"]
[null,"A.28 Persons other than the issuer offering to the public or seeking admission to trading of the e-money token in accordance with Article 51(1), second subparagraph, of Regulation (EU) 2023/1114",null,"text",""]
[null,"A.29 Reason for offering to the public or seeking admission to trading of the e-money token",null,"textBlock",""]
[null,"Part B - Information about the e-money token"]
[null,"B.1 Name",null,"text",""]
[null,"B.2 Abbreviation",null,"text",""]
[null,"B.3 Details of all natural or legal persons involved in design and development"]
[null,"Person #1",null,"id",1]
[null,"Type of person",null,"enumeration"]
[null,"Name of person ",null,"text",""]
[null,"Business address of person",null,"text",""]
[null,"Domicile of company",null,"enumeration"]
[null,"Person #2",null,"id",2]
[null,"Type of person",null,"enumeration"]
[null,"Name of person ",null,"text",""]
[null,"Business address of person",null,"text",""]
[null,"Domicile of company",null,"enumeration"]
[null,"A description of the characteristics of the e-money token, including the data necessary for classification of the crypto-asset white paper in the register referred to in Article 109, as specified in accordance with paragraph 8 of that Article"]
[null,"B.4 Type of white paper",null,"enumeration"]
[null,"B.5 Type of submission",null,"enumeration"]
[null,"B.6 Crypto-asset characteristics",null,"textBlock",""]
[null,"B.7 Website of the issuer",null,"text",""]
[null,"B.8 Starting date of offer to the public or admission to trading",null,"date",""]
[null,"B.9 Publication date",null,"date",""]
[null,"B.10 Any other services provided by the issuer",null,"textBlock",""]
[null,"B.11 Language or languages of white paper",null,"text",""]
[null,"B.12 Digital token identifier code used to uniquely identify the crypto-asset or each of the several crypto assets to which the white paper relates, where available",null,"text",""]
[null,"B.13 Functionally fungible group digital token identifier, where available",null,"text",""]
[null,"B.14 Personal data flag",null,"boolean",""]
[null,"B.15 LEI eligibility",null,"boolean",""]
[null,"B.16 Home member state",null,"enumeration"]
[null,"B.17 Host member states #1",null,"enumerationSet","Austria"]
[null,"B.17 Host member states #2",null,"enumerationSet","Belgium"]
[null,"B.17 Host member states #3",null,"enumerationSet","Bulgaria"]
[null,"B.17 Host member states #4",null,"enumerationSet","Croatia"]
[null,"B.17 Host member states #5",null,"enumerationSet","Cyprus"]
[null,"B.17 Host member states #6",null,"enumerationSet","Czechia"]
[null,"B.17 Host member states #7",null,"enumerationSet","Denmark"]
[null,"B.17 Host member states #8",null,"enumerationSet","Estonia"]
[null,"B.17 Host member states #9",null,"enumerationSet","Finland"]
[null,"B.17 Host member states #10",null,"enumerationSet","France"]
[null,"B.17 Host member states #11",null,"enumerationSet","Germany"]
[null,"B.17 Host member states #12",null,"enumerationSet","Greece"]
[null,"B.17 Host member states #13",null,"enumerationSet","Hungary"]
[null,"B.17 Host member states #14",null,"enumerationSet","Iceland"]
[null,"B.17 Host member states #15",null,"enumerationSet","Ireland"]
[null,"B.17 Host member states #16",null,"enumerationSet","Italy"]
[null,"B.17 Host member states #17",null,"enumerationSet","Latvia"]
[null,"B.17 Host member states #18",null,"enumerationSet","Liechtenstein"]
[null,"B.17 Host member states #19",null,"enumerationSet","Lithuania"]
[null,"B.17 Host member states #20",null,"enumerationSet","Luxembourg"]
[null,"B.17 Host member states #21",null,"enumerationSet","Malta"]
[null,"B.17 Host member states #22",null,"enumerationSet","Netherlands"]
[null,"B.17 Host member states #23",null,"enumerationSet","Norway"]
[null,"B.17 Host member states #24",null,"enumerationSet","Poland"]
[null,"B.17 Host member states #25",null,"enumerationSet","Portugal"]
[null,"B.17 Host member states #26",null,"enumerationSet","Romania"]
[null,"B.17 Host member states #27",null,"enumerationSet","Slovakia"]
[null,"B.17 Host member states #28",null,"enumerationSet","Slovenia"]
[null,"B.17 Host member states #29",null,"enumerationSet","Sweden"]
[null,"Part C - Information about the offer to the public of the e-money token or its admission to trading"]
[null,"C.1 Public offering or trading",null,"enumeration"]
[null,"C.2 Number of units",null,"integer",""]
[null,"Trading platforms characteristics"]
[null,"C.3 Trading platforms name",null,"text",""]
[null,"C.4 Trading platforms market identifier code (MIC)",null,"text",""]
[null,"C.5 Applicable law",null,"textBlock",""]
[null,"C.6 Competent court",null,"textBlock",""]
[null,"Part D - Information on the rights and obligations attached to e-money tokens"]
[null,"D.1 Holder’s rights and obligations",null,"text",""]
[null,"D.2 Conditions of modifications of rights and obligations",null,"text",""]
[null,"D.3 Description of the rights of the holders",null,"textBlock",""]
[null,"D.4 Rights in implementation of recovery plan",null,"textBlock",""]
[null,"D.5 Rights in implementation of redemption plan",null,"textBlock",""]
[null,"D.6 Complaint submission contact",null,"text",""]
[null,"D.7 Complaints handling procedures",null,"textBlock",""]
[null,"D.8 Dispute resolution mechanism",null,"textBlock",""]
[null,"E-money token schemes details"]
[null,"D.9 Token value protection schemes",null,"boolean",""]
[null,"D.10 Token value protection schemes description",null,"textBlock",""]
[null,"D.11 Compensation schemes",null,"boolean",""]
[null,"D.12 Compensation schemes description",null,"textBlock",""]
[null,"D.13 Applicable law",null,"textBlock",""]
[null,"D.14 Competent court",null,"textBlock",""]
[null,"Part E - Information on the underlying technology"]
[null,"E.1 Distributed ledger technology",null,"text",""]
[null,"E.2 Protocols and technical standards",null,"textBlock",""]
[null,"E.3 Technology used",null,"textBlock",""]
[null,"E.4 Purchaser’s technical requirements",null,"textBlock",""]
[null,"E.5 Consensus mechanism",null,"text",""]
[null,"E.6 Incentive mechanisms and applicable fees",null,"text",""]
[null,"E.7 Use of distributed ledger technology",null,"boolean",""]
[null,"E.8 DLT functionality description",null,"textBlock",""]
[null,"E-money token's audit details"]
[null,"E.9 Audit",null,"boolean",""]
[null,"E.10 Audit outcome",null,"textBlock",""]
[null,"Part F - Information on the risks"]
[null,"F.1 Issuer-related risks",null,"textBlock",""]
[null,"F.2 Token-related risks",null,"textBlock",""]
[null,"F.3 Technology-related risks",null,"textBlock",""]
[null,"F.4 Mitigation measures",null,"textBlock",""]
[null,"Part G - Information on the sustainability indicators in relation to adverse impact on the climate and other environment-related adverse impacts"]
[null,"G.1 Adverse impacts on climate and other environment-related adverse impacts",null,"textBlock",""]
[null,"Mandatory information on principal adverse impacts on the climate and other environment-related adverse impacts of the consensus mechanism"]
[null,"General information about adverse impacts"]
[null,"S.1 Name",null,"text",""]
[null,"S.2 Relevant legal entity identifier",null,"text",""]
[null,"S.3 Name of the crypto-asset",null,"text",""]
[null,"S.4 Consensus mechanism",null,"text",""]
[null,"S.5 Incentive mechanisms and applicable fees",null,"text",""]
[null,"S.6 Beginning of period to which disclosed information relates",null,"date",""]
[null,"S.7 End of period to which disclosed information relates",null,"date",""]
[null,"Mandatory key indicator"]
[null,"S.8 Energy consumption",null,"energy (kWh) ",""]
[null,"Sources and methodologies"]
[null,"S.9 Energy consumption sources and methodologies",null,"textBlock",""]
[null,"Supplementary information on principal adverse impacts on climate and other environment-related adverse impacts of consensus mechanism"]
[null,"Supplementary key indicators"]
[null,"S.10 Renewable energy consumption",null,"percent",""]
[null,"S.11 Energy intensity",null,"energy (kWh)",""]
[null,"S.12 Scope 1 DLT GHG emissions - controlled",null,"GHG emissions (tCO2e)",""]
[null,"S.13 Scope 2 DLT GHG emissions - purchased",null,"GHG emissions (tCO2e)",""]
[null,"S.14 GHG intensity",null,"GHG emissions (tCO2e)",""]
[null,"Sources and methodologies"]
[null,"S.15 Key energy sources and methodologies",null,"textBlock",""]
[null,"S.16 Key GHG sources and methodologies",null,"textBlock",""]
[null,"Optional information on principal adverse impacts on the climate and on other environment-related adverse impacts of the consensus mechanism"]
[null,"Optional indicators"]
[null,"S. 17 Energy mix",null,"percent",""]
[null,"S.18 Energy use reduction"]
[null,"Energy use reduction target (absolute value)",null,"energy (kWh)",""]
[null,"Energy use reduction target (percentage)",null,"percent",""]
[null,"S.19 Carbon intensity (kgCO2e/kWh)",null,"decimal",""]
[null,"S.20 Scope 3 DLT GHG emissions - value chain",null,"GHG emissions (tCO2e)",""]
[null,"S.21 GHG emissions reduction targets or commitments",null,"textBlock",""]
[null,"S.22 Generation of waste electrical and electronic equipment (WEEE)",null,"mass (tonnes)",""]
[null,"S.23 Non-recycled WEEE ratio",null,"percent",""]
[null,"S.24 Generation of hazardous waste",null,"mass (tonnes)",""]
[null,"S.25 Generation of waste (all types)",null,"mass (tonnes)",""]
[null,"S.26 Non-recycled waste ratio (all types)",null,"percent",""]
[null,"S.27 Waste intensity (all types)",null,"mass (tonnes)",""]
[null,"S.28 Waste reduction targets or commitments (all types)",null,"textBlock",""]
[null,"S.29 Impact of use of equipment on natural resources",null,"textBlock",""]
[null,"S.30 Natural resources use reduction targets or commitments",null,"textBlock",""]
[null,"S.31 Water use",null,"volume (m3)",""]
[null,"S.32 Non recycled water ratio",null,"percent",""]
[null,"Sources and methodologies"]
[null,"S.33 Other energy sources and methodologies",null,"textBlock",""]
[null,"S.34 Other GHG sources and methodologies",null,"textBlock",""]
[null,"S.35 Waste sources and methodologies",null,"textBlock",""]
[null,"S.36 Natural resources sources and methodologies",null,"textBlock",""]

{"sheet":"TableOfContent_T4","index":7,"n_rows":17,"n_cols":6,"rows_kept":17,"cut":false,"hidden":true,"merged":[[1,3,1,4]]}
[null,null,null,null,null,"  .."]
[null,null,null,"White paper for E-Money Token"]
[]
[null,null,null,"Digital Token Identifier:  ","text format"]
[null,null,null,"Issuer of the e-money token:  ","999999A9AA99AAAAAA99 - text format"]
[null,null,null,"Type of submission:  ","-- Select value --"]
[]
[null,"Table of content"]
[null,"General information"]
[null,"SUMMARY"]
[null,"Part A - Information about the issuer of the e-money token"]
[null,"Part B - Information about the e-money token"]
[null,"Part C - Information about the offer to the public of the e-money token or its admission to trading"]
[null,"Part D - Information on the rights and obligations attached to e-money tokens"]
[null,"Part E - Information on the underlying technology"]
[null,"Part F - Information on the risks"]
[null,"Part G - Information on the sustainability indicators in relation to adverse impact on the climate and other environment-related adverse impacts"]

{"sheet":"Action&Log","index":8,"n_rows":7,"n_cols":4,"rows_kept":7,"cut":false,"hidden":false,"merged":[[5,0,9,0],[0,0,4,0]]}
["Action"]
[null,null,null,"To generate a White Paper in Inline XBRL file format (based on the MiCA White Paper taxonomy), follow these steps: "]
[null,null,null,"1.  Configure the White Paper template by clicking the \"1- Configure White Paper template\" button. The template will be automatically adjusted based on your input.\n2.  Complete the template in the Table sheet. \nIf necessary, feel free revisit and modify the template configuration thanks to the \"2- Adjust current configuration\" button.\n3.  Once the template is filled out, click the \"3- Generate MiCA White Paper\" button to produce the final document. "]
[]
[null,null,null,"Nota: Before beginning this process, it is recommended to review the template outlined in the Annex \"Templates for the crypto-asset White Papers\" of the Implementing Technical Standards (EU) 2024/2984"]
["Log"]
[null,"Category","Date","Description"]

{"sheet":"table2_E15","index":9,"n_rows":2,"n_cols":1,"rows_kept":2,"cut":false,"hidden":true,"merged":[]}
[]
["Purchasers participating in the offer to the public of crypto-asset will be able to be reimbursed if the minimum target subscription goal is not reached at the end of the offer to the public, if they exercise the right to withdrawal provided for in Article 13 of Regulation (EU) 2023/1114 of the European Parliament and of the Council or if the offer is cancelled"]

{"sheet":"currencies","index":10,"n_rows":177,"n_cols":1,"rows_kept":177,"cut":false,"hidden":true,"merged":[]}
["AED"]
["AFN"]
["ALL"]
["AMD"]
["ANG"]
["AOA"]
["ARS"]
["AUD"]
["AWG"]
["AZN"]
["BAM"]
["BBD"]
["BDT"]
["BGN"]
["BHD"]
["BIF"]
["BMD"]
["BND"]
["BOB"]
["BOV"]
["BRL"]
["BSD"]
["BTN"]
["BWP"]
["BYN"]
["BZD"]
["CAD"]
["CDF"]
["CHE"]
["CHF"]
["CHW"]
["CLF"]
["CLP"]
["CNY"]
["COP"]
["COU"]
["CRC"]
["CUP"]
["CVE"]
["CZK"]
["DJF"]
["DKK"]
["DOP"]
["DZD"]
["EGP"]
["ERN"]
["ETB"]
["EUR"]
["FJD"]
["FKP"]
["GBP"]
["GEL"]
["GHS"]
["GIP"]
["GMD"]
["GNF"]
["GTQ"]
["GYD"]
["HKD"]
["HNL"]
["HTG"]
["HUF"]
["IDR"]
["ILS"]
["INR"]
["IQD"]
["IRR"]
["ISK"]
["JMD"]
["JOD"]
["JPY"]
["KES"]
["KGS"]
["KHR"]
["KMF"]
["KPW"]
["KRW"]
["KWD"]
["KYD"]
["KZT"]
["LAK"]
["LBP"]
["LKR"]
["LRD"]
["LSL"]
["LYD"]
["MAD"]
["MDL"]
["MGA"]
["MKD"]
["MMK"]
["MNT"]
["MOP"]
["MRU"]
["MUR"]
["MVR"]
["MWK"]
["MXN"]
["MXV"]
["MYR"]
["MZN"]
["NAD"]
["NGN"]
["NIO"]
["NOK"]
["NPR"]
["NZD"]
["OMR"]
["PAB"]
["PEN"]
["PGK"]
["PHP"]
["PKR"]
["PLN"]
["PYG"]
["QAR"]
["RON"]
["RSD"]
["RUB"]
["RWF"]
["SAR"]
["SBD"]
["SCR"]
["SDG"]
["SEK"]
["SGD"]
["SHP"]
["SLE"]
["SOS"]
["SRD"]
["SSP"]
["STN"]
["SVC"]
["SYP"]
["SZL"]
["THB"]
["TJS"]
["TMT"]
["TND"]
["TOP"]
["TRY"]
["TTD"]
["TWD"]
["TZS"]
["UAH"]
["UGX"]
["USD"]
["USN"]
["UYI"]
["UYU"]
["UYW"]
["UZS"]
["VED"]
["VND"]
["VUV"]
["WST"]
["XAF"]
["XAG"]
["XAU"]
["XBA"]
["XBB"]
["XBC"]
["XBD"]
["XCD"]
["XDR"]
["XOF"]
["XPD"]
["XPF"]
["XPT"]
["XSU"]
["XTS"]
["XUA"]
["XXX"]
["YER"]
["ZAR"]
["ZMW"]
["ZWG"]

{"sheet":"data_T2","index":11,"n_rows":308,"n_cols":32,"rows_kept":308,"cut":false,"hidden":true,"merged":[[27,30,27,31]]}
[]
[]
[]
[]
[]
["Skip","Qname","Fact","PeriodInit","PeriodEnd","UnitRef","Decimals","Scale","Dimension","DimensionMember","Dimension","DimensionMember","Dimension","DimensionMember","Dimension","DimensionMember","Dimension","DimensionMember","Dimension","DimensionMember","Dimension","DimensionMember","DimensionMember"]
["/*"]
["/**Entity",null,"ASDQWEASDQWEASDZXC12"]
["/**Schema",null,"http://standards.iso.org/iso/17442"]
["/* "]
["/**Xmlns",null,"xmlns=\"http://www.w3.org/1999/xhtml\""]
["/**Xmlns",null,"xmlns:xbrli=\"http://www.xbrl.org/2003/instance\""]
["/**Xmlns",null,"xmlns:iso4217=\"http://www.xbrl.org/2003/iso4217\""]
["/**Xmlns",null,"xmlns:xbrldi=\"http://xbrl.org/2006/xbrldi\""]
["/**Xmlns",null,"xmlns:link=\"http://www.xbrl.org/2003/linkbase\""]
["/**Xmlns",null,"xmlns:xlink=\"http://www.w3.org/1999/xlink\""]
["/**Xmlns",null,"xmlns:ix=\"http://www.xbrl.org/2013/inlineXBRL\""]
["/**Xmlns",null,"xmlns:mica=\"https://www.esma.europa.eu/taxonomy/2025-03-31/mica/\""]
["/**Xmlns",null,"xmlns:ixt4=\"http://www.xbrl.org/inlineXBRL/transformation/2020-02-12\""]
["/**Xmlns",null,"xmlns:utr=\"http://www.xbrl.org/2009/utr\""]
["/**Xmlns",null,"xml:lang=\"en\""]
["/**Href",null,"https://www.esma.europa.eu/taxonomy/mica/2025-03-31/mica_entry_table_2.xsd"]
["/**Options",null,"iXBRL"]
["/**ClearArea",null,"Index!$E$1:$G$12"]
[{"$f":"IF(C25=\"\",\"/*\",\"\")","v":"/*"}]
[{"$f":"IF(C26=\"\",\"/*\",\"\")","v":"/*"}]
[{"$f":"IF(C27=\"\",\"/*\",\"\")","v":"/*"}]
["/*","QNAME","FACT","PeriodInit","PeriodEnd","UnitRef","Decimals","Scale","Dimension 1","Dimension member 1","Dimension 2","Dimension member 2","Dimension 3","Dimension member 3",null,null,null,null,null,null,null,null,null,null,null,null,null,null,null,null,"DATA CHECKS \n(Taxonomy)"]
["/*","Table 2",null,null,null,null,null,null,null,null,null,null,null,null,null,null,null,null,null,null,null,null,null,null,null,null,"Line in Table sheet","No FIELD","CONTENT TO BE REPORTED","FIELD FORMAT\n(Taxo)","Severity","Formula"]
[{"$f":"IF(Table2!E5=\"\",\"/*\",\"\")","v":"/*"},"mica:StandardTemplatesForWhitePapersForCryptoassetsOtherThanAssetreferencedTokensOrEmoneyTokensAbstract",{"$f":"Table2!E5","v":0},"2025-01-01","2025-12-31",null,null,null,null,null,null,null,null,null,null,null,null,null,null,null,null,null,null,null,null,null,{"$f":"ROW(INDIRECT(MID(_xlfn.FORMULATEXT(C30),2,LEN(_xlfn.FORMULATEXT(C30)))))","v":5},"Template for white papers for crypto-assets other than asset-referenced tokens or e-money tokens [abstract]","","","",""]
[{"$f":"IF(Table2!E6=\"\",\"/*\",\"\")","v":"/*"},"mica:GeneralInformationAboutOtherTokensAbstract",{"$f":"Table2!E6","v":0},"2025-01-01","2025-12-31",null,null,null,null,null,null,null,null,null,null,null,null,null,null,null,null,null,null,null,null,null,{"$f":"ROW(INDIRECT(MID(_xlfn.FORMULATEXT(C31),2,LEN(_xlfn.FORMULATEXT(C31)))))","v":6},"General information","","","",""]
[{"$f":"IF(Table2!E7=\"\",\"/*\",\"\")","v":""},"mica:TableOfContentForOtherTokenWhitePaper",{"$f":"Table2!E7","v":"true"},"2025-01-01","2025-12-31","true",null,null,null,null,null,null,null,null,null,null,null,null,null,null,null,null,null,null,null,null,{"$f":"ROW(INDIRECT(MID(_xlfn.FORMULATEXT(C32),2,LEN(_xlfn.FORMULATEXT(C32)))))","v":7},"00 Table of content","Table of contents","boolean true","error","The value of \"00 Table of contents\" must be provided."]
[{"$f":"IF(Table2!E8=\"\",\"/*\",\"\")","v":""},"mica:DateOfNotificationForOtherTokenWhitePaper",{"$f":"Table2!E8","v":"YYYY-MM-DD"},null,"2025-12-31",null,null,null,null,null,null,null,null,null,null,null,null,null,null,null,null,null,null,null,null,null,{"$f":"ROW(INDIRECT(MID(_xlfn.FORMULATEXT(C33),2,LEN(_xlfn.FORMULATEXT(C33)))))","v":8},"01 Date of notification","Date of notification","date","error","The value of \"01 Date of notification\" must be provided."]
[{"$f":"IF(Table2!E9=\"\",\"/*\",\"\")","v":""},"mica:StatementEnsuringComplianceWithUnderlyingRegulation",{"$f":"Table2!E9","v":"-- Select value --"},"2025-01-01","2025-12-31","true",null,null,null,null,null,null,null,null,null,null,null,null,null,null,null,null,null,null,null,null,{"$f":"ROW(INDIRECT(MID(_xlfn.FORMULATEXT(C34),2,LEN(_xlfn.FORMULATEXT(C34)))))","v":9},"02 Statement in accordance with Article 6(3) of Regulation (EU) 2023/1114","Regarding offerors:\r\n‘This crypto-asset white paper has not been approved by any competent authority in any Member State of the European Union. The offeror of the crypto-asset is solely responsible for the content of this crypto-asset white paper.’\r\nRegarding the persons seeking admission to trading:\r\n‘This crypto-asset white paper has not been approved by any competent authority in any Member State of the European Union. The person seeking admission to trading of the crypto-asset is solely responsible for the content of this crypto-asset white paper.’\r\nRegarding the operators of trading platforms:\r\n‘This crypto-asset white paper has not been approved by any competent authority in any Member State of the European Union. The operator of the trading platform of the crypto-asset is solely responsible for the content of this crypto-asset white paper.’","boolean true","error","The value of \"02 Statement in accordance with Article 6(3) of Regulation (EU) 2023/1114\" must be provided."]
[{"$f":"IF(Table2!E10=\"\",\"/*\",\"\")","v":""},"mica:ComplianceStatementAboutManagementConfirmation",{"$f":"Table2!E10","v":"This crypto-asset white paper complies with Title II of Regulation (EU) 2023/1114 of the European Parliament and of the Council and, to the best of the knowledge of the management body, the information presented in the crypto-asset white paper is fair, clear and not misleading and the crypto-asset white paper makes no omission likely to affect its import."},"2025-01-01","2025-12-31","true",null,null,null,null,null,null,null,null,null,null,null,null,null,null,null,null,null,null,null,null,{"$f":"ROW(INDIRECT(MID(_xlfn.FORMULATEXT(C35),2,LEN(_xlfn.FORMULATEXT(C35)))))","v":10},"03 Compliance statement in accordance with Article 6(6) of Regulation (EU) 2023/1114","‘This crypto-asset white paper complies with Title II of Regulation (EU) 2023/1114 of the European Parliament and of the Council and, to the best of the knowledge of the management body, the information presented in the crypto-asset white paper is fair, clear and not misleading and the crypto-asset white paper makes no omission likely to affect its import.’","boolean true","error","The value of \"03 Compliance statement in accordance with Article 6(6) of Regulation (EU) 2023/1114\" must be provided."]
[{"$f":"IF(Table2!E11=\"\",\"/*\",\"\")","v":""},"mica:StatementAboutPotentialRisks",{"$f":"Table2!E11","v":"The crypto-asset referred to in this crypto-asset white paper may lose its value in part or in full, may not always be transferable and may not be liquid"},"2025-01-01","2025-12-31","true",null,null,null,null,null,null,null,null,null,null,null,null,null,null,null,null,null,null,null,null,{"$f":"ROW(INDIRECT(MID(_xlfn.FORMULATEXT(C36),2,LEN(_xlfn.FORMULATEXT(C36)))))","v":11},"04 Statement in accordance with Article 6(5), points (a), (b), (c), of Regulation (EU) 2023/1114","‘The crypto-asset referred to in this crypto-asset white paper may lose its value in part or in full, may not always be transferable and may not be liquid.’","boolean true","error","The value of \"04 Statement in accordance with Article 6(5), points (a), (b), (c), of Regulation (EU) 2023/1114\" must be provided."]
[{"$f":"IF(Table2!E12=\"\",\"/*\",\"\")","v":""},"mica:StatementAboutExchangeabilityForOtherToken",{"$f":"Table2!E12","v":"-- Select value --"},"2025-01-01","2025-12-31","true",null,null,null,null,null,null,null,null,null,null,null,null,null,null,null,null,null,null,null,null,{"$f":"ROW(INDIRECT(MID(_xlfn.FORMULATEXT(C37),2,LEN(_xlfn.FORMULATEXT(C37)))))","v":12},"05 Statement in accordance with Article 6(5), point (d), of Regulation (EU) 2023/1114","‘The utility token referred to in this white paper may not be exchangeable against the good or service promised in this white paper, especially in the case of a failure or discontinuation of the crypto-asset project.’","boolean true","error","The value of \"05 Statemenet in accordance with Article 6(5), point (d), of Regulation (EU) 2023/1114\" must be provided."]
[{"$f":"IF(Table2!E13=\"\",\"/*\",\"\")","v":""},"mica:StatementAboutCompensationAndGuaranteeForOtherToken",{"$f":"Table2!E13","v":"The crypto-asset referred to in this white paper is not covered by the investor compensation schemes under Directive 97/9/EC of the European Parliament and of the Council or the deposit guarantee schemes under Directive 2014/49/EU of the European Parliament and of the Council."},"2025-01-01","2025-12-31","true",null,null,null,null,null,null,null,null,null,null,null,null,null,null,null,null,null,null,null,null,{"$f":"ROW(INDIRECT(MID(_xlfn.FORMULATEXT(C38),2,LEN(_xlfn.FORMULATEXT(C38)))))","v":13},"06 Statement in accordance with Article 6(5), points (e) and (f), of Regulation (EU) 2023/1114","The crypto-asset referred to in this white paper is not covered by the investor compensation schemes under Directive 97/9/EC of the European Parliament and of the Council or the deposit guarantee schemes under Directive 2014/49/EU of the European Parliament and of the Council.","boolean true","error","The value of \"06 Statement in accordance with Article 6(5), points (e) and (f), of Regulation (EU) 2023/1114\" must be provided."]
[{"$f":"IF(Table2!E14=\"\",\"/*\",\"\")","v":"/*"},"mica:CryptoassetOfferSummaryAbstract",{"$f":"Table2!E14","v":0},"2025-01-01","2025-12-31",null,null,null,null,null,null,null,null,null,null,null,null,null,null,null,null,null,null,null,null,null,{"$f":"ROW(INDIRECT(MID(_xlfn.FORMULATEXT(C39),2,LEN(_xlfn.FORMULATEXT(C39)))))","v":14},"SUMMARY","","","",""]
[{"$f":"IF(Table2!E15=\"\",\"/*\",\"\")","v":""},"mica:ClarificationRegardingOtherTokenOfferTerms",{"$f":"Table2!E15","v":"Warning\n\nThis summary should be read as an introduction to the crypto-asset white paper.\n\nThe prospective holder should base any decision to purchase this crypto –asset on the content of the crypto-asset white paper as a whole and not on the summary alone.\n\nThe offer to the public of this crypto-asset does not constitute an offer or solicitation to purchase financial instruments and any such offer or solicitation can be made only by means of a prospectus or other offer documents pursuant to the applicable national law.\n\nThis crypto-asset white paper does not constitute a prospectus as referred to in Regulation (EU) 2017/1129 of the European Parliament and of the Council or any other offer document pursuant to Union or national law."},"2025-01-01","2025-12-31","true",null,null,null,null,null,null,null,null,null,null,null,null,null,null,null,null,null,null,null,null,{"$f":"ROW(INDIRECT(MID(_xlfn.FORMULATEXT(C40),2,LEN(_xlfn.FORMULATEXT(C40)))))","v":15},"07 Warning in accordance with Article 6(7), second subparagraph, of Regulation (EU) 2023/1114","‘Warning\r\nThis summary should be read as an introduction to the crypto-asset white paper.\r\nThe prospective holder should base any decision to purchase this crypto –asset on the content of the crypto-asset white paper as a whole and not on the summary alone.\r\nThe offer to the public of this crypto-asset does not constitute an offer or solicitation to purchase financial instruments and any such offer or solicitation can be made only by means of a prospectus or other offer documents pursuant to the applicable national law.\r\nThis crypto-asset white paper does not constitute a prospectus as referred to in Regulation (EU) 2017/1129 of the European Parliament and of the Council or any other offer document pursuant to Union or national law.’","boolean true","error","The value of \"07 Warning in accordance with Article 6(7), second subparagraph, of Regulation (EU) 2023/1114\" must be provided."]
[{"$f":"IF(Table2!E16=\"\",\"/*\",\"\")","v":""},"mica:DescriptionOfCharacteristicsOfOtherTokenExplanatory",{"$f":"Table2!E16","v":" Ex: Here is a sample text... (textBlock format)"},"2025-01-01","2025-12-31",null,null,null,null,null,null,null,null,null,null,null,null,null,null,null,null,null,null,null,null,null,{"$f":"ROW(INDIRECT(MID(_xlfn.FORMULATEXT(C41),2,LEN(_xlfn.FORMULATEXT(C41)))))","v":16},"08 Characteristics of the crypto-asset","A brief, clear and non-technical description of the characteristics of the crypto asset including information about rights and obligations of the purchaser, procedure and conditions for the exercise of those rights and conditions, if any, under which these rights and obligations may be modified.","textBlock","error","The value of \"08 Characteristics of the crypto-asset\" must be provided."]
[{"$f":"IF(Table2!E17=\"\",\"/*\",\"\")","v":""},"mica:DescriptionOfFurtherInformationAboutUtilityTokensExplanatory",{"$f":"Table2!E17","v":" Ex: Here is a sample text... (textBlock format)"},"2025-01-01","2025-12-31",null,null,null,null,null,null,null,null,null,null,null,null,null,null,null,null,null,null,null,null,null,{"$f":"ROW(INDIRECT(MID(_xlfn.FORMULATEXT(C42),2,LEN(_xlfn.FORMULATEXT(C42)))))","v":17},"09 Further information about utility tokens","Only applicable if field 05 is true. Information about the quality and quantity of goods or services to which the utility tokens give access and restrictions on the transferability.","textBlock","error","The value of \"09 Further information about utility tokens\" must be provided."]
[{"$f":"IF(Table2!E18=\"\",\"/*\",\"\")","v":""},"mica:OfferDescriptionExplanatory",{"$f":"Table2!E18","v":" Ex: Here is a sample text... (textBlock format)"},"2025-01-01","2025-12-31",null,null,null,null,null,null,null,null,null,null,null,null,null,null,null,null,null,null,null,null,null,{"$f":"ROW(INDIRECT(MID(_xlfn.FORMULATEXT(C43),2,LEN(_xlfn.FORMULATEXT(C43)))))","v":18},"10 Key information about the offer to the public or admission to trading","A brief and non-technical description of the offer to the public including information about the amount of the offer, including, where applicable, any minimum and maximum target subscription goals, issue price of the crypto-asset and subscription fees, the total number of crypto-assets to be offered; prospective holders; description, where applicable, of the various phases of the offer to the public of crypto-assets, including information on discounted purchase price for early purchasers of crypto-assets and subscription period.\r\nWhen applicable, the name of the crypto-asset service provider in charge of the placing of crypto-assets and the form of such placement (with or without a firm commitment basis);\r\nWhen applicable, a brief and non-technical description of the admission to trading, including the name of the trading platform for which the admission is sought.","textBlock","error","The value of \"10 Key information about the offer to the public or admission to trading\" must be provided."]
[{"$f":"IF(Table2!E237=\"\",\"/*\",\"\")","v":"/*"},"mica:InformationOnRisksForOtherTokenAbstract",{"$f":"Table2!E237","v":0},"2025-01-01","2025-12-31",null,null,null,null,null,null,null,null,null,null,null,null,null,null,null,null,null,null,null,null,null,{"$f":"ROW(INDIRECT(MID(_xlfn.FORMULATEXT(C44),2,LEN(_xlfn.FORMULATEXT(C44)))))","v":237},"Part I - Information on risks","","","",""]
[{"$f":"IF(Table2!E20=\"\",\"/*\",\"\")","v":""},"mica:NameOfOtherTokenOfferor",{"$f":"Table2!E20","v":" Ex: Here is a sample text... (text format)"},"2025-01-01","2025-12-31",null,null,null,null,null,null,null,null,null,null,null,null,null,null,null,null,null,null,null,null,null,{"$f":"ROW(INDIRECT(MID(_xlfn.FORMULATEXT(C45),2,LEN(_xlfn.FORMULATEXT(C45)))))","v":20},"A.1 Name","Name","text","error\r\nerror","It's mandatory to report either \"A.1 Name\" or \"C.1 Name\", but not both.\r\nThe value of \"A.1 Name\" must be provided."]
[{"$f":"IF(Table2!E238=\"\",\"/*\",\"\")","v":""},"mica:DescriptionOfOfferrelatedRisksForOtherTokenExplanatory",{"$f":"Table2!E238","v":" Ex: Here is a sample text... (textBlock format)"},"2025-01-01","2025-12-31",null,null,null,null,null,null,null,null,null,null,null,null,null,null,null,null,null,null,null,null,null,{"$f":"ROW(INDIRECT(MID(_xlfn.FORMULATEXT(C46),2,LEN(_xlfn.FORMULATEXT(C46)))))","v":238},"I.1 Offer-related risks","A description of the risks associated with the offer to the public of crypto-assets or their admission to trading","textBlock","error","The value of \"I.1 Offer-related risks\" must be provided."]
[{"$f":"IF(Table2!E239=\"\",\"/*\",\"\")","v":""},"mica:DescriptionOfIssuerrelatedRisksForOtherTokenExplanatory",{"$f":"Table2!E239","v":" Ex: Here is a sample text... (textBlock format)"},"2025-01-01","2025-12-31",null,null,null,null,null,null,null,null,null,null,null,null,null,null,null,null,null,null,null,null,null,{"$f":"ROW(INDIRECT(MID(_xlfn.FORMULATEXT(C47),2,LEN(_xlfn.FORMULATEXT(C47)))))","v":239},"I.2 Issuer-related risks","A description of the risks associated with the issuer, if different from the offeror or person seeking admission to trading","textBlock","error","The value of \"I.2 Issuer-related risks\" must be provided."]
[{"$f":"IF(Table2!E240=\"\",\"/*\",\"\")","v":""},"mica:OtherTokensrelatedRisksExplanatory",{"$f":"Table2!E240","v":" Ex: Here is a sample text... (textBlock format)"},"2025-01-01","2025-12-31",null,null,null,null,null,null,null,null,null,null,null,null,null,null,null,null,null,null,null,null,null,{"$f":"ROW(INDIRECT(MID(_xlfn.FORMULATEXT(C48),2,LEN(_xlfn.FORMULATEXT(C48)))))","v":240},"I.3 Other tokens-related risks","A description of the risks associated with the crypto-assets","textBlock","error","The value of \"I.3 Crypto-assets-related risks\" must be provided."]
[{"$f":"IF(Table2!E241=\"\",\"/*\",\"\")","v":""},"mica:ProjectImplementationrelatedRisksExplanatory",{"$f":"Table2!E241","v":" Ex: Here is a sample text... (textBlock format)"},"2025-01-01","2025-12-31",null,null,null,null,null,null,null,null,null,null,null,null,null,null,null,null,null,null,null,null,null,{"$f":"ROW(INDIRECT(MID(_xlfn.FORMULATEXT(C49),2,LEN(_xlfn.FORMULATEXT(C49)))))","v":241},"I.4 Project implementation-related risks","A description of the risks associated with project implementation","textBlock","error","The value of \"I4 Project implementation-related risks\" must be provided."]
[{"$f":"IF(Table2!E242=\"\",\"/*\",\"\")","v":""},"mica:DescriptionOfTechnologyrelatedRisksForOtherTokenExplanatory",{"$f":"Table2!E242","v":" Ex: Here is a sample text... (textBlock format)"},"2025-01-01","2025-12-31",null,null,null,null,null,null,null,null,null,null,null,null,null,null,null,null,null,null,null,null,null,{"$f":"ROW(INDIRECT(MID(_xlfn.FORMULATEXT(C50),2,LEN(_xlfn.FORMULATEXT(C50)))))","v":242},"I.5 Technology-related risks","A description of the risks associated with the technology used","textBlock","error","The value of \"I.5 Technology-related risks\" must be provided."]
[{"$f":"IF(Table2!E243=\"\",\"/*\",\"\")","v":""},"mica:MitigationMeasuresForTechnologyRiskForOtherTokenExplanatory",{"$f":"Table2!E243","v":" Ex: Here is a sample text... (textBlock format)"},"2025-01-01","2025-12-31",null,null,null,null,null,null,null,null,null,null,null,null,null,null,null,null,null,null,null,null,null,{"$f":"ROW(INDIRECT(MID(_xlfn.FORMULATEXT(C51),2,LEN(_xlfn.FORMULATEXT(C51)))))","v":243},"I.6 Mitigation measures","Mitigation measures of the risks associated with the technology, if any","textBlock","",""]
[{"$f":"IF(Table2!E19=\"\",\"/*\",\"\")","v":"/*"},"mica:InformationAboutOfferorOrPersonSeekingAdmissionToTradingAbstract",{"$f":"Table2!E19","v":0},"2025-01-01","2025-12-31",null,null,null,null,null,null,null,null,null,null,null,null,null,null,null,null,null,null,null,null,null,{"$f":"ROW(INDIRECT(MID(_xlfn.FORMULATEXT(C52),2,LEN(_xlfn.FORMULATEXT(C52)))))","v":19},"Part A - Information about offeror or person seeking admission to trading","","","error","It's mandatory to report either \"Part A\" or \"Part C\", but not both."]
[{"$f":"IF(Table2!E21=\"\",\"/*\",\"\")","v":""},"mica:OfferorsLegalForm",{"$f":"Table2!E21","v":" Ex: Here is a sample text... (text format)"},"2025-01-01","2025-12-31",null,null,null,null,null,null,null,null,null,null,null,null,null,null,null,null,null,null,null,null,null,{"$f":"ROW(INDIRECT(MID(_xlfn.FORMULATEXT(C53),2,LEN(_xlfn.FORMULATEXT(C53)))))","v":21},"A.2 Legal form","Only applicable if a (LEI) is not provided in field A.6\r\nLegal form","text","error","If \"A.6 Legal entity identifier\" is not provided with a fact value, then \"A.2 Legal form\" must be reported."]
[{"$f":"IF(Table2!E22=\"\",\"/*\",\"\")","v":"/*"},"mica:OfferorsRegisteredAddressDetailsAbstract",{"$f":"Table2!E22","v":0},"2025-01-01","2025-12-31",null,null,null,null,null,null,null,null,null,null,null,null,null,null,null,null,null,null,null,null,null,{"$f":"ROW(INDIRECT(MID(_xlfn.FORMULATEXT(C54),2,LEN(_xlfn.FORMULATEXT(C54)))))","v":22},"A.3 Registered address","Only applicable if a legal entity identifier is not provided in field A.6\r\nAddress and country of registration","","error\r\nerror\r\nerror","If \"A.6 Legal entity identifier\" is not provided with a fact value, then \"A.3 Registered address\" must be reported.\r\nIf \"A.6 Legal entity identifier\" is not provided with a fact value, then \"A.3 Registered address sub-division\" must be reported.\r\nIf \"A.6 Legal entity identifier\" is not provided with a fact value, then \"A.3 Registered address country\" must be reported."]
[{"$f":"IF(Table2!E23=\"\",\"/*\",\"\")","v":""},"mica:OfferorsRegisteredAddress",{"$f":"Table2!E23","v":" Ex: Here is a sample text... (text format)"},"2025-01-01","2025-12-31",null,null,null,null,null,null,null,null,null,null,null,null,null,null,null,null,null,null,null,null,null,{"$f":"ROW(INDIRECT(MID(_xlfn.FORMULATEXT(C55),2,LEN(_xlfn.FORMULATEXT(C55)))))","v":23},"Registered addess","","text","",""]
[{"$f":"IF(Table2!E24=\"\",\"/*\",\"\")","v":""},"mica:OfferorsRegisteredCountry",{"$f":"Table2!E24","v":"-- Select value --"},"2025-01-01","2025-12-31",null,null,null,null,null,null,null,null,null,null,null,null,null,null,null,null,null,null,null,null,null,{"$f":"ROW(INDIRECT(MID(_xlfn.FORMULATEXT(C56),2,LEN(_xlfn.FORMULATEXT(C56)))))","v":24},"Country","","enumeration","",""]
[{"$f":"IF(Table2!E25=\"\",\"/*\",\"\")","v":""},"mica:OfferorsRegisteredCountrySubdivision",{"$f":"Table2!E25","v":" Ex: Here is a sample text... (text format)"},"2025-01-01","2025-12-31",null,null,null,null,null,null,null,null,null,null,null,null,null,null,null,null,null,null,null,null,null,{"$f":"ROW(INDIRECT(MID(_xlfn.FORMULATEXT(C57),2,LEN(_xlfn.FORMULATEXT(C57)))))","v":25},"Sub-division","","text","",""]
[{"$f":"IF(Table2!E26=\"\",\"/*\",\"\")","v":"/*"},"mica:OfferorsHeadOfficeDetailsAbstract",{"$f":"Table2!E26","v":0},"2025-01-01","2025-12-31",null,null,null,null,null,null,null,null,null,null,null,null,null,null,null,null,null,null,null,null,null,{"$f":"ROW(INDIRECT(MID(_xlfn.FORMULATEXT(C58),2,LEN(_xlfn.FORMULATEXT(C58)))))","v":26},"A.4 Head office","Only applicable if an LEI is not provided in field A.6\r\nAddress and country of the Head office, where different than registered address","","error\r\nerror\r\nerror","If \"A.6 Legal entity identifier\" is not provided with a fact value, then \"A.4 Head office\" must be reported.\r\nIf \"A.6 Legal entity identifier\" is not provided with a fact value, then \"A.4 Head office sub-division\" must be reported.\r\nIf \"A.6 Legal entity identifier\" is not provided with a fact value, then \"A.4 Head office country\" must be reported."]
[{"$f":"IF(Table2!E27=\"\",\"/*\",\"\")","v":""},"mica:OfferorsHeadOffice",{"$f":"Table2!E27","v":" Ex: Here is a sample text... (text format)"},"2025-01-01","2025-12-31",null,null,null,null,null,null,null,null,null,null,null,null,null,null,null,null,null,null,null,null,null,{"$f":"ROW(INDIRECT(MID(_xlfn.FORMULATEXT(C59),2,LEN(_xlfn.FORMULATEXT(C59)))))","v":27},"Head office","","text","",""]
[{"$f":"IF(Table2!E28=\"\",\"/*\",\"\")","v":""},"mica:OfferorsHeadOfficeCountry",{"$f":"Table2!E28","v":"-- Select value --"},"2025-01-01","2025-12-31",null,null,null,null,null,null,null,null,null,null,null,null,null,null,null,null,null,null,null,null,null,{"$f":"ROW(INDIRECT(MID(_xlfn.FORMULATEXT(C60),2,LEN(_xlfn.FORMULATEXT(C60)))))","v":28},"Country","","enumeration","",""]
[{"$f":"IF(Table2!E29=\"\",\"/*\",\"\")","v":""},"mica:OfferorsHeadOfficeCountrySubdivision",{"$f":"Table2!E29","v":" Ex: Here is a sample text... (text format)"},"2025-01-01","2025-12-31",null,null,null,null,null,null,null,null,null,null,null,null,null,null,null,null,null,null,null,null,null,{"$f":"ROW(INDIRECT(MID(_xlfn.FORMULATEXT(C61),2,LEN(_xlfn.FORMULATEXT(C61)))))","v":29},"Sub-division","","text","",""]
[{"$f":"IF(Table2!E30=\"\",\"/*\",\"\")","v":""},"mica:OfferorsRegistrationDate",{"$f":"Table2!E30","v":"YYYY-MM-DD"},"2025-01-01","2025-12-31",null,null,null,null,null,null,null,null,null,null,null,null,null,null,null,null,null,null,null,null,null,{"$f":"ROW(INDIRECT(MID(_xlfn.FORMULATEXT(C62),2,LEN(_xlfn.FORMULATEXT(C62)))))","v":30},"A.5 Registration date","Date of the registration","date","error","The value of \"A.5 Registration date\" must be provided."]
[{"$f":"IF(Table2!E31=\"\",\"/*\",\"\")","v":""},"mica:OfferorsLegalEntityIdentifier",{"$f":"Table2!E31","v":" Ex: 999999A9AA99AAAAAA99"},"2025-01-01","2025-12-31",null,null,null,null,null,null,null,null,null,null,null,null,null,null,null,null,null,null,null,null,null,{"$f":"ROW(INDIRECT(MID(_xlfn.FORMULATEXT(C63),2,LEN(_xlfn.FORMULATEXT(C63)))))","v":31},"A.6 Legal entity identifier","Legal entity identifier of the offeror or person seeking admission to trading, when available","LEI","error\r\nerror","If \"C.6 Legal entity identifier\" is provided with a fact value or \"C.7 Other identifier required pursuant to applicable national law\" is provided with a fact value, then \"A.6 Legal entity identifier\" must not be reported.\r\nIf \"A.7 Other identifier required pursuant to applicable national law\" is not provided with a fact value, then \"A.6 Legal entity identifier\" must be reported."]
[{"$f":"IF(Table2!E32=\"\",\"/*\",\"\")","v":""},"mica:OfferorsAnotherIdentifierRequiredPursuantToApplicableNationalLaw",{"$f":"Table2!E32","v":" Ex: Here is a sample text... (text format)"},"2025-01-01","2025-12-31",null,null,null,null,null,null,null,null,null,null,null,null,null,null,null,null,null,null,null,null,null,{"$f":"ROW(INDIRECT(MID(_xlfn.FORMULATEXT(C64),2,LEN(_xlfn.FORMULATEXT(C64)))))","v":32},"A.7 Another identifier required pursuant to applicable national law","Field to be filled in only if a legal entity identifier is not provided in field A.6.\r\nNational identifier based on the nationality of the offeror or the person seeking admission to trading, if required under the applicable national law.\r\nThis field only applies to entities for which a national identifier is required in accordance with applicable national law.","text","error\r\nerror","If \"C.6 Legal entity identifier\" is provided with a fact value or \"C.7 Other identifier required pursuant to applicable national law\" is provided with a fact value, then \"A.7 Other identifier required pursuant to applicable national law\" must not be reported.\r\nIf \"A.6 Legal entity identifier\" is not provided with a fact value, then \"A.7 Other identifier required pursuant to applicable national law\" must be reported."]
[{"$f":"IF(Table2!E33=\"\",\"/*\",\"\")","v":""},"mica:OfferorsContactTelephoneNumber",{"$f":"Table2!E33","v":" Ex: Here is a sample text... (text format)"},"2025-01-01","2025-12-31",null,null,null,null,null,null,null,null,null,null,null,null,null,null,null,null,null,null,null,null,null,{"$f":"ROW(INDIRECT(MID(_xlfn.FORMULATEXT(C65),2,LEN(_xlfn.FORMULATEXT(C65)))))","v":33},"A.8 Contact telephone number","Contact telephone number of the offeror or the person seeking admission to trading","text","warning","The value of \"A.8 Contact telephone number\" should be provided."]
[{"$f":"IF(Table2!E34=\"\",\"/*\",\"\")","v":""},"mica:OfferorsEmailAddress",{"$f":"Table2!E34","v":" Ex: Here is a sample text... (text format)"},"2025-01-01","2025-12-31",null,null,null,null,null,null,null,null,null,null,null,null,null,null,null,null,null,null,null,null,null,{"$f":"ROW(INDIRECT(MID(_xlfn.FORMULATEXT(C66),2,LEN(_xlfn.FORMULATEXT(C66)))))","v":34},"A.9 E-mail address","E-mail address of the offeror or the person seeking admission to trading","text","warning","The value of \"A.9 E-mail address\" should be provided."]
[{"$f":"IF(Table2!E35=\"\",\"/*\",\"\")","v":""},"mica:OfferorsResponseTimeDays",{"$f":"Table2!E35","v":" Ex: 27"},"2025-01-01","2025-12-31","xbrli:pure","0","0",null,null,null,null,null,null,null,null,null,null,null,null,null,null,null,null,null,null,{"$f":"ROW(INDIRECT(MID(_xlfn.FORMULATEXT(C67),2,LEN(_xlfn.FORMULATEXT(C67)))))","v":35},"A.10 Response time (days)","Period of days within which an investor will receive an answer via that telephone number or e-mail address","integer","error\r\nerror","The value of \"A.10 Response time (days)\" must be provided.\r\nThe fact value of \"A.10 Response time (days)\" must be an integer number bewteen 0 and 999."]
[{"$f":"IF(Table2!E36=\"\",\"/*\",\"\")","v":""},"mica:IdentificationOfOfferorsParentCompany",{"$f":"Table2!E36","v":" Ex: Here is a sample text... (text format)"},"2025-01-01","2025-12-31",null,null,null,null,null,null,null,null,null,null,null,null,null,null,null,null,null,null,null,null,null,{"$f":"ROW(INDIRECT(MID(_xlfn.FORMULATEXT(C68),2,LEN(_xlfn.FORMULATEXT(C68)))))","v":36},"A.11 Parent company","Field to be filled in only if a legal entity identifier is not provided in field A.6\r\nWhere applicable, the name of the parent company","text","error","If \"A.6 Legal entity identifier\" is not provided with a fact value, then \"A.11 Parent company\" must be reported."]
[{"$f":"IF(Table2!E39=\"\",\"/*\",\"\")","v":""},"mica:IdentityOfOfferorsManagementBodyMemberForOtherToken",{"$f":"Table2!E39","v":" Ex: Here is a sample text... (text format)"},"2025-01-01","2025-12-31",null,null,null,"mica:LineIdentifierForOfferorsManagementBodyMemberForOtherTokenTypedAxis",1,"/**Typed","mica:lineIdentifierForOfferorsManagementBodyMemberForOtherToken",null,null,null,null,null,null,null,null,null,null,null,null,null,null,{"$f":"ROW(INDIRECT(MID(_xlfn.FORMULATEXT(C69),2,LEN(_xlfn.FORMULATEXT(C69)))))","v":39},"Identity","","text","",""]
[{"$f":"IF(Table2!E40=\"\",\"/*\",\"\")","v":""},"mica:BusinessAddressOfOfferorsManagementBodyMemberForOtherToken",{"$f":"Table2!E40","v":" Ex: Here is a sample text... (text format)"},"2025-01-01","2025-12-31",null,null,null,"mica:LineIdentifierForOfferorsManagementBodyMemberForOtherTokenTypedAxis",1,"/**Typed","mica:lineIdentifierForOfferorsManagementBodyMemberForOtherToken",null,null,null,null,null,null,null,null,null,null,null,null,null,null,{"$f":"ROW(INDIRECT(MID(_xlfn.FORMULATEXT(C70),2,LEN(_xlfn.FORMULATEXT(C70)))))","v":40},"Business address","","text","",""]
[{"$f":"IF(Table2!E41=\"\",\"/*\",\"\")","v":""},"mica:FunctionOfOfferorsManagementBodyMemberForOtherToken",{"$f":"Table2!E41","v":" Ex: Here is a sample text... (text format)"},"2025-01-01","2025-12-31",null,null,null,"mica:LineIdentifierForOfferorsManagementBodyMemberForOtherTokenTypedAxis",1,"/**Typed","mica:lineIdentifierForOfferorsManagementBodyMemberForOtherToken",null,null,null,null,null,null,null,null,null,null,null,null,null,null,{"$f":"ROW(INDIRECT(MID(_xlfn.FORMULATEXT(C71),2,LEN(_xlfn.FORMULATEXT(C71)))))","v":41},"Function","","text","",""]
[{"$f":"IF(Table2!E42=\"\",\"/*\",\"\")","v":""},"mica:IdentityOfOfferorsManagementBodyMemberForOtherToken",{"$f":"Table2!$E$43","v":" Ex: Here is a sample text... (text format)"},"2025-01-01","2025-12-31",null,null,null,"mica:LineIdentifierForOfferorsManagementBodyMemberForOtherTokenTypedAxis",2,"/**Typed","mica:lineIdentifierForOfferorsManagementBodyMemberForOtherToken",null,null,null,null,null,null,null,null,null,null,null,null,null,null,{"$f":"ROW(INDIRECT(MID(_xlfn.FORMULATEXT(C72),2,LEN(_xlfn.FORMULATEXT(C72)))))","v":43},"Identity","","text","",""]
[{"$f":"IF(Table2!E43=\"\",\"/*\",\"\")","v":""},"mica:BusinessAddressOfOfferorsManagementBodyMemberForOtherToken",{"$f":"Table2!$E$44","v":" Ex: Here is a sample text... (text format)"},"2025-01-01","2025-12-31",null,null,null,"mica:LineIdentifierForOfferorsManagementBodyMemberForOtherTokenTypedAxis",2,"/**Typed","mica:lineIdentifierForOfferorsManagementBodyMemberForOtherToken",null,null,null,null,null,null,null,null,null,null,null,null,null,null,{"$f":"ROW(INDIRECT(MID(_xlfn.FORMULATEXT(C73),2,LEN(_xlfn.FORMULATEXT(C73)))))","v":44},"Business address","","text","",""]
[{"$f":"IF(Table2!E44=\"\",\"/*\",\"\")","v":""},"mica:FunctionOfOfferorsManagementBodyMemberForOtherToken",{"$f":"Table2!$E$45","v":" Ex: Here is a sample text... (text format)"},"2025-01-01","2025-12-31",null,null,null,"mica:LineIdentifierForOfferorsManagementBodyMemberForOtherTokenTypedAxis",2,"/**Typed","mica:lineIdentifierForOfferorsManagementBodyMemberForOtherToken",null,null,null,null,null,null,null,null,null,null,null,null,null,null,{"$f":"ROW(INDIRECT(MID(_xlfn.FORMULATEXT(C74),2,LEN(_xlfn.FORMULATEXT(C74)))))","v":45},"Function","","text","",""]
[{"$f":"IF(Table2!E46=\"\",\"/*\",\"\")","v":""},"mica:OfferorsBusinessActivityExplanatory",{"$f":"Table2!E46","v":" Ex: Here is a sample text... (textBlock format)"},"2025-01-01","2025-12-31",null,null,null,null,null,null,null,null,null,null,null,null,null,null,null,null,null,null,null,null,null,{"$f":"ROW(INDIRECT(MID(_xlfn.FORMULATEXT(C75),2,LEN(_xlfn.FORMULATEXT(C75)))))","v":46},"A.13 Business activity","Business or professional activity of the offeror or person seeking admission to trading","textBlock","error","The value of \"A.13 Business activity\" must be provided."]
[{"$f":"IF(Table2!E47=\"\",\"/*\",\"\")","v":""},"mica:ParentCompanyBusinessActivityOfOfferorSideExplanatory",{"$f":"Table2!E47","v":" Ex: Here is a sample text... (textBlock format)"},"2025-01-01","2025-12-31",null,null,null,null,null,null,null,null,null,null,null,null,null,null,null,null,null,null,null,null,null,{"$f":"ROW(INDIRECT(MID(_xlfn.FORMULATEXT(C76),2,LEN(_xlfn.FORMULATEXT(C76)))))","v":47},"A.14 Parent company business activity","Where applicable, business or professional activity of the parent company, including principal activities and principal markets","textBlock","warning","If \"A.11 Parent company\" is provided with a fact value, then \"A.14 Parent company business activity\" should be reported."]
[{"$f":"IF(Table2!E48=\"\",\"/*\",\"\")","v":""},"mica:NewlyEstablishedOfferorsIndicator",{"$f":"Table2!E48","v":"true/false"},"2025-01-01","2025-12-31",null,null,null,null,null,null,null,null,null,null,null,null,null,null,null,null,null,null,null,null,null,{"$f":"ROW(INDIRECT(MID(_xlfn.FORMULATEXT(C77),2,LEN(_xlfn.FORMULATEXT(C77)))))","v":48},"A.15 Newly established","Indication as to whether the offeror or person seeking admission to trading has been established for the past three years","boolean","error","The value of \"A.15 Newly established\" must be provided."]
[{"$f":"IF(Table2!E49=\"\",\"/*\",\"\")","v":""},"mica:InformationAboutOfferorsFinancialConditionForPastThreeYearsExplanatory",{"$f":"Table2!E49","v":" Ex: Here is a sample text... (textBlock format)"},"2025-01-01","2025-12-31",null,null,null,null,null,null,null,null,null,null,null,null,null,null,null,null,null,null,null,null,null,{"$f":"ROW(INDIRECT(MID(_xlfn.FORMULATEXT(C78),2,LEN(_xlfn.FORMULATEXT(C78)))))","v":49},"A.16 Financial condition for the past three years","Where the offeror or person seeking admission to trading has been established for the past three years, the financial condition of the offeror or person seeking admission to trading over the past three years.\r\nThis shall be assessed based on a fair review of the development and performance of the business of the offeror or person seeking admission to trading and of its position for each year and interim period for which historical financial information is required, including the causes of material changes.\r\nThe review shall be a balanced and comprehensive analysis of the development and performance of the business of the offeror or person seeking admission to trading and of its position, consistent with the size and complexity of the business.","textBlock","error","If \"A.15 Newly established\" is set to true, then \"A.16 Information about offeror's financial condition for past three years\" must be provided with a fact value."]
[{"$f":"IF(Table2!E50=\"\",\"/*\",\"\")","v":""},"mica:InformationAboutOfferorsFinancialConditionSinceRegistrationExplanatory",{"$f":"Table2!E50","v":" Ex: Here is a sample text... (textBlock format)"},"2025-01-01","2025-12-31",null,null,null,null,null,null,null,null,null,null,null,null,null,null,null,null,null,null,null,null,null,{"$f":"ROW(INDIRECT(MID(_xlfn.FORMULATEXT(C79),2,LEN(_xlfn.FORMULATEXT(C79)))))","v":50},"A.17 Financial condition since registration","Where the offeror or person seeking admission to trading has not been established for the past three years, description of its financial condition since the date of its registration.\r\nThis shall be assessed based on a fair review of the development and performance of the business of the offeror or person seeking admission to trading and of its position for each year and interim period for which historical financial information is available, including the causes of material changes.\r\nThe review shall be a balanced and comprehensive analysis of the development and performance of the business of the offeror or person seeking admission to trading and of its position, consistent with the size and complexity of the business.","textBlock","error","If \"A.15 Newly established\" is set to false, then \"A.17 Financial condition since registration\" must be provided with a fact value."]
[{"$f":"IF(Table2!E51=\"\",\"/*\",\"\")","v":"/*"},"mica:InformationAboutIssuerIfDifferentFromOfferorOrPersonSeekingAdmissionToTradingAbstract",{"$f":"Table2!E51","v":0},"2025-01-01","2025-12-31",null,null,null,null,null,null,null,null,null,null,null,null,null,null,null,null,null,null,null,null,null,{"$f":"ROW(INDIRECT(MID(_xlfn.FORMULATEXT(C80),2,LEN(_xlfn.FORMULATEXT(C80)))))","v":51},"Part B - Information about issuer, if different from offeror or person seeking admission to trading","","","",""]
[{"$f":"IF(Table2!E52=\"\",\"/*\",\"\")","v":""},"mica:IssuerDifferentFromOfferrorOrPersonSeekingAdmissionToTrading",{"$f":"Table2!E52","v":"true/false"},"2025-01-01","2025-12-31",null,null,null,null,null,null,null,null,null,null,null,null,null,null,null,null,null,null,null,null,null,{"$f":"ROW(INDIRECT(MID(_xlfn.FORMULATEXT(C81),2,LEN(_xlfn.FORMULATEXT(C81)))))","v":52},"B.1 Issuer different from offerror or person seeking admission to trading","Indication as to whether the issuer is different from the offeror or person seeking admission to trading","boolean","error\r\nerror\r\nerror\r\nerror\r\nerror","The value of \"B.1 Issuer different from offeror or person seeking admission to trading\" must be provided.\r\nIf \"B.1 Issuer different from offeror or person seeking admission to trading\" is set to false ,  then \"B.4 Registered address country\" must not be reported.\r\nIf \"B.1 Issuer different from offeror or person seeking admission to trading\" is set to false ,  then \"B.4 Registered address sub-division\" must not be reported.\r\nIf \"B.1 Issuer different from offeror or person seeking admission to trading\" is set to false ,  then  \"B.5 Head office country\" must not be reported.\r\nIf \"B.1 Issuer different from offeror or person seeking admission to trading\" is set to false ,  then \"B.5 Head office sub-division\" must not be reported."]
[{"$f":"IF(Table2!E53=\"\",\"/*\",\"\")","v":""},"mica:NameOfOtherTokenIssuer",{"$f":"Table2!E53","v":" Ex: Here is a sample text... (text format)"},"2025-01-01","2025-12-31",null,null,null,null,null,null,null,null,null,null,null,null,null,null,null,null,null,null,null,null,null,{"$f":"ROW(INDIRECT(MID(_xlfn.FORMULATEXT(C82),2,LEN(_xlfn.FORMULATEXT(C82)))))","v":53},"B.2 Name","Name","text","error\r\nerror","If \"B.1 Issuer different from offeror or person seeking admission to trading\" is set to true, then \"B.2 Name\" must be provided with a fact value.\r\nIf \"B.1 Issuer different from offeror or person seeking admission to trading\" is set to false, then \"B.2 Name\" must not be provided with a fact value."]
[{"$f":"IF(Table2!E54=\"\",\"/*\",\"\")","v":""},"mica:IssuersLegalForm",{"$f":"Table2!E54","v":" Ex: Here is a sample text... (text format)"},"2025-01-01","2025-12-31",null,null,null,null,null,null,null,null,null,null,null,null,null,null,null,null,null,null,null,null,null,{"$f":"ROW(INDIRECT(MID(_xlfn.FORMULATEXT(C83),2,LEN(_xlfn.FORMULATEXT(C83)))))","v":54},"B.3 Legal form","Field to be filled in only if an LEI is not provided in field B.7\r\nLegal form","text","error\r\nerror","If \"B.7 Legal entity identifier\" is not provided with a fact value and \"B.1 Issuer different from offeror or person seeking admission to trading\" is set to true, then \"B.3 Legal form\" must be reported.\r\nIf \"B.1 Issuer different from offeror or person seeking admission to trading\" is set to false, then \"B.3 Legal form\"  must not be provided with a fact value."]
[{"$f":"IF(Table2!E55=\"\",\"/*\",\"\")","v":"/*"},"mica:IssuersRegisteredAddressDetailsAbstract",{"$f":"Table2!E55","v":0},"2025-01-01","2025-12-31",null,null,null,null,null,null,null,null,null,null,null,null,null,null,null,null,null,null,null,null,null,{"$f":"ROW(INDIRECT(MID(_xlfn.FORMULATEXT(C84),2,LEN(_xlfn.FORMULATEXT(C84)))))","v":55},"B.4 Registered address","Field to be filled in only if an LEI is not provided in field B.7\r\nAddress and country of registration","","error\r\nerror\r\nerror\r\nerror","If \"B.1 Issuer different from offeror or person seeking admission to trading\" is set to true and \"B.7 Legal entity identifier\" is not provided with a fact value, then \"B.4 Registered address\" must be reported.\r\nIf \"B.1 Issuer different from offeror or person seeking admission to trading\" is set to true and \"B.7 Legal entity identifier\" is not provided with a fact value, then \"B.4 Registered address country\" must be reported.\r\nIf \"B.1 Issuer different from offeror or person seeking admission to trading\" is set to true and \"B.7 Legal entity identifier\" is not provided with a fact value, then \"B.4 Registered address sub-division\" must be reported.\r\nIf \"B.1 Issuer different from offeror or person seeking admission to trading\" is set to false , then \"B.4 Registered address\" must not be reported."]
[{"$f":"IF(Table2!E56=\"\",\"/*\",\"\")","v":""},"mica:IssuersRegisteredAddress",{"$f":"Table2!E56","v":" Ex: Here is a sample text... (text format)"},"2025-01-01","2025-12-31",null,null,null,null,null,null,null,null,null,null,null,null,null,null,null,null,null,null,null,null,null,{"$f":"ROW(INDIRECT(MID(_xlfn.FORMULATEXT(C85),2,LEN(_xlfn.FORMULATEXT(C85)))))","v":56},"Registered addess","","text","",""]
[{"$f":"IF(Table2!E57=\"\",\"/*\",\"\")","v":""},"mica:IssuersRegisteredCountry",{"$f":"Table2!E57","v":"-- Select value --"},"2025-01-01","2025-12-31",null,null,null,null,null,null,null,null,null,null,null,null,null,null,null,null,null,null,null,null,null,{"$f":"ROW(INDIRECT(MID(_xlfn.FORMULATEXT(C86),2,LEN(_xlfn.FORMULATEXT(C86)))))","v":57},"Country","","enumeration","",""]
[{"$f":"IF(Table2!E58=\"\",\"/*\",\"\")","v":""},"mica:IssuersRegisteredCountrySubdivision",{"$f":"Table2!E58","v":" Ex: Here is a sample text... (text format)"},"2025-01-01","2025-12-31",null,null,null,null,null,null,null,null,null,null,null,null,null,null,null,null,null,null,null,null,null,{"$f":"ROW(INDIRECT(MID(_xlfn.FORMULATEXT(C87),2,LEN(_xlfn.FORMULATEXT(C87)))))","v":58},"Sub-division","","text","",""]
[{"$f":"IF(Table2!E59=\"\",\"/*\",\"\")","v":"/*"},"mica:IssuersHeadOfficeDetailsAbstract",{"$f":"Table2!E59","v":0},"2025-01-01","2025-12-31",null,null,null,null,null,null,null,null,null,null,null,null,null,null,null,null,null,null,null,null,null,{"$f":"ROW(INDIRECT(MID(_xlfn.FORMULATEXT(C88),2,LEN(_xlfn.FORMULATEXT(C88)))))","v":59},"B.5 Head office","Field to be filled in only if an LEI is not provided in field B.7\r\nAddress of the Head office, where different than registered address","","error\r\nerror\r\nerror\r\nerror","If \"B.1 Issuer different from offeror or person seeking admission to trading\" is set to true and \"B.7 Legal entity identifier\" is not provided with a fact value, then \"B.5 Head office\" must be reported.\r\nIf \"B.1 Issuer different from offeror or person seeking admission to trading\" is set to true and \"B.7 Legal entity identifier\" is not provided with a fact value, then \"B.5 Head office country\" must be reported.\r\nIf \"B.1 Issuer different from offeror or person seeking admission to trading\" is set to true and \"B.7 Legal entity identifier\" is not provided with a fact value, then \"B.5 Head office sub-division\" must be reported.\r\nIf \"B.1 Issuer different from offeror or person seeking admission to trading\" is set to false , then \"B.5 Head office\"  must not be reported."]
[{"$f":"IF(Table2!E60=\"\",\"/*\",\"\")","v":""},"mica:IssuersHeadOffice",{"$f":"Table2!E60","v":" Ex: Here is a sample text... (text format)"},"2025-01-01","2025-12-31",null,null,null,null,null,null,null,null,null,null,null,null,null,null,null,null,null,null,null,null,null,{"$f":"ROW(INDIRECT(MID(_xlfn.FORMULATEXT(C89),2,LEN(_xlfn.FORMULATEXT(C89)))))","v":60},"Head office","","text","",""]
[{"$f":"IF(Table2!E61=\"\",\"/*\",\"\")","v":""},"mica:IssuersHeadOfficeCountry",{"$f":"Table2!E61","v":"-- Select value --"},"2025-01-01","2025-12-31",null,null,null,null,null,null,null,null,null,null,null,null,null,null,null,null,null,null,null,null,null,{"$f":"ROW(INDIRECT(MID(_xlfn.FORMULATEXT(C90),2,LEN(_xlfn.FORMULATEXT(C90)))))","v":61},"Country","","enumeration","",""]
[{"$f":"IF(Table2!E62=\"\",\"/*\",\"\")","v":""},"mica:IssuersHeadOfficeCountrySubdivision",{"$f":"Table2!E62","v":" Ex: Here is a sample text... (text format)"},"2025-01-01","2025-12-31",null,null,null,null,null,null,null,null,null,null,null,null,null,null,null,null,null,null,null,null,null,{"$f":"ROW(INDIRECT(MID(_xlfn.FORMULATEXT(C91),2,LEN(_xlfn.FORMULATEXT(C91)))))","v":62},"Sub-division","","text","",""]
[{"$f":"IF(Table2!E63=\"\",\"/*\",\"\")","v":""},"mica:IssuersRegistrationDate",{"$f":"Table2!E63","v":"YYYY-MM-DD"},"2025-01-01","2025-12-31",null,null,null,null,null,null,null,null,null,null,null,null,null,null,null,null,null,null,null,null,null,{"$f":"ROW(INDIRECT(MID(_xlfn.FORMULATEXT(C92),2,LEN(_xlfn.FORMULATEXT(C92)))))","v":63},"B.6 Registration date","Date of the registration","date","warning\r\nerror","If \"B.1 Issuer different from offeror or person seeking admission to trading\" is set to true, then \"B.6 Registration date\" should be provided with a fact value.\r\nIf \"B.1 Issuer different from offeror or person seeking admission to trading\" is set to false , then  \"B.6 Registration date\"  must not be reported."]
[{"$f":"IF(Table2!E64=\"\",\"/*\",\"\")","v":""},"mica:IssuersLegalEntityIdentifier",{"$f":"Table2!E64","v":" Ex: 999999A9AA99AAAAAA99"},"2025-01-01","2025-12-31",null,null,null,null,null,null,null,null,null,null,null,null,null,null,null,null,null,null,null,null,null,{"$f":"ROW(INDIRECT(MID(_xlfn.FORMULATEXT(C93),2,LEN(_xlfn.FORMULATEXT(C93)))))","v":64},"B.7 Legal entity identifier","Legal entity identifier of the issuer, where available","LEI","error\r\nerror","If \"B.1 Issuer different from offeror or person seeking admission to trading\" is set to true and \"B.8 Other identifier required pursuant to applicable national law\" is not provided with a fact value, then \"B.7 Legal entity identifier\" must be reported.\r\nIf \"B.1 Issuer different from offeror or person seeking admission to trading\" is set to false , then \"B.7 Legal entity identifier\" must not be reported."]
[{"$f":"IF(Table2!E65=\"\",\"/*\",\"\")","v":""},"mica:IssuersAnotherIdentifierRequiredPursuantToApplicableNationalLaw",{"$f":"Table2!E65","v":" Ex: Here is a sample text... (text format)"},"2025-01-01","2025-12-31",null,null,null,null,null,null,null,null,null,null,null,null,null,null,null,null,null,null,null,null,null,{"$f":"ROW(INDIRECT(MID(_xlfn.FORMULATEXT(C94),2,LEN(_xlfn.FORMULATEXT(C94)))))","v":65},"B.8 Another identifier required pursuant to applicable national law","Field to be filled in only if a legal entity identifier is not provided in field B.7.\r\nNational identifier based on the nationality of the issuer, if required under the applicable national law\r\nThis field only applies to entities for which a national identifier is required under applicable national law","text","error\r\nerror","If \"B.1 Issuer different from offeror or person seeking admission to trading\" is set to true and \"B.7 Legal entity identifier\" is not provided with a fact value, then \"B.8 Other identifier required pursuant to applicable national law\" must be reported.\r\nIf \"B.1 Issuer different from offeror or person seeking admission to trading\" is set to false, then \"B.8 Other identifier required pursuant to applicable national law\" must not be reported."]
[{"$f":"IF(Table2!E66=\"\",\"/*\",\"\")","v":""},"mica:IdentificationOfIssuersParentCompany",{"$f":"Table2!E66","v":" Ex: Here is a sample text... (text format)"},"2025-01-01","2025-12-31",null,null,null,null,null,null,null,null,null,null,null,null,null,null,null,null,null,null,null,null,null,{"$f":"ROW(INDIRECT(MID(_xlfn.FORMULATEXT(C95),2,LEN(_xlfn.FORMULATEXT(C95)))))","v":66},"B.9 Parent company","Field to be filled in only if an LEI is not provided in field B.7\r\nWhere applicable, the name of the parent company","text","warning\r\nerror","If \"B.1 Issuer different from offeror or person seeking admission to trading\" is set to true and \"B.7 Legal entity identifier\" is not provided with a fact value, then \"B.9 Parent company\" should be reported.\r\nIf \"B.1 Issuer different from offeror or person seeking admission to trading\" is set to false, then \"B.9 Parent company\" must not be reported."]
[{"$f":"IF(Table2!E69=\"\",\"/*\",\"\")","v":""},"mica:IdentityOfIssuersManagementBodyMemberForOtherToken",{"$f":"Table2!E69","v":" Ex: Here is a sample text... (text format)"},"2025-01-01","2025-12-31",null,null,null,"mica:LineIdentifierForIssuersManagementBodyMemberForOtherTokenTypedAxis",1,"/**Typed","mica:lineIdentifierForIssuersManagementBodyMemberForOtherToken",null,null,null,null,null,null,null,null,null,null,null,null,null,null,{"$f":"ROW(INDIRECT(MID(_xlfn.FORMULATEXT(C96),2,LEN(_xlfn.FORMULATEXT(C96)))))","v":69},"Identity","","text","",""]
[{"$f":"IF(Table2!E70=\"\",\"/*\",\"\")","v":""},"mica:BusinessAddressOfIssuersManagementBodyMemberForOtherToken",{"$f":"Table2!E70","v":" Ex: Here is a sample text... (text format)"},"2025-01-01","2025-12-31",null,null,null,"mica:LineIdentifierForIssuersManagementBodyMemberForOtherTokenTypedAxis",1,"/**Typed","mica:lineIdentifierForIssuersManagementBodyMemberForOtherToken",null,null,null,null,null,null,null,null,null,null,null,null,null,null,{"$f":"ROW(INDIRECT(MID(_xlfn.FORMULATEXT(C97),2,LEN(_xlfn.FORMULATEXT(C97)))))","v":70},"Business address","","text","",""]
[{"$f":"IF(Table2!E71=\"\",\"/*\",\"\")","v":""},"mica:FunctionOfIssuersManagementBodyMemberForOtherToken",{"$f":"Table2!E71","v":" Ex: Here is a sample text... (text format)"},"2025-01-01","2025-12-31",null,null,null,"mica:LineIdentifierForIssuersManagementBodyMemberForOtherTokenTypedAxis",1,"/**Typed","mica:lineIdentifierForIssuersManagementBodyMemberForOtherToken",null,null,null,null,null,null,null,null,null,null,null,null,null,null,{"$f":"ROW(INDIRECT(MID(_xlfn.FORMULATEXT(C98),2,LEN(_xlfn.FORMULATEXT(C98)))))","v":71},"Function","","text","",""]
[{"$f":"IF(Table2!E72=\"\",\"/*\",\"\")","v":""},"mica:IdentityOfIssuersManagementBodyMemberForOtherToken",{"$f":"Table2!$E$73","v":" Ex: Here is a sample text... (text format)"},"2025-01-01","2025-12-31",null,null,null,"mica:LineIdentifierForIssuersManagementBodyMemberForOtherTokenTypedAxis",2,"/**Typed","mica:lineIdentifierForIssuersManagementBodyMemberForOtherToken",null,null,null,null,null,null,null,null,null,null,null,null,null,null,{"$f":"ROW(INDIRECT(MID(_xlfn.FORMULATEXT(C99),2,LEN(_xlfn.FORMULATEXT(C99)))))","v":73},"Identity","","text","",""]
[{"$f":"IF(Table2!E73=\"\",\"/*\",\"\")","v":""},"mica:BusinessAddressOfIssuersManagementBodyMemberForOtherToken",{"$f":"Table2!$E$74","v":" Ex: Here is a sample text... (text format)"},"2025-01-01","2025-12-31",null,null,null,"mica:LineIdentifierForIssuersManagementBodyMemberForOtherTokenTypedAxis",2,"/**Typed","mica:lineIdentifierForIssuersManagementBodyMemberForOtherToken",null,null,null,null,null,null,null,null,null,null,null,null,null,null,{"$f":"ROW(INDIRECT(MID(_xlfn.FORMULATEXT(C100),2,LEN(_xlfn.FORMULATEXT(C100)))))","v":74},"Business address","","text","",""]
[{"$f":"IF(Table2!E74=\"\",\"/*\",\"\")","v":""},"mica:FunctionOfIssuersManagementBodyMemberForOtherToken",{"$f":"Table2!$E$75","v":" Ex: Here is a sample text... (text format)"},"2025-01-01","2025-12-31",null,null,null,"mica:LineIdentifierForIssuersManagementBodyMemberForOtherTokenTypedAxis",2,"/**Typed","mica:lineIdentifierForIssuersManagementBodyMemberForOtherToken",null,null,null,null,null,null,null,null,null,null,null,null,null,null,{"$f":"ROW(INDIRECT(MID(_xlfn.FORMULATEXT(C101),2,LEN(_xlfn.FORMULATEXT(C101)))))","v":75},"Function","","text","",""]
[{"$f":"IF(Table2!E76=\"\",\"/*\",\"\")","v":""},"mica:IssuersBusinessActivityExplanatory",{"$f":"Table2!E76","v":" Ex: Here is a sample text... (textBlock format)"},"2025-01-01","2025-12-31",null,null,null,null,null,null,null,null,null,null,null,null,null,null,null,null,null,null,null,null,null,{"$f":"ROW(INDIRECT(MID(_xlfn.FORMULATEXT(C102),2,LEN(_xlfn.FORMULATEXT(C102)))))","v":76},"B.11 Business activity","Business or professional activity of the issuer","textBlock","error\r\nerror","If \"B.1 Issuer different from offeror or person seeking admission to trading\" is set to true and \"B.7 Legal entity identifier\" is not provided with a fact value, then \"B.11 Business activity\" must be reported.\r\nIf \"B.1 Issuer different from offeror or person seeking admission to trading\" is set to false, then \"B.11 Business activity\" must not be reported."]
[{"$f":"IF(Table2!E77=\"\",\"/*\",\"\")","v":""},"mica:ParentCompanyBusinessActivityOfIssuerSideExplanatory",{"$f":"Table2!E77","v":" Ex: Here is a sample text... (textBlock format)"},"2025-01-01","2025-12-31",null,null,null,null,null,null,null,null,null,null,null,null,null,null,null,null,null,null,null,null,null,{"$f":"ROW(INDIRECT(MID(_xlfn.FORMULATEXT(C103),2,LEN(_xlfn.FORMULATEXT(C103)))))","v":77},"B.12 Parent company business activity","Where applicable, business or professional activity of the parent company","textBlock","warning\r\nerror","If \"B.1 Issuer different from offeror or person seeking admission to trading\" is set to true and \"B.9 Parent company\" is provided with a fact value, then \"B.12 Parent company business activity\" should be reported.\r\nIf \"B.1 Issuer different from offeror or person seeking admission to trading\" is set to false, then \"B.12 Parent company business activity\" must not be reported."]
[{"$f":"IF(Table2!E78=\"\",\"/*\",\"\")","v":"/*"},"mica:InformationAboutOperatorOfTradingPlatformInCasesWhereItDrawsUpCryptoassetWhitePaperAbstract",{"$f":"Table2!E78","v":0},"2025-01-01","2025-12-31",null,null,null,null,null,null,null,null,null,null,null,null,null,null,null,null,null,null,null,null,null,{"$f":"ROW(INDIRECT(MID(_xlfn.FORMULATEXT(C104),2,LEN(_xlfn.FORMULATEXT(C104)))))","v":78},"Part C - Information about the operator of the trading platform in cases where it draws up the crypto-asset white paper and information about other persons drawing the crypto-asset white paper pursuant to Article 6(1), second subparagraph, of Regulation (EU) 2023/1114","","","",""]
[{"$f":"IF(Table2!E79=\"\",\"/*\",\"\")","v":"/*"},"mica:NameOfOtherTokenOperator",{"$f":"Table2!E79","v":""},"2025-01-01","2025-12-31",null,null,null,null,null,null,null,null,null,null,null,null,null,null,null,null,null,null,null,null,null,{"$f":"ROW(INDIRECT(MID(_xlfn.FORMULATEXT(C105),2,LEN(_xlfn.FORMULATEXT(C105)))))","v":79},"C.1 Name","Name","text","error","The value of \"C.1 Name\" must be provided."]
[{"$f":"IF(Table2!E80=\"\",\"/*\",\"\")","v":"/*"},"mica:OperatorsLegalForm",{"$f":"Table2!E80","v":""},"2025-01-01","2025-12-31",null,null,null,null,null,null,null,null,null,null,null,null,null,null,null,null,null,null,null,null,null,{"$f":"ROW(INDIRECT(MID(_xlfn.FORMULATEXT(C106),2,LEN(_xlfn.FORMULATEXT(C106)))))","v":80},"C.2 Legal form","Field to be filled in only if an LEI is not provided in field C.6\r\nLegal form","text","error","If \"C.6 Legal entity identifier\" is not provided with a fact value, then \"C.2 Legal form\" must be reported."]
[{"$f":"IF(Table2!E81=\"\",\"/*\",\"\")","v":"/*"},"mica:OperatorsRegisteredAddressDetailsAbstract",{"$f":"Table2!E81","v":0},"2025-01-01","2025-12-31",null,null,null,null,null,null,null,null,null,null,null,null,null,null,null,null,null,null,null,null,null,{"$f":"ROW(INDIRECT(MID(_xlfn.FORMULATEXT(C107),2,LEN(_xlfn.FORMULATEXT(C107)))))","v":81},"C.3 Registered address","Field to be filled in only if an LEI is not provided in field C.6\r\nAddress of registration","","error\r\nerror\r\nerror","If \"C.6 Legal entity identifier\" is not provided with a fact value, then  \"C.3 Registered address\" must be reported.\r\nIf \"C.6 Legal entity identifier\" is not provided with a fact value, then  \"C.3 Registered address country\" must be reported.\r\nIf \"C.6 Legal entity identifier\" is not provided with a fact value, then  \"C.3 Registered address sub-division\" must be reported."]
[{"$f":"IF(Table2!E82=\"\",\"/*\",\"\")","v":"/*"},"mica:OperatorsRegisteredAddress",{"$f":"Table2!E82","v":""},"2025-01-01","2025-12-31",null,null,null,null,null,null,null,null,null,null,null,null,null,null,null,null,null,null,null,null,null,{"$f":"ROW(INDIRECT(MID(_xlfn.FORMULATEXT(C108),2,LEN(_xlfn.FORMULATEXT(C108)))))","v":82},"Registered address","","text","",""]
[{"$f":"IF(Table2!E83=\"\",\"/*\",\"\")","v":"/*"},"mica:OperatorsRegisteredCountry",{"$f":"Table2!E83","v":0},"2025-01-01","2025-12-31",null,null,null,null,null,null,null,null,null,null,null,null,null,null,null,null,null,null,null,null,null,{"$f":"ROW(INDIRECT(MID(_xlfn.FORMULATEXT(C109),2,LEN(_xlfn.FORMULATEXT(C109)))))","v":83},"Country","","enumeration","",""]
[{"$f":"IF(Table2!E84=\"\",\"/*\",\"\")","v":"/*"},"mica:OperatorsRegisteredCountrySubdivision",{"$f":"Table2!E84","v":""},"2025-01-01","2025-12-31",null,null,null,null,null,null,null,null,null,null,null,null,null,null,null,null,null,null,null,null,null,{"$f":"ROW(INDIRECT(MID(_xlfn.FORMULATEXT(C110),2,LEN(_xlfn.FORMULATEXT(C110)))))","v":84},"Sub-division","","text","",""]
[{"$f":"IF(Table2!E85=\"\",\"/*\",\"\")","v":"/*"},"mica:OperatorsHeadOfficeDeatailsAbstract",{"$f":"Table2!E85","v":0},"2025-01-01","2025-12-31",null,null,null,null,null,null,null,null,null,null,null,null,null,null,null,null,null,null,null,null,null,{"$f":"ROW(INDIRECT(MID(_xlfn.FORMULATEXT(C111),2,LEN(_xlfn.FORMULATEXT(C111)))))","v":85},"C.4 Head office","Field to be filled in only if an LEI is not provided in field C.6\r\nAddress of the Head office, where different than registered address","","error\r\nerror\r\nerror","If \"C.6 Legal entity identifier\" is not provided with a fact value, then \"C.4 Head office\" must be reported.\r\nIf \"C.6 Legal entity identifier\" is not provided with a fact value, then \"C.4 Head office country\" must be reported.\r\nIf \"C.6 Legal entity identifier\" is not provided with a fact value, then \"C.4 Head office sub-division\" must be reported."]
[{"$f":"IF(Table2!E86=\"\",\"/*\",\"\")","v":"/*"},"mica:OperatorsHeadOffice",{"$f":"Table2!E86","v":""},"2025-01-01","2025-12-31",null,null,null,null,null,null,null,null,null,null,null,null,null,null,null,null,null,null,null,null,null,{"$f":"ROW(INDIRECT(MID(_xlfn.FORMULATEXT(C112),2,LEN(_xlfn.FORMULATEXT(C112)))))","v":86},"Head office","","text","",""]
[{"$f":"IF(Table2!E87=\"\",\"/*\",\"\")","v":"/*"},"mica:OperatorsHeadOfficeCountry",{"$f":"Table2!E87","v":0},"2025-01-01","2025-12-31",null,null,null,null,null,null,null,null,null,null,null,null,null,null,null,null,null,null,null,null,null,{"$f":"ROW(INDIRECT(MID(_xlfn.FORMULATEXT(C113),2,LEN(_xlfn.FORMULATEXT(C113)))))","v":87},"Country","","enumeration","",""]
[{"$f":"IF(Table2!E88=\"\",\"/*\",\"\")","v":"/*"},"mica:OperatorsHeadOfficeCountrySubdivision",{"$f":"Table2!E88","v":""},"2025-01-01","2025-12-31",null,null,null,null,null,null,null,null,null,null,null,null,null,null,null,null,null,null,null,null,null,{"$f":"ROW(INDIRECT(MID(_xlfn.FORMULATEXT(C114),2,LEN(_xlfn.FORMULATEXT(C114)))))","v":88},"Sub-division","","text","",""]
[{"$f":"IF(Table2!E89=\"\",\"/*\",\"\")","v":"/*"},"mica:OperatorsRegistrationDate",{"$f":"Table2!E89","v":0},"2025-01-01","2025-12-31",null,null,null,null,null,null,null,null,null,null,null,null,null,null,null,null,null,null,null,null,null,{"$f":"ROW(INDIRECT(MID(_xlfn.FORMULATEXT(C115),2,LEN(_xlfn.FORMULATEXT(C115)))))","v":89},"C.5 Registration date","Date of the registration","date","error","The value of \"C.5 Registration date\" must be provided."]
[{"$f":"IF(Table2!E90=\"\",\"/*\",\"\")","v":"/*"},"mica:OperatorsLegalEntityIdentifier",{"$f":"Table2!E90","v":0},"2025-01-01","2025-12-31",null,null,null,null,null,null,null,null,null,null,null,null,null,null,null,null,null,null,null,null,null,{"$f":"ROW(INDIRECT(MID(_xlfn.FORMULATEXT(C116),2,LEN(_xlfn.FORMULATEXT(C116)))))","v":90},"C.6 Legal entity identifier","Legal entity identifier of the operator of the trading platform","LEI","error\r\nerror","If \"A.6 Legal entity identifier\" is provided with a fact value or \"A.7 Other identifier required pursuant to applicable national law\" is provided with a fact value, then \"C.6 Legal entity identifier\"  must not be reported.\r\nIf \"C.7 Other identifier required pursuant to applicable national law\" is not provided with a fact value, then \"C.6 Legal entity identifier\" must be reported."]
[{"$f":"IF(Table2!E91=\"\",\"/*\",\"\")","v":"/*"},"mica:OperatorsAnotherIdentifierRequiredPursuantToApplicableNationalLaw",{"$f":"Table2!E91","v":""},"2025-01-01","2025-12-31",null,null,null,null,null,null,null,null,null,null,null,null,null,null,null,null,null,null,null,null,null,{"$f":"ROW(INDIRECT(MID(_xlfn.FORMULATEXT(C117),2,LEN(_xlfn.FORMULATEXT(C117)))))","v":91},"C.7 Another identifier required pursuant to applicable national law","National identifier based on the nationality of the issuer, if required under the applicable national law.\r\nThis field only applies to entities for which a national identifier is required under applicable national law.","text","error\r\nerror","If \"A.6 Legal entity identifier\" is provided with a fact value or \"A.7 Other identifier required pursuant to applicable national law\" is provided with a fact value, then \"C.7 Other identifier required pursuant to applicable national law\"  must not be reported.\r\nIf \"C.6 Legal entity identifier\" is not provided with a fact value, then \"C.7 Other identifier required pursuant to applicable national law\" must be reported."]
[{"$f":"IF(Table2!E92=\"\",\"/*\",\"\")","v":"/*"},"mica:IdentificationOfOperatorsParentCompany",{"$f":"Table2!E92","v":""},"2025-01-01","2025-12-31",null,null,null,null,null,null,null,null,null,null,null,null,null,null,null,null,null,null,null,null,null,{"$f":"ROW(INDIRECT(MID(_xlfn.FORMULATEXT(C118),2,LEN(_xlfn.FORMULATEXT(C118)))))","v":92},"C.8 Parent company","Field to be filled in only if an LEI is not provided in field C.6\r\nWhere applicable, the name of the parent company","text","error","If \"C.6 Legal entity identifier\" is not provided with a fact value, then \"C.8 Parent company\" must be reported."]
[{"$f":"IF(Table2!E93=\"\",\"/*\",\"\")","v":"/*"},"mica:ReasonForCryptoassetWhitePaperPreparationExplanatory",{"$f":"Table2!E93","v":""},null,"2025-12-31",null,null,null,null,null,null,null,null,null,null,null,null,null,null,null,null,null,null,null,null,null,{"$f":"ROW(INDIRECT(MID(_xlfn.FORMULATEXT(C119),2,LEN(_xlfn.FORMULATEXT(C119)))))","v":93},"C.9 Reason for crypto-asset white paper preparation","The reason why the operator of the trading platform drew up the crypto-asset white paper","textBlock","error","The value of \"C.9 Reason for crypto-asset white paper preparation\" must be provided."]
[{"$f":"IF(Table2!E96=\"\",\"/*\",\"\")","v":"/*"},"mica:IdentityOfOperatorsManagementBodyMemberForOtherToken",{"$f":"Table2!E96","v":""},"2025-01-01","2025-12-31",null,null,null,"mica:LineIdentifierForOperatorsManagementBodyMemberForOtherTokenTypedAxis",1,"/**Typed","mica:lineIdentifierForOperatorsManagementBodyMemberForOtherToken",null,null,null,null,null,null,null,null,null,null,null,null,null,null,{"$f":"ROW(INDIRECT(MID(_xlfn.FORMULATEXT(C120),2,LEN(_xlfn.FORMULATEXT(C120)))))","v":96},"Identity","","text","",""]
[{"$f":"IF(Table2!E97=\"\",\"/*\",\"\")","v":"/*"},"mica:BusinessAddressOfOperatorsManagementBodyMemberForOtherToken",{"$f":"Table2!E97","v":""},"2025-01-01","2025-12-31",null,null,null,"mica:LineIdentifierForOperatorsManagementBodyMemberForOtherTokenTypedAxis",1,"/**Typed","mica:lineIdentifierForOperatorsManagementBodyMemberForOtherToken",null,null,null,null,null,null,null,null,null,null,null,null,null,null,{"$f":"ROW(INDIRECT(MID(_xlfn.FORMULATEXT(C121),2,LEN(_xlfn.FORMULATEXT(C121)))))","v":97},"Business address","","text","",""]
[{"$f":"IF(Table2!E98=\"\",\"/*\",\"\")","v":"/*"},"mica:FunctionOfOperatorsManagementBodyMemberForOtherToken",{"$f":"Table2!E98","v":""},"2025-01-01","2025-12-31",null,null,null,"mica:LineIdentifierForOperatorsManagementBodyMemberForOtherTokenTypedAxis",1,"/**Typed","mica:lineIdentifierForOperatorsManagementBodyMemberForOtherToken",null,null,null,null,null,null,null,null,null,null,null,null,null,null,{"$f":"ROW(INDIRECT(MID(_xlfn.FORMULATEXT(C122),2,LEN(_xlfn.FORMULATEXT(C122)))))","v":98},"Function","","text","",""]
[{"$f":"IF(Table2!E99=\"\",\"/*\",\"\")","v":"/*"},"mica:OperatorsBusinessActivityExplanatory",{"$f":"Table2!E99","v":""},"2025-01-01","2025-12-31",null,null,null,null,null,null,null,null,null,null,null,null,null,null,null,null,null,null,null,null,null,{"$f":"ROW(INDIRECT(MID(_xlfn.FORMULATEXT(C123),2,LEN(_xlfn.FORMULATEXT(C123)))))","v":99},"C.11 Operator business activity","Business or professional activity of the operator, including principal activities and principal markets","textBlock","error","The value of \"C.11 Operator business activity\" must be provided."]
[{"$f":"IF(Table2!E100=\"\",\"/*\",\"\")","v":"/*"},"mica:ParentCompanyBusinessActivityOfOperatorSideExplanatory",{"$f":"Table2!E100","v":""},"2025-01-01","2025-12-31",null,null,null,null,null,null,null,null,null,null,null,null,null,null,null,null,null,null,null,null,null,{"$f":"ROW(INDIRECT(MID(_xlfn.FORMULATEXT(C124),2,LEN(_xlfn.FORMULATEXT(C124)))))","v":100},"C.12 Parent company business activity","Where applicable, business or professional activity of the parent company, including principal activities and principal markets","textBlock","warning","If \"C.8 Parent company\" is provided with a fact value, then \"C.12 Parent company business activity\" should be reported."]
[{"$f":"IF(Table2!E101=\"\",\"/*\",\"\")","v":"/*"},"mica:OtherPersonsDrawingUpCryptoassetWhitePaperExplanatory",{"$f":"Table2!E101","v":""},"2025-01-01","2025-12-31",null,null,null,null,null,null,null,null,null,null,null,null,null,null,null,null,null,null,null,null,null,{"$f":"ROW(INDIRECT(MID(_xlfn.FORMULATEXT(C125),2,LEN(_xlfn.FORMULATEXT(C125)))))","v":101},"C.13 Other persons drawing up the crypto-asset white paper according to Article 6(1), second subparagraph, of Regulation (EU) 2023/1114","Where different from the offeror, person seeking admission to trading, issuer, or operator of the trading platform, indication of the identity of the person drawing up the crypto-asset white paper","text","",""]
[{"$f":"IF(Table2!E102=\"\",\"/*\",\"\")","v":"/*"},"mica:ReasonForDrawingWhitePaperExplanatory",{"$f":"Table2!E102","v":""},"2025-01-01","2025-12-31",null,null,null,null,null,null,null,null,null,null,null,null,null,null,null,null,null,null,null,null,null,{"$f":"ROW(INDIRECT(MID(_xlfn.FORMULATEXT(C126),2,LEN(_xlfn.FORMULATEXT(C126)))))","v":102},"C.14 Reason for drawing the white paper by persons referred to in Article 6(1), second subparagraph, of Regulation (EU) 2023/1114","Where the white paper is drawn up by a person different from the offeror, person seeking admission to trading, issuer, or operator of the trading platform, reason for drawing up the white paper","text","error","If \"C.13 Other persons drawing up the crypto-asset white paper according to Artcile 6(1), second subparagraph, of Regulation (EU) 2023/1114\" is provided with a fact value, then \"C.14 Reason for drawing the white paper by persons referred to in Article 6(1), second paragraph, of Regulation (EU) 2023/1114\" must be reported."]
[{"$f":"IF(Table2!E103=\"\",\"/*\",\"\")","v":"/*"},"mica:InformationAboutOtherTokenProjectAbstract",{"$f":"Table2!E103","v":0},"2025-01-01","2025-12-31",null,null,null,null,null,null,null,null,null,null,null,null,null,null,null,null,null,null,null,null,null,{"$f":"ROW(INDIRECT(MID(_xlfn.FORMULATEXT(C127),2,LEN(_xlfn.FORMULATEXT(C127)))))","v":103},"Part D - Information about other token project","","","",""]
[{"$f":"IF(Table2!E104=\"\",\"/*\",\"\")","v":""},"mica:NameOfOtherTokenProject",{"$f":"Table2!E104","v":" Ex: Here is a sample text... (text format)"},"2025-01-01","2025-12-31",null,null,null,null,null,null,null,null,null,null,null,null,null,null,null,null,null,null,null,null,null,{"$f":"ROW(INDIRECT(MID(_xlfn.FORMULATEXT(C128),2,LEN(_xlfn.FORMULATEXT(C128)))))","v":104},"D.1 Crypto-asset project name","Name of the crypto-asset project, if different from the name of the offeror or person seeking admission to trading","text","",""]
[{"$f":"IF(Table2!E105=\"\",\"/*\",\"\")","v":""},"mica:NameOfOtherToken",{"$f":"Table2!E105","v":" Ex: Here is a sample text... (text format)"},"2025-01-01","2025-12-31",null,null,null,null,null,null,null,null,null,null,null,null,null,null,null,null,null,null,null,null,null,{"$f":"ROW(INDIRECT(MID(_xlfn.FORMULATEXT(C129),2,LEN(_xlfn.FORMULATEXT(C129)))))","v":105},"D.2 Crypto-asset name","Field to be filled in only if a Digital Token Identifier (DTI) is not provided in field F.13.\r\nName of the crypto-assets, if different from the name of the offeror or person seeking admission to trading","text","error","If \"F.13 Digital token identifier code used to uniquely identify the crypto-asset or each of the several crypto assets to which the white paper relates, where available\"  is not provided with a fact value, then \"D.2 Crypto-assets name\" must be reported."]
[{"$f":"IF(Table2!E106=\"\",\"/*\",\"\")","v":""},"mica:OtherTokenProjectAbbreviation",{"$f":"Table2!E106","v":" Ex: Here is a sample text... (text format)"},"2025-01-01","2025-12-31",null,null,null,null,null,null,null,null,null,null,null,null,null,null,null,null,null,null,null,null,null,{"$f":"ROW(INDIRECT(MID(_xlfn.FORMULATEXT(C130),2,LEN(_xlfn.FORMULATEXT(C130)))))","v":106},"D.3 Abbreviation","Field to be filled in only if a DTI is not provided in field F.13.\r\nAbbreviation or ticker handler","text","error","If \"F.13 Digital token identifier code used to uniquely identify the crypto-asset or each of the several crypto assets to which the white paper relates, where available\"  is not provided with a fact value, then \"D.3 Abbreviation\" must be reported."]
[{"$f":"IF(Table2!E107=\"\",\"/*\",\"\")","v":""},"mica:DescriptionOfOtherTokenProjectExplanatory",{"$f":"Table2!E107","v":" Ex: Here is a sample text... (textBlock format)"},"2025-01-01","2025-12-31",null,null,null,null,null,null,null,null,null,null,null,null,null,null,null,null,null,null,null,null,null,{"$f":"ROW(INDIRECT(MID(_xlfn.FORMULATEXT(C131),2,LEN(_xlfn.FORMULATEXT(C131)))))","v":107},"D.4 Crypto-asset project description","A brief description of the crypto-asset project","textBlock","error","The value of \"D.4 Crypto-asset project description\" must be provided."]
[{"$f":"IF(Table2!E108=\"\",\"/*\",\"\")","v":"/*"},"mica:DetailsOfAllNaturalOrLegalPersonsInvolvedInImplementationOfOtherTokenProjectExplanatory",{"$f":"Table2!E108","v":0},"2025-01-01","2025-12-31",null,null,null,null,null,null,null,null,null,null,null,null,null,null,null,null,null,null,null,null,null,{"$f":"ROW(INDIRECT(MID(_xlfn.FORMULATEXT(C132),2,LEN(_xlfn.FORMULATEXT(C132)))))","v":108},"D.5 Details of all natural or legal persons involved in implementation of crypto-asset project","Details of advisors, development team, crypto-assets service providers and other persons involved in the implementation of the crypto-asset project, including business addresses or domicile of the company","","error\r\nerror\r\nerror\r\nerror","The value of \"D.5 Details of all natural or legal persons involved in implementation of crypto-asset project / Type of person\" must be provided.\r\nThe value of \"D.5 Details of all natural or legal persons involved in implementation of crypto-asset project / Name of person\" must be provided.\r\nThe value of \"D.5 Details of all natural or legal persons involved in implementation of crypto-asset project / Business address of person\" must be provided.\r\nThe value of \"D.5 Details of all natural or legal persons involved in implementation of crypto-asset project / Domicile of company\" must be provided."]
[{"$f":"IF(Table2!E110=\"\",\"/*\",\"\")","v":""},"mica:TypeOfPersonInvolvedInImplementationOfOtherToken",{"$f":"Table2!E110","v":"-- Select value --"},"2025-01-01","2025-12-31",null,null,null,"mica:LineIdentifierForPersonsInvolvedInImplementationOfOtherTokenTypedAxis",1,"/**Typed","mica:lineIdentifierForPersonsInvolvedInImplementationOfOtherToken",null,null,null,null,null,null,null,null,null,null,null,null,null,null,{"$f":"ROW(INDIRECT(MID(_xlfn.FORMULATEXT(C133),2,LEN(_xlfn.FORMULATEXT(C133)))))","v":110},"Type of person","","enumeration","",""]
[{"$f":"IF(Table2!E111=\"\",\"/*\",\"\")","v":""},"mica:NameOfPersonInvolvedInImplementationOfOtherToken",{"$f":"Table2!E111","v":" Ex: Here is a sample text... (text format)"},"2025-01-01","2025-12-31",null,null,null,"mica:LineIdentifierForPersonsInvolvedInImplementationOfOtherTokenTypedAxis",1,"/**Typed","mica:lineIdentifierForPersonsInvolvedInImplementationOfOtherToken",null,null,null,null,null,null,null,null,null,null,null,null,null,null,{"$f":"ROW(INDIRECT(MID(_xlfn.FORMULATEXT(C134),2,LEN(_xlfn.FORMULATEXT(C134)))))","v":111},"Name of person ","","text","",""]
[{"$f":"IF(Table2!E112=\"\",\"/*\",\"\")","v":""},"mica:BusinessAddressOfPersonInvolvedInImplementationOfOtherToken",{"$f":"Table2!E112","v":" Ex: Here is a sample text... (text format)"},"2025-01-01","2025-12-31",null,null,null,"mica:LineIdentifierForPersonsInvolvedInImplementationOfOtherTokenTypedAxis",1,"/**Typed","mica:lineIdentifierForPersonsInvolvedInImplementationOfOtherToken",null,null,null,null,null,null,null,null,null,null,null,null,null,null,{"$f":"ROW(INDIRECT(MID(_xlfn.FORMULATEXT(C135),2,LEN(_xlfn.FORMULATEXT(C135)))))","v":112},"Business address of person","","text","",""]
[{"$f":"IF(Table2!E113=\"\",\"/*\",\"\")","v":""},"mica:DomicileOfCompanyOfPersonInvolvedInImplementationOfOtherToken",{"$f":"Table2!E113","v":"-- Select value --"},"2025-01-01","2025-12-31",null,null,null,"mica:LineIdentifierForPersonsInvolvedInImplementationOfOtherTokenTypedAxis",1,"/**Typed","mica:lineIdentifierForPersonsInvolvedInImplementationOfOtherToken",null,null,null,null,null,null,null,null,null,null,null,null,null,null,{"$f":"ROW(INDIRECT(MID(_xlfn.FORMULATEXT(C136),2,LEN(_xlfn.FORMULATEXT(C136)))))","v":113},"Domicile of company","","enumeration","",""]
[{"$f":"IF(Table2!E114=\"\",\"/*\",\"\")","v":""},"mica:TypeOfPersonInvolvedInImplementationOfOtherToken",{"$f":"Table2!$E$115","v":"-- Select value --"},"2025-01-01","2025-12-31",null,null,null,"mica:LineIdentifierForPersonsInvolvedInImplementationOfOtherTokenTypedAxis",2,"/**Typed","mica:lineIdentifierForPersonsInvolvedInImplementationOfOtherToken",null,null,null,null,null,null,null,null,null,null,null,null,null,null,{"$f":"ROW(INDIRECT(MID(_xlfn.FORMULATEXT(C137),2,LEN(_xlfn.FORMULATEXT(C137)))))","v":115},"Type of person","","enumeration","",""]
[{"$f":"IF(Table2!E115=\"\",\"/*\",\"\")","v":""},"mica:NameOfPersonInvolvedInImplementationOfOtherToken",{"$f":"Table2!$E$116","v":" Ex: Here is a sample text... (text format)"},"2025-01-01","2025-12-31",null,null,null,"mica:LineIdentifierForPersonsInvolvedInImplementationOfOtherTokenTypedAxis",2,"/**Typed","mica:lineIdentifierForPersonsInvolvedInImplementationOfOtherToken",null,null,null,null,null,null,null,null,null,null,null,null,null,null,{"$f":"ROW(INDIRECT(MID(_xlfn.FORMULATEXT(C138),2,LEN(_xlfn.FORMULATEXT(C138)))))","v":116},"Name of person ","","text","",""]
[{"$f":"IF(Table2!E116=\"\",\"/*\",\"\")","v":""},"mica:BusinessAddressOfPersonInvolvedInImplementationOfOtherToken",{"$f":"Table2!$E$117","v":" Ex: Here is a sample text... (text format)"},"2025-01-01","2025-12-31",null,null,null,"mica:LineIdentifierForPersonsInvolvedInImplementationOfOtherTokenTypedAxis",2,"/**Typed","mica:lineIdentifierForPersonsInvolvedInImplementationOfOtherToken",null,null,null,null,null,null,null,null,null,null,null,null,null,null,{"$f":"ROW(INDIRECT(MID(_xlfn.FORMULATEXT(C139),2,LEN(_xlfn.FORMULATEXT(C139)))))","v":117},"Business address of person","","text","",""]
[{"$f":"IF(Table2!E117=\"\",\"/*\",\"\")","v":""},"mica:DomicileOfCompanyOfPersonInvolvedInImplementationOfOtherToken",{"$f":"Table2!$E$118","v":"-- Select value --"},"2025-01-01","2025-12-31",null,null,null,"mica:LineIdentifierForPersonsInvolvedInImplementationOfOtherTokenTypedAxis",2,"/**Typed","mica:lineIdentifierForPersonsInvolvedInImplementationOfOtherToken",null,null,null,null,null,null,null,null,null,null,null,null,null,null,{"$f":"ROW(INDIRECT(MID(_xlfn.FORMULATEXT(C140),2,LEN(_xlfn.FORMULATEXT(C140)))))","v":118},"Domicile of company","","enumeration","",""]
[{"$f":"IF(Table2!E119=\"\",\"/*\",\"\")","v":""},"mica:UtilityTokenClassificationForOtherTokenProjectIndicator",{"$f":"Table2!E119","v":"true/false"},"2025-01-01","2025-12-31",null,null,null,null,null,null,null,null,null,null,null,null,null,null,null,null,null,null,null,null,null,{"$f":"ROW(INDIRECT(MID(_xlfn.FORMULATEXT(C141),2,LEN(_xlfn.FORMULATEXT(C141)))))","v":119},"D.6 Utility token classification","Indication as to whether the crypto-asset project concerns utility tokens","boolean","error","The value of \"D.6 Utility token classification\" must be provided."]
[{"$f":"IF(Table2!E120=\"\",\"/*\",\"\")","v":""},"mica:KeyFeaturesOfGoodsOrServicesForUtilityTokenProjectsExplanatory",{"$f":"Table2!E120","v":" Ex: Here is a sample text... (text format)"},"2025-01-01","2025-12-31",null,null,null,null,null,null,null,null,null,null,null,null,null,null,null,null,null,null,null,null,null,{"$f":"ROW(INDIRECT(MID(_xlfn.FORMULATEXT(C142),2,LEN(_xlfn.FORMULATEXT(C142)))))","v":120},"D.7 Key features of goods or services for utility token projects","Where applicable, key features of the goods or services to be developed for utility tokens crypto-asset projects","text","error","If \"D.6 Utility token classification\" is set to true, then \"D.7 Key features of goods or services for utility token projects\" must be provided with a fact value."]
[{"$f":"IF(Table2!E121=\"\",\"/*\",\"\")","v":"/*"},"mica:PlansForTokenAbstract",{"$f":"Table2!E121","v":0},"2025-01-01","2025-12-31",null,null,null,null,null,null,null,null,null,null,null,null,null,null,null,null,null,null,null,null,null,{"$f":"ROW(INDIRECT(MID(_xlfn.FORMULATEXT(C143),2,LEN(_xlfn.FORMULATEXT(C143)))))","v":121},"D.8 Plans for the token","Information about the crypto-asset project, including the description of the past and future milestones","","warning\r\nwarning","The value of  \"D.8 Plans for the token / Description of future milestones\" should be provided with a fact value.\r\nThe value of \"D.8 Plans for the token / Description of past milestones\" should be provided with a fact value."]
[{"$f":"IF(Table2!E122=\"\",\"/*\",\"\")","v":""},"mica:DescriptionOfPastMilestonesExplanatory",{"$f":"Table2!E122","v":" Ex: Here is a sample text... (textBlock format)"},"2025-01-01","2025-12-31",null,null,null,null,null,null,null,null,null,null,null,null,null,null,null,null,null,null,null,null,null,{"$f":"ROW(INDIRECT(MID(_xlfn.FORMULATEXT(C144),2,LEN(_xlfn.FORMULATEXT(C144)))))","v":122},"Description of past milestones","","textBlock","",""]
[{"$f":"IF(Table2!E123=\"\",\"/*\",\"\")","v":""},"mica:DescriptionOfFutureMilestonesExplanatory",{"$f":"Table2!E123","v":" Ex: Here is a sample text... (textBlock format)"},"2025-01-01","2025-12-31",null,null,null,null,null,null,null,null,null,null,null,null,null,null,null,null,null,null,null,null,null,{"$f":"ROW(INDIRECT(MID(_xlfn.FORMULATEXT(C145),2,LEN(_xlfn.FORMULATEXT(C145)))))","v":123},"Description of future milestones","","textBlock","",""]
[{"$f":"IF(Table2!E124=\"\",\"/*\",\"\")","v":""},"mica:ResourceAllocationExplanatory",{"$f":"Table2!E124","v":" Ex: Here is a sample text... (text format)"},"2025-01-01","2025-12-31",null,null,null,null,null,null,null,null,null,null,null,null,null,null,null,null,null,null,null,null,null,{"$f":"ROW(INDIRECT(MID(_xlfn.FORMULATEXT(C146),2,LEN(_xlfn.FORMULATEXT(C146)))))","v":124},"D.9 Resource allocation","Where applicable, information about resources, including financial resources, already allocated to the project","text","",""]
[{"$f":"IF(Table2!E125=\"\",\"/*\",\"\")","v":""},"mica:PlannedUseOfCollectedFundsOrOtherTokensExplanatory",{"$f":"Table2!E125","v":" Ex: Here is a sample text... (text format)"},"2025-01-01","2025-12-31",null,null,null,null,null,null,null,null,null,null,null,null,null,null,null,null,null,null,null,null,null,{"$f":"ROW(INDIRECT(MID(_xlfn.FORMULATEXT(C147),2,LEN(_xlfn.FORMULATEXT(C147)))))","v":125},"D.10 Planned use of collected funds or other tokens","Where applicable, planned use of any funds or other crypto-assets collected","text","",""]
[{"$f":"IF(Table2!E126=\"\",\"/*\",\"\")","v":"/*"},"mica:InformationAboutOfferToPublicOfOtherTokensOrTheirAdmissionToTradingAbstract",{"$f":"Table2!E126","v":0},"2025-01-01","2025-12-31",null,null,null,null,null,null,null,null,null,null,null,null,null,null,null,null,null,null,null,null,null,{"$f":"ROW(INDIRECT(MID(_xlfn.FORMULATEXT(C148),2,LEN(_xlfn.FORMULATEXT(C148)))))","v":126},"Part E - Information about offer to public of other tokens or their admission to trading","","","",""]
[{"$f":"IF(Table2!E127=\"\",\"/*\",\"\")","v":""},"mica:PublicOfferingOrAdmissionToTrading",{"$f":"Table2!E127","v":"-- Select value --"},"2025-01-01","2025-12-31",null,null,null,null,null,null,null,null,null,null,null,null,null,null,null,null,null,null,null,null,null,{"$f":"ROW(INDIRECT(MID(_xlfn.FORMULATEXT(C149),2,LEN(_xlfn.FORMULATEXT(C149)))))","v":127},"E.1 Public offering or admission to trading","Indication as to whether the crypto-asset white paper concerns an offer to the public of crypto-assets or their admission to trading","enumeration","error","The value of \"E.1 Public offering and or admission to trading\" must be provided."]
[{"$f":"IF(Table2!E128=\"\",\"/*\",\"\")","v":""},"mica:ReasonsForPublicOfferOrAdmissionToTradingExplanatory",{"$f":"Table2!E128","v":" Ex: Here is a sample text... (textBlock format)"},"2025-01-01","2025-12-31",null,null,null,null,null,null,null,null,null,null,null,null,null,null,null,null,null,null,null,null,null,{"$f":"ROW(INDIRECT(MID(_xlfn.FORMULATEXT(C150),2,LEN(_xlfn.FORMULATEXT(C150)))))","v":128},"E.2 Reasons for public offer or admission to trading","The reasons for the offer to the public or for seeking admission to trading, including the planned use of the funds or other crypto assets collected","textBlock","error","The value of \"E.2 Reasons for public offer or admission to trading\" must be provided."]
[{"$f":"IF(Table2!E129=\"\",\"/*\",\"\")","v":"/*"},"mica:FundraisingTargetDetailsAbstract",{"$f":"Table2!E129","v":0},"2025-01-01","2025-12-31",null,null,null,null,null,null,null,null,null,null,null,null,null,null,null,null,null,null,null,null,null,{"$f":"ROW(INDIRECT(MID(_xlfn.FORMULATEXT(C151),2,LEN(_xlfn.FORMULATEXT(C151)))))","v":129},"E.3 Fundraising target","Where applicable, the amount that the offer to the public intends to raise in funds or in any other crypto-asset in an official currency or any other crypto-assets","","error\r\nerror\r\nwarning","If \"E.3 Fundraising target / Target expressed in digital token identifier\" is provided with a fact value, then \"E.3 Fundraising target / Target expressed in units\" must be provided with a fact value.\r\nIf \"E.3 Fundraising target / Target expressed in units\" is provided with a fact value, then \"E.3 Fundraising target / Target expressed in digital token identifier\" must be provided with a fact value.\r\nIf \"E.1 Public offering or admission to trading\" is set with 'OTPC' value, then \"E.3 Fund raising target\" should be either expressed in currency or unit (and then provided with the DTI value)."]
[{"$f":"IF(Table2!E130=\"\",\"/*\",\"\")","v":""},"mica:FundraisingTargetExpressedInCurrency",{"$f":"Table2!E130","v":" Ex: 18.16"},"2025-01-01","2025-12-31",{"$f":"_xlfn.CONCAT(\"iso4217:\",Table2!F130)","v":"iso4217:EUR"},"INF","0",null,null,null,null,null,null,null,null,null,null,null,null,null,null,null,null,null,null,{"$f":"ROW(INDIRECT(MID(_xlfn.FORMULATEXT(C152),2,LEN(_xlfn.FORMULATEXT(C152)))))","v":130},"Target expressed in currency","","monetary","",""]
[{"$f":"IF(Table2!E131=\"\",\"/*\",\"\")","v":""},"mica:FundraisingTargetExpressedInUnits",{"$f":"Table2!E131","v":" Ex: 27.1018"},"2025-01-01","2025-12-31","xbrli:pure","INF","0",null,null,null,null,null,null,null,null,null,null,null,null,null,null,null,null,null,null,{"$f":"ROW(INDIRECT(MID(_xlfn.FORMULATEXT(C153),2,LEN(_xlfn.FORMULATEXT(C153)))))","v":131},"Target expressed in units","","decimal","",""]
[{"$f":"IF(Table2!E132=\"\",\"/*\",\"\")","v":""},"mica:FundraisingTargetExpressedInUnitsDigitalTokenIdentifier",{"$f":"Table2!E132","v":" Ex: Here is a sample text... (text format)"},"2025-01-01","2025-12-31",null,null,null,null,null,null,null,null,null,null,null,null,null,null,null,null,null,null,null,null,null,{"$f":"ROW(INDIRECT(MID(_xlfn.FORMULATEXT(C154),2,LEN(_xlfn.FORMULATEXT(C154)))))","v":132},"Target expressed in digital token identifier","","text","",""]
[{"$f":"IF(Table2!E133=\"\",\"/*\",\"\")","v":"/*"},"mica:MinimumSubscriptionGoalsDetailsAbstract",{"$f":"Table2!E133","v":0},"2025-01-01","2025-12-31",null,null,null,null,null,null,null,null,null,null,null,null,null,null,null,null,null,null,null,null,null,{"$f":"ROW(INDIRECT(MID(_xlfn.FORMULATEXT(C155),2,LEN(_xlfn.FORMULATEXT(C155)))))","v":133},"E.4 Minimum subscription goals","Where applicable, minimum subscription goals set for the offer to the public of the crypto-assets in an official currency or any other crypto-assets","","error\r\nerror","If \"E.4 Fundraising target / Target expressed in digital token identifier\" is provided with a fact value, then \"E.4 Fundraising target / Target expressed in units\" must be provided with a fact value.\r\nIf \"E.4 Maximum subscription goals / Goals expressed in units\" is provided with a fact value, then \"E.4 Maximum subscription goals / Goals expressed in digital token identifier\" must be provided with a fact value."]
[{"$f":"IF(Table2!E134=\"\",\"/*\",\"\")","v":""},"mica:MinimumSubscriptionGoalExpressedInCurrency",{"$f":"Table2!E134","v":" Ex: 18.16"},"2025-01-01","2025-12-31",{"$f":"_xlfn.CONCAT(\"iso4217:\",Table2!F134)","v":"iso4217:EUR"},"INF","0",null,null,null,null,null,null,null,null,null,null,null,null,null,null,null,null,null,null,{"$f":"ROW(INDIRECT(MID(_xlfn.FORMULATEXT(C156),2,LEN(_xlfn.FORMULATEXT(C156)))))","v":134},"Goals expressed in currency","","monetary","",""]
[{"$f":"IF(Table2!E135=\"\",\"/*\",\"\")","v":""},"mica:MinimumSubscriptionGoalExpressedInUnits",{"$f":"Table2!E135","v":" Ex: 27.1018"},"2025-01-01","2025-12-31","xbrli:pure","INF","0",null,null,null,null,null,null,null,null,null,null,null,null,null,null,null,null,null,null,{"$f":"ROW(INDIRECT(MID(_xlfn.FORMULATEXT(C157),2,LEN(_xlfn.FORMULATEXT(C157)))))","v":135},"Goals expressed in units","","decimal","",""]
[{"$f":"IF(Table2!E136=\"\",\"/*\",\"\")","v":""},"mica:MinimumSubscriptionGoalExpressedInUnitsDigitalTokenIdentifier",{"$f":"Table2!E136","v":" Ex: Here is a sample text... (text format)"},"2025-01-01","2025-12-31",null,null,null,null,null,null,null,null,null,null,null,null,null,null,null,null,null,null,null,null,null,{"$f":"ROW(INDIRECT(MID(_xlfn.FORMULATEXT(C158),2,LEN(_xlfn.FORMULATEXT(C158)))))","v":136},"Goals expressed in digital token identifier","","text","",""]
[{"$f":"IF(Table2!E137=\"\",\"/*\",\"\")","v":"/*"},"mica:MaximumSubscriptionGoalsDetailsAbstract",{"$f":"Table2!E137","v":0},"2025-01-01","2025-12-31",null,null,null,null,null,null,null,null,null,null,null,null,null,null,null,null,null,null,null,null,null,{"$f":"ROW(INDIRECT(MID(_xlfn.FORMULATEXT(C159),2,LEN(_xlfn.FORMULATEXT(C159)))))","v":137},"E.5 Maximum subscription goals","Where applicable, any maximum target subscription goals set for the offer to the public of the crypto-assets in an official currency or any other crypto-assets","","error\r\nerror","If \"E.5 Maximum subscription goals / Goals expressed in digital token identifier\" is provided with a fact value, then \"E.5 Maximum subscription goals / Goals expressed in units\" must be provided with a fact value.\r\nIf \"E.5 Maximum subscription goals / Goals expressed in units\" is provided with a fact value, then \"E.5 Maximum subscription goals / Goals expressed in digital token identifier\" must be provided with a fact value."]
[{"$f":"IF(Table2!E138=\"\",\"/*\",\"\")","v":""},"mica:MaximumSubscriptionGoalsExpressedInCurrency",{"$f":"Table2!E138","v":" Ex: 18.16"},"2025-01-01","2025-12-31",{"$f":"_xlfn.CONCAT(\"iso4217:\",Table2!F138)","v":"iso4217:EUR"},"INF","0",null,null,null,null,null,null,null,null,null,null,null,null,null,null,null,null,null,null,{"$f":"ROW(INDIRECT(MID(_xlfn.FORMULATEXT(C160),2,LEN(_xlfn.FORMULATEXT(C160)))))","v":138},"Goasl expressed in currency","","monetary","",""]
[{"$f":"IF(Table2!E139=\"\",\"/*\",\"\")","v":""},"mica:MaximumSubscriptionGoalsExpressedInUnits",{"$f":"Table2!E139","v":" Ex: 27.1018"},"2025-01-01","2025-12-31","xbrli:pure","INF","0",null,null,null,null,null,null,null,null,null,null,null,null,null,null,null,null,null,null,{"$f":"ROW(INDIRECT(MID(_xlfn.FORMULATEXT(C161),2,LEN(_xlfn.FORMULATEXT(C161)))))","v":139},"Goals expressed in units","","decimal","",""]
[{"$f":"IF(Table2!E140=\"\",\"/*\",\"\")","v":""},"mica:MaximumSubscriptionGoalsExpressedInUnitsDigitalTokenIdentifier",{"$f":"Table2!E140","v":" Ex: Here is a sample text... (text format)"},"2025-01-01","2025-12-31",null,null,null,null,null,null,null,null,null,null,null,null,null,null,null,null,null,null,null,null,null,{"$f":"ROW(INDIRECT(MID(_xlfn.FORMULATEXT(C162),2,LEN(_xlfn.FORMULATEXT(C162)))))","v":140},"Goals expressed in digital token identifier","","text","",""]
[{"$f":"IF(Table2!E141=\"\",\"/*\",\"\")","v":""},"mica:OversubscriptionAcceptanceIndicator",{"$f":"Table2!E141","v":"true/false"},"2025-01-01","2025-12-31",null,null,null,null,null,null,null,null,null,null,null,null,null,null,null,null,null,null,null,null,null,{"$f":"ROW(INDIRECT(MID(_xlfn.FORMULATEXT(C163),2,LEN(_xlfn.FORMULATEXT(C163)))))","v":141},"E.6 Oversubscription acceptance","Indication whether oversubscriptions are accepted","boolean","warning","If \"E.1 Public offering or admission to trading\" is set with 'OTPC' value, then \"E.6 Oversubscription acceptance\" should be provided with a fact value."]
[{"$f":"IF(Table2!E142=\"\",\"/*\",\"\")","v":""},"mica:OversubscriptionAllocationExplanatory",{"$f":"Table2!E142","v":" Ex: Here is a sample text... (text format)"},"2025-01-01","2025-12-31",null,null,null,null,null,null,null,null,null,null,null,null,null,null,null,null,null,null,null,null,null,{"$f":"ROW(INDIRECT(MID(_xlfn.FORMULATEXT(C164),2,LEN(_xlfn.FORMULATEXT(C164)))))","v":142},"E.7 Oversubscription allocation","Where oversubscriptions are accepted, a description of how they are allocated","text","error","If \"E.6 Oversubscription acceptance\"  is set to true , then \"E.7 Oversubscription allocation\" must be provided with a fact value."]
[{"$f":"IF(Table2!E143=\"\",\"/*\",\"\")","v":"/*"},"mica:IssuePriceDetailsAbstract",{"$f":"Table2!E143","v":0},"2025-01-01","2025-12-31",null,null,null,null,null,null,null,null,null,null,null,null,null,null,null,null,null,null,null,null,null,{"$f":"ROW(INDIRECT(MID(_xlfn.FORMULATEXT(C165),2,LEN(_xlfn.FORMULATEXT(C165)))))","v":143},"Issue price details","","","",""]
[{"$f":"IF(Table2!E144=\"\",\"/*\",\"\")","v":""},"mica:IssuePrice",{"$f":"Table2!E144","v":" Ex: 27.1018"},"2025-01-01","2025-12-31","xbrli:pure","INF","0",null,null,null,null,null,null,null,null,null,null,null,null,null,null,null,null,null,null,{"$f":"ROW(INDIRECT(MID(_xlfn.FORMULATEXT(C166),2,LEN(_xlfn.FORMULATEXT(C166)))))","v":144},"E.8 Issue price","The issue price of the crypto-asset being offered to the public in an official currency or any other crypto-assets","decimal","error","If \"E.1 Public offering or admission to trading\" is set with 'OTPC' value, then \"E.8 Issue price\" must be provided with a fact value."]
[{"$f":"IF(Table2!E145=\"\",\"/*\",\"\")","v":""},"mica:OfficialCurrencyDeterminingIssuePrice",{"$f":"Table2!E145","v":"-- Select value --"},"2025-01-01","2025-12-31",null,null,null,null,null,null,null,null,null,null,null,null,null,null,null,null,null,null,null,null,null,{"$f":"ROW(INDIRECT(MID(_xlfn.FORMULATEXT(C167),2,LEN(_xlfn.FORMULATEXT(C167)))))","v":145},"E.9 Official currency determining issue price","The official currency or any other crypto-assets on the basis of which the issue price of the crypto asset is being offered to the public","enumeration","error\r\nerror","If \"E.8 Issue price\" is provided with a fact value and \"E.9 Any other tokens determining issue price\" is not provided with a fact value, then \"E.9 Official currency determining issue price\" must be provided with a fact value.\r\nIf \"E.8 Issue price\" is provided with a fact value and \"E.9 Official currency determining issue price\" is not provided with a fact value, then \"E.9 Any other tokens determining issue price\" must be provided with a fact value."]
[{"$f":"IF(Table2!E146=\"\",\"/*\",\"\")","v":""},"mica:AnyOtherOtherTokensDeterminingIssuePrice",{"$f":"Table2!E146","v":" Ex: Here is a sample text... (text format)"},"2025-01-01","2025-12-31",null,null,null,null,null,null,null,null,null,null,null,null,null,null,null,null,null,null,null,null,null,{"$f":"ROW(INDIRECT(MID(_xlfn.FORMULATEXT(C168),2,LEN(_xlfn.FORMULATEXT(C168)))))","v":146},"E.9 Any other tokens determining issue price","","text","",""]
[{"$f":"IF(Table2!E147=\"\",\"/*\",\"\")","v":"/*"},"mica:SubscriptionFee",{"$f":"Table2!E147","v":0},"2025-01-01","2025-12-31",null,null,null,null,null,null,null,null,null,null,null,null,null,null,null,null,null,null,null,null,null,{"$f":"ROW(INDIRECT(MID(_xlfn.FORMULATEXT(C169),2,LEN(_xlfn.FORMULATEXT(C169)))))","v":147},"E.10 Subscription fee","Any applicable subscription fee in an official currency or any other crypto-assets","","warning\r\nerror\r\nerror","If \"E.1 Public offering or admission to trading\" is set with 'OTPC' value and \"E.10 Subscription fee / Fee expressed in digital token identifier\"  is not provided with a fact value, then \"E.10 Subscription fee / Fee expressed in currency\" should be provided with a fact value.\r\nIf \"E.1 Public offering or admission to trading\" is set with 'OTPC' value and \"E.10 Subscription fee / Fee expressed in digital token identifier\"  is provided with a fact value, then \"E.10 Subscription fee / Fee expressed in units\" must be provided with a fact value.\r\nIf \"E.1 Public offering or admission to trading\" is set with 'OTPC' value and \"E.10 Subscription fee / Fee expressed in units\"  is provided with a fact value, then \"E.10 Subscription fee / Fee expressed in digital token identifier\" must be provided with a fact value."]
[{"$f":"IF(Table2!E148=\"\",\"/*\",\"\")","v":""},"mica:SubscriptionFeeExpressedInCurrency",{"$f":"Table2!E148","v":" Ex: 18.16"},"2025-01-01","2025-12-31",{"$f":"_xlfn.CONCAT(\"iso4217:\",Table2!F148)","v":"iso4217:EUR"},"INF","0",null,null,null,null,null,null,null,null,null,null,null,null,null,null,null,null,null,null,{"$f":"ROW(INDIRECT(MID(_xlfn.FORMULATEXT(C170),2,LEN(_xlfn.FORMULATEXT(C170)))))","v":148},"Fee expressed in currency","","monetary","",""]
[{"$f":"IF(Table2!E149=\"\",\"/*\",\"\")","v":""},"mica:SubscriptionFeeExpressedInUnits",{"$f":"Table2!E149","v":" Ex: 27.1018"},"2025-01-01","2025-12-31","xbrli:pure","INF","0",null,null,null,null,null,null,null,null,null,null,null,null,null,null,null,null,null,null,{"$f":"ROW(INDIRECT(MID(_xlfn.FORMULATEXT(C171),2,LEN(_xlfn.FORMULATEXT(C171)))))","v":149},"Fee expressed in units","","decimal","",""]
[{"$f":"IF(Table2!E150=\"\",\"/*\",\"\")","v":""},"mica:SubscriptionFeeExpressedInUnitsDigitalTokenIdentifier",{"$f":"Table2!E150","v":" Ex: Here is a sample text... (text format)"},"2025-01-01","2025-12-31",null,null,null,null,null,null,null,null,null,null,null,null,null,null,null,null,null,null,null,null,null,{"$f":"ROW(INDIRECT(MID(_xlfn.FORMULATEXT(C172),2,LEN(_xlfn.FORMULATEXT(C172)))))","v":150},"Fee expressed in digital token identifier","","text","",""]
[{"$f":"IF(Table2!E151=\"\",\"/*\",\"\")","v":""},"mica:OfferPriceDeterminationMethodExplanatory",{"$f":"Table2!E151","v":" Ex: Here is a sample text... (text format)"},"2025-01-01","2025-12-31",null,null,null,null,null,null,null,null,null,null,null,null,null,null,null,null,null,null,null,null,null,{"$f":"ROW(INDIRECT(MID(_xlfn.FORMULATEXT(C173),2,LEN(_xlfn.FORMULATEXT(C173)))))","v":151},"E.11 Offer price determination method","Method in accordance with which the offer price will be determined","text","error","If \"E.1 Public offering or admission to trading\" is set with 'OTPC' value, then \"E.11 Offer price determination method\" must be provided with a fact value."]
[{"$f":"IF(Table2!E152=\"\",\"/*\",\"\")","v":""},"mica:TotalNumberOfOfferedOrTradedOtherTokens",{"$f":"Table2!E152","v":" Ex: 27"},null,"2025-12-31","xbrli:pure","0","0",null,null,null,null,null,null,null,null,null,null,null,null,null,null,null,null,null,null,{"$f":"ROW(INDIRECT(MID(_xlfn.FORMULATEXT(C174),2,LEN(_xlfn.FORMULATEXT(C174)))))","v":152},"E.12 Total number of offered or traded other tokens","Where applicable, the total number of crypto-assets to be offered to the public or admitted to trading","integer","",""]
[{"$f":"IF(Table2!E153=\"\",\"/*\",\"\")","v":""},"mica:TargetedHoldersForOtherToken",{"$f":"Table2!E153","v":"-- Select value --"},"2025-01-01","2025-12-31",null,null,null,null,null,null,null,null,null,null,null,null,null,null,null,null,null,null,null,null,null,{"$f":"ROW(INDIRECT(MID(_xlfn.FORMULATEXT(C175),2,LEN(_xlfn.FORMULATEXT(C175)))))","v":153},"E.13 Targeted holders","Indication of the prospective holders targeted by the offer to the public of the crypto-asset or admission of such crypto-asset to trading","enumeration","error","If \"E.1 Public offering or admission to trading\" is set with 'OTPC' value, then \"E.13 Targeted holders\" must be provided with a fact value."]
[{"$f":"IF(Table2!E154=\"\",\"/*\",\"\")","v":""},"mica:HolderRestrictionsExplanatory",{"$f":"Table2!E154","v":" Ex: Here is a sample text... (text format)"},"2025-01-01","2025-12-31",null,null,null,null,null,null,null,null,null,null,null,null,null,null,null,null,null,null,null,null,null,{"$f":"ROW(INDIRECT(MID(_xlfn.FORMULATEXT(C176),2,LEN(_xlfn.FORMULATEXT(C176)))))","v":154},"E.14 Holder restrictions","Indication of any restriction as regards the type of holders for such crypto-asset","text","error","If \"E.1 Public offering or admission to trading\" is set with 'OTPC' value, then \"E.14 Holder restrictions\" must be provided with a fact value."]
[{"$f":"IF(Table2!E155=\"\",\"/*\",\"\")","v":""},"mica:ReimbursementNotice",{"$f":"Table2!E155","v":"-- Select value --"},"2025-01-01","2025-12-31","true",null,null,null,null,null,null,null,null,null,null,null,null,null,null,null,null,null,null,null,null,{"$f":"ROW(INDIRECT(MID(_xlfn.FORMULATEXT(C177),2,LEN(_xlfn.FORMULATEXT(C177)))))","v":155},"E.15 Reimbursement notice","‘Purchasers participating in the offer to the public of crypto-asset will be able to be reimbursed if the minimum target subscription goal is not reached at the end of the offer to the public, if they exercise the right to withdrawal provided for in Article 13 of Regulation (EU) 2023/1114 of the European Parliament and of the Council or if the offer is cancelled’","boolean true","error","If \"E.1 Public offering or admission to trading\" is set with 'OTPC' value, then \"E.15 Reimbursment notice\" must be provided with a fact value."]
[{"$f":"IF(Table2!E156=\"\",\"/*\",\"\")","v":""},"mica:RefundMechanismExplanatory",{"$f":"Table2!E156","v":" Ex: Here is a sample text... (textBlock format)"},"2025-01-01","2025-12-31",null,null,null,null,null,null,null,null,null,null,null,null,null,null,null,null,null,null,null,null,null,{"$f":"ROW(INDIRECT(MID(_xlfn.FORMULATEXT(C178),2,LEN(_xlfn.FORMULATEXT(C178)))))","v":156},"E.16 Refund mechanism","Detailed description of the refund mechanism","textBlock","error","If \"E.1 Public offering or admission to trading\" is set with 'OTPC' value, then \"E.16 Refund mechanism\" must be provided with a fact value."]
[{"$f":"IF(Table2!E157=\"\",\"/*\",\"\")","v":""},"mica:RefundTimelineExplanatory",{"$f":"Table2!E157","v":" Ex: Here is a sample text... (text format)"},"2025-01-01","2025-12-31",null,null,null,null,null,null,null,null,null,null,null,null,null,null,null,null,null,null,null,null,null,{"$f":"ROW(INDIRECT(MID(_xlfn.FORMULATEXT(C179),2,LEN(_xlfn.FORMULATEXT(C179)))))","v":157},"E.17 Refund timeline","Expected timeline of when the refunds will be completed","text","error","If \"E.1 Public offering or admission to trading\" is set with 'OTPC' value, then \"E.17 Refund timeline\" must be provided with a fact value."]
[{"$f":"IF(Table2!E158=\"\",\"/*\",\"\")","v":""},"mica:DescriptionOfOtherTokenProjectPhasesExplanatory",{"$f":"Table2!E158","v":" Ex: Here is a sample text... (textBlock format)"},"2025-01-01","2025-12-31",null,null,null,null,null,null,null,null,null,null,null,null,null,null,null,null,null,null,null,null,null,{"$f":"ROW(INDIRECT(MID(_xlfn.FORMULATEXT(C180),2,LEN(_xlfn.FORMULATEXT(C180)))))","v":158},"E.18 Offer phases","Information about the various phases of the offer to the public of the crypto-asset","textBlock","warning","If \"E.1 Public offering or admission to trading\" is set with 'OTPC' value, then \"E.18 Offer phases\" should be provided with a fact value."]
[{"$f":"IF(Table2!E159=\"\",\"/*\",\"\")","v":""},"mica:DisclosureOfEarlyPurchaseDiscountExplanatory",{"$f":"Table2!E159","v":" Ex: Here is a sample text... (textBlock format)"},"2025-01-01","2025-12-31",null,null,null,null,null,null,null,null,null,null,null,null,null,null,null,null,null,null,null,null,null,{"$f":"ROW(INDIRECT(MID(_xlfn.FORMULATEXT(C181),2,LEN(_xlfn.FORMULATEXT(C181)))))","v":159},"E.19 Early purchase discount","Information on discounted purchase price for early purchasers of the crypto-asset - (pre-public sales) and in the case of discounted purchase price for some purchasers, an explanation as to why the purchase prices may be different and a description of the impact on the other investors","textBlock","warning","If \"E.1 Public offering or admission to trading\" is set with 'OTPC' value, then \"E.19 Early purchase discount\" should be provided with a fact value."]
[{"$f":"IF(Table2!E160=\"\",\"/*\",\"\")","v":""},"mica:TimelimitedOfferIndicator",{"$f":"Table2!E160","v":"true/false"},null,"2025-12-31",null,null,null,null,null,null,null,null,null,null,null,null,null,null,null,null,null,null,null,null,null,{"$f":"ROW(INDIRECT(MID(_xlfn.FORMULATEXT(C182),2,LEN(_xlfn.FORMULATEXT(C182)))))","v":160},"E.20 Time-limited offer","Indication whether the offer is time-limited","boolean","warning","If \"E.1 Public offering or admission to trading\" is set with 'OTPC' value, then \"E.20 Time-limited offer\" should be provided with a fact value."]
[{"$f":"IF(Table2!E161=\"\",\"/*\",\"\")","v":""},"mica:SubscriptionPeriodBeginning",{"$f":"Table2!E161","v":"YYYY-MM-DD"},null,"2025-12-31",null,null,null,null,null,null,null,null,null,null,null,null,null,null,null,null,null,null,null,null,null,{"$f":"ROW(INDIRECT(MID(_xlfn.FORMULATEXT(C183),2,LEN(_xlfn.FORMULATEXT(C183)))))","v":161},"E.21 Subscription period beginning","For time-limited offers, the beginning of the subscription period during which the offer to the public is open","date","warning","If \"E.20 Time-limited offer\" is set to true, then \"E.21 Subscription period beginning\" should be provided with a fact value."]
[{"$f":"IF(Table2!E162=\"\",\"/*\",\"\")","v":""},"mica:SubscriptionPeriodEnd",{"$f":"Table2!E162","v":"YYYY-MM-DD"},null,"2025-12-31",null,null,null,null,null,null,null,null,null,null,null,null,null,null,null,null,null,null,null,null,null,{"$f":"ROW(INDIRECT(MID(_xlfn.FORMULATEXT(C184),2,LEN(_xlfn.FORMULATEXT(C184)))))","v":162},"E.22 Subscription period end","For time-limited offers, the end of the subscription period during which the offer to the public is open","date","warning\r\nwarning","If \"E.20 Time-limited offer\" is set to true, then \"E.22 Subscription period end\" should be provided with a fact value.\r\nThe \"E.22 Subscription period end\" should be greater than the \"E.21 Subscription period beginning\"."]
[{"$f":"IF(Table2!E163=\"\",\"/*\",\"\")","v":""},"mica:SafeguardingArrangementsForOfferedFundsOrOtherTokensExplanatory",{"$f":"Table2!E163","v":" Ex: Here is a sample text... (textBlock format)"},"2025-01-01","2025-12-31",null,null,null,null,null,null,null,null,null,null,null,null,null,null,null,null,null,null,null,null,null,{"$f":"ROW(INDIRECT(MID(_xlfn.FORMULATEXT(C185),2,LEN(_xlfn.FORMULATEXT(C185)))))","v":163},"E.23 Safeguarding arrangements for offered funds or other tokens","The arrangements to safeguard funds or other crypto-assets as referred to in Article 10 of Regulation (EU) 2023/1114 during the time-limited offer to the public or during the withdrawal period","textBlock","warning","If \"E.20 Time-limited offer\" is set to true, then \"E.23 Safeguarding arrangements for offered funds/crypto-assets\" should be provided with a fact value."]
[{"$f":"IF(Table2!E164=\"\",\"/*\",\"\")","v":""},"mica:PaymentMethodsForOtherTokenPurchaseExplanatory",{"$f":"Table2!E164","v":" Ex: Here is a sample text... (textBlock format)"},"2025-01-01","2025-12-31",null,null,null,null,null,null,null,null,null,null,null,null,null,null,null,null,null,null,null,null,null,{"$f":"ROW(INDIRECT(MID(_xlfn.FORMULATEXT(C186),2,LEN(_xlfn.FORMULATEXT(C186)))))","v":164},"E.24 Payment methods for other token purchase","Methods of payment to purchase the crypto-assets","textBlock","error","If \"E.1 Public offering or admission to trading\" is set with 'OTPC' value, then \"E.24 Payment methods for crypto-asset purchase\" must be provided with a fact value."]
[{"$f":"IF(Table2!E165=\"\",\"/*\",\"\")","v":""},"mica:ValueTransferMethodsForReimbursementExplanatory",{"$f":"Table2!E165","v":" Ex: Here is a sample text... (textBlock format)"},"2025-01-01","2025-12-31",null,null,null,null,null,null,null,null,null,null,null,null,null,null,null,null,null,null,null,null,null,{"$f":"ROW(INDIRECT(MID(_xlfn.FORMULATEXT(C187),2,LEN(_xlfn.FORMULATEXT(C187)))))","v":165},"E.25 Value transfer methods for reimbursement","Methods of transfer of the value to the purchasers when they are entitled to be reimbursed","textBlock","error","If \"E.1 Public offering or admission to trading\" is set with 'OTPC' value, then \"E.25 Value transfer methods for reimbursement\" must be provided with a fact value."]
[{"$f":"IF(Table2!E166=\"\",\"/*\",\"\")","v":""},"mica:RighOfWithdrawalExplanatory",{"$f":"Table2!E166","v":" Ex: Here is a sample text... (textBlock format)"},"2025-01-01","2025-12-31",null,null,null,null,null,null,null,null,null,null,null,null,null,null,null,null,null,null,null,null,null,{"$f":"ROW(INDIRECT(MID(_xlfn.FORMULATEXT(C188),2,LEN(_xlfn.FORMULATEXT(C188)))))","v":166},"E.26 Right of withdrawal","In the case of offers to the public , information on the right of withdrawal as referred to in Article 13 of Regulation (EU) 2023/1114","textBlock","warning","If \"E.1 Public offering or admission to trading\" is set with 'OTPC' value, then \"E.26 Right of withdrawal\" should be provided with a fact value."]
[{"$f":"IF(Table2!E167=\"\",\"/*\",\"\")","v":""},"mica:TransferOfPurchasedOtherTokensExplanatory",{"$f":"Table2!E167","v":" Ex: Here is a sample text... (textBlock format)"},"2025-01-01","2025-12-31",null,null,null,null,null,null,null,null,null,null,null,null,null,null,null,null,null,null,null,null,null,{"$f":"ROW(INDIRECT(MID(_xlfn.FORMULATEXT(C189),2,LEN(_xlfn.FORMULATEXT(C189)))))","v":167},"E.27 Transfer of purchased other tokens","Manner of transferring purchased crypto-assets to the holders","textBlock","error","If \"E.1 Public offering or admission to trading\" is set with 'OTPC' value, then \"E.27 Transfer of purchased other tokens\" must be provided with a fact value."]
[{"$f":"IF(Table2!E168=\"\",\"/*\",\"\")","v":""},"mica:TransferTimeSchedule",{"$f":"Table2!E168","v":" Ex: Here is a sample text... (text format)"},"2025-01-01","2025-12-31",null,null,null,null,null,null,null,null,null,null,null,null,null,null,null,null,null,null,null,null,null,{"$f":"ROW(INDIRECT(MID(_xlfn.FORMULATEXT(C190),2,LEN(_xlfn.FORMULATEXT(C190)))))","v":168},"E.28 Transfer time schedule","Time schedule of transferring purchased crypto-assets to the holders","text","error","If \"E.1 Public offering or admission to trading\" is set with 'OTPC' value, then \"E.28 Transfer time schedule\"  must be provided with a fact value."]
[{"$f":"IF(Table2!E169=\"\",\"/*\",\"\")","v":""},"mica:PurchasersTechnicalRequirementsExplanatory",{"$f":"Table2!E169","v":" Ex: Here is a sample text... (textBlock format)"},"2025-01-01","2025-12-31",null,null,null,null,null,null,null,null,null,null,null,null,null,null,null,null,null,null,null,null,null,{"$f":"ROW(INDIRECT(MID(_xlfn.FORMULATEXT(C191),2,LEN(_xlfn.FORMULATEXT(C191)))))","v":169},"E.29 Purchaser's technical requirements","Information about technical requirements that the purchaser is required to fulfil to hold the crypto-assets","textBlock","error","If \"E.1 Public offering or admission to trading\" is set with 'OTPC' value, then \"E.29 Purchaser's technical requirements\" must be provided with a fact value."]
[{"$f":"IF(Table2!E170=\"\",\"/*\",\"\")","v":"/*"},"mica:OtherTokenServiceProviderCharacteristicsAbstract",{"$f":"Table2!E170","v":0},"2025-01-01","2025-12-31",null,null,null,null,null,null,null,null,null,null,null,null,null,null,null,null,null,null,null,null,null,{"$f":"ROW(INDIRECT(MID(_xlfn.FORMULATEXT(C192),2,LEN(_xlfn.FORMULATEXT(C192)))))","v":170},"Other token services provider characteristics","","","",""]
[{"$f":"IF(Table2!E171=\"\",\"/*\",\"\")","v":""},"mica:NameOfOtherTokenServiceProvider",{"$f":"Table2!E171","v":" Ex: Here is a sample text... (text format)"},"2025-01-01","2025-12-31",null,null,null,null,null,null,null,null,null,null,null,null,null,null,null,null,null,null,null,null,null,{"$f":"ROW(INDIRECT(MID(_xlfn.FORMULATEXT(C193),2,LEN(_xlfn.FORMULATEXT(C193)))))","v":171},"E.30 Other token service provider (CASP) name","Where applicable, the name of the crypto-asset service provider (CASP) in charge of the placing of crypto-assets","text","error","If \"E.1 Public offering or admission to trading\" is set with 'OTPC' value, then \"E.30 Other token service provider (CASP) name\" must be provided with a fact value."]
[{"$f":"IF(Table2!E172=\"\",\"/*\",\"\")","v":""},"mica:OtherTokenServiceProviderIdentifier",{"$f":"Table2!E172","v":" Ex: 999999A9AA99AAAAAA99"},"2025-01-01","2025-12-31",null,null,null,null,null,null,null,null,null,null,null,null,null,null,null,null,null,null,null,null,null,{"$f":"ROW(INDIRECT(MID(_xlfn.FORMULATEXT(C194),2,LEN(_xlfn.FORMULATEXT(C194)))))","v":172},"E.31 CASP identifier","The legal entity identifier of the crypto-asset service provider in charge of the placing of crypto-assets","LEI","error","If \"E.1 Public offering or admission to trading\" is set with 'OTPC' value, then \"E.31 CASP identifier\" must be provided with a fact value."]
[{"$f":"IF(Table2!E173=\"\",\"/*\",\"\")","v":""},"mica:PlacementFormForOtherToken",{"$f":"Table2!E173","v":"-- Select value --"},"2025-01-01","2025-12-31",null,null,null,null,null,null,null,null,null,null,null,null,null,null,null,null,null,null,null,null,null,{"$f":"ROW(INDIRECT(MID(_xlfn.FORMULATEXT(C195),2,LEN(_xlfn.FORMULATEXT(C195)))))","v":173},"E.32 Placement form","Where applicable, the form of the placement","enumeration","error","If \"E.1 Public offering or admission to trading\" is set with 'OTPC' value, then \"E.32 Placement form\" must be provided with a fact value."]
[{"$f":"IF(Table2!E174=\"\",\"/*\",\"\")","v":"/*"},"mica:TradingPlatformsCharacteristicsAbstract",{"$f":"Table2!E174","v":0},"2025-01-01","2025-12-31",null,null,null,null,null,null,null,null,null,null,null,null,null,null,null,null,null,null,null,null,null,{"$f":"ROW(INDIRECT(MID(_xlfn.FORMULATEXT(C196),2,LEN(_xlfn.FORMULATEXT(C196)))))","v":174},"Trading platforms characteristics","","","",""]
[{"$f":"IF(Table2!E175=\"\",\"/*\",\"\")","v":""},"mica:TradingPlatformsName",{"$f":"Table2!E175","v":" Ex: Here is a sample text... (text format)"},"2025-01-01","2025-12-31",null,null,null,null,null,null,null,null,null,null,null,null,null,null,null,null,null,null,null,null,null,{"$f":"ROW(INDIRECT(MID(_xlfn.FORMULATEXT(C197),2,LEN(_xlfn.FORMULATEXT(C197)))))","v":175},"E.33 Trading platforms name","Where applicable, the name of the trading platforms for crypto-assets where admission to trading is sought","text","error","If \"E.1 Public offering or admission to trading\" is set with 'ATTR' value, then \"E.33 Trading plaforms name\" must be provided with a fact value."]
[{"$f":"IF(Table2!E176=\"\",\"/*\",\"\")","v":""},"mica:TradingPlatformsIdentifierCode",{"$f":"Table2!E176","v":" Ex: Here is a sample text... (text format)"},"2025-01-01","2025-12-31",null,null,null,null,null,null,null,null,null,null,null,null,null,null,null,null,null,null,null,null,null,{"$f":"ROW(INDIRECT(MID(_xlfn.FORMULATEXT(C198),2,LEN(_xlfn.FORMULATEXT(C198)))))","v":176},"E.34 Trading platforms market identifier code (MIC)","Segment MIC for the trading platform where the admission to trading of the crypto-assets is sought.","text","error","If \"E.1 Public offering or admission to trading\" is set with 'ATTR' value, then \"E.34 Trading plaforms market identifier code (MIC)\" must be provided with a fact value."]
[{"$f":"IF(Table2!E177=\"\",\"/*\",\"\")","v":""},"mica:TradingPlatformsAccessExplanatory",{"$f":"Table2!E177","v":" Ex: Here is a sample text... (text format)"},"2025-01-01","2025-12-31",null,null,null,null,null,null,null,null,null,null,null,null,null,null,null,null,null,null,null,null,null,{"$f":"ROW(INDIRECT(MID(_xlfn.FORMULATEXT(C199),2,LEN(_xlfn.FORMULATEXT(C199)))))","v":177},"E.35 Trading platforms access","Where applicable, information about how investors can access the trading platforms","text","warning","If \"E.1 Public offering or admission to trading\" is set with 'ATTR' value, then \"E.35 Trading platforms access\" should be provided with a fact value."]
[{"$f":"IF(Table2!E178=\"\",\"/*\",\"\")","v":""},"mica:DescriptionOfInvolvedCostsExplanatory",{"$f":"Table2!E178","v":" Ex: Here is a sample text... (textBlock format)"},"2025-01-01","2025-12-31",null,null,null,null,null,null,null,null,null,null,null,null,null,null,null,null,null,null,null,null,null,{"$f":"ROW(INDIRECT(MID(_xlfn.FORMULATEXT(C200),2,LEN(_xlfn.FORMULATEXT(C200)))))","v":178},"E.36 Involved costs","Where applicable, information about the costs involved in relation to the access of investors to the trading platforms","textBlock","warning","If \"E.1 Public offering or admission to trading\" is set with 'ATTR' value, then \"E.36 Involved costs\" should be provided with a fact value."]
[{"$f":"IF(Table2!E179=\"\",\"/*\",\"\")","v":""},"mica:DescriptionOfOfferExpensesExplanatory",{"$f":"Table2!E179","v":" Ex: Here is a sample text... (textBlock format)"},"2025-01-01","2025-12-31",null,null,null,null,null,null,null,null,null,null,null,null,null,null,null,null,null,null,null,null,null,{"$f":"ROW(INDIRECT(MID(_xlfn.FORMULATEXT(C201),2,LEN(_xlfn.FORMULATEXT(C201)))))","v":179},"E.37 Offer expenses","Expenses related to the offer to the public of crypto-assets, in an official currency or any other crypto-assets. If more than one type of offer expense, expenses should be presented in a tabular format","textBlock","error","If \"E.1 Public offering or admission to trading\" is set with 'ATTR' value, then \"E.37 Offer expenses\" must be provided with a fact value."]
[{"$f":"IF(Table2!E180=\"\",\"/*\",\"\")","v":""},"mica:InformationAboutPotentialConflictsOfInterestForOtherTokenExplanatory",{"$f":"Table2!E180","v":" Ex: Here is a sample text... (textBlock format)"},"2025-01-01","2025-12-31",null,null,null,null,null,null,null,null,null,null,null,null,null,null,null,null,null,null,null,null,null,{"$f":"ROW(INDIRECT(MID(_xlfn.FORMULATEXT(C202),2,LEN(_xlfn.FORMULATEXT(C202)))))","v":180},"E.38 Conflicts of interest","Potential conflicts of interest of the persons involved in the offer to the public or admission to trading, arising in relation to the offer or admission to trading","textBlock","error","If \"E.1 Public offering or admission to trading\" is set with 'ATTR' value, then \"E.38 Conflicts of interest\" must be provided with a fact value."]
[{"$f":"IF(Table2!E181=\"\",\"/*\",\"\")","v":""},"mica:ApplicableLawForOtherTokenOfferExplanatory",{"$f":"Table2!E181","v":" Ex: Here is a sample text... (textBlock format)"},"2025-01-01","2025-12-31",null,null,null,null,null,null,null,null,null,null,null,null,null,null,null,null,null,null,null,null,null,{"$f":"ROW(INDIRECT(MID(_xlfn.FORMULATEXT(C203),2,LEN(_xlfn.FORMULATEXT(C203)))))","v":181},"E.39 Applicable law","The law applicable to the offer to the public of the crypto-asset","textBlock","error","If \"E.1 Public offering or admission to trading\" is set with 'ATTR' value, then \"E.39 Applicable law\" must be provided with a fact value."]
[{"$f":"IF(Table2!E182=\"\",\"/*\",\"\")","v":""},"mica:CompetentCourtForOtherTokenOfferExplanatory",{"$f":"Table2!E182","v":" Ex: Here is a sample text... (textBlock format)"},"2025-01-01","2025-12-31",null,null,null,null,null,null,null,null,null,null,null,null,null,null,null,null,null,null,null,null,null,{"$f":"ROW(INDIRECT(MID(_xlfn.FORMULATEXT(C204),2,LEN(_xlfn.FORMULATEXT(C204)))))","v":182},"E.40 Competent court","Competent court","textBlock","error","If \"E.1 Public offering or admission to trading\" is set with 'ATTR' value, then \"E.40 Competent court\" must be provided with a fact value."]
[{"$f":"IF(Table2!E183=\"\",\"/*\",\"\")","v":"/*"},"mica:InformationAboutOtherTokensAbstract",{"$f":"Table2!E183","v":0},"2025-01-01","2025-12-31",null,null,null,null,null,null,null,null,null,null,null,null,null,null,null,null,null,null,null,null,null,{"$f":"ROW(INDIRECT(MID(_xlfn.FORMULATEXT(C205),2,LEN(_xlfn.FORMULATEXT(C205)))))","v":183},"Part F - Information about other tokens","","","",""]
[{"$f":"IF(Table2!E184=\"\",\"/*\",\"\")","v":""},"mica:OtherTokenType",{"$f":"Table2!E184","v":" Ex: Here is a sample text... (text format)"},"2025-01-01","2025-12-31",null,null,null,null,null,null,null,null,null,null,null,null,null,null,null,null,null,null,null,null,null,{"$f":"ROW(INDIRECT(MID(_xlfn.FORMULATEXT(C206),2,LEN(_xlfn.FORMULATEXT(C206)))))","v":184},"F.1 Crypto-asset type","The type of crypto-asset that will be offered to the public or for which admission to trading is sought","text","error","The value of \"F.1 Crypto-asset type\" must be provided."]
[{"$f":"IF(Table2!E185=\"\",\"/*\",\"\")","v":""},"mica:InformationAboutOtherTokenFunctionalityExplanatory",{"$f":"Table2!E185","v":" Ex: Here is a sample text... (textBlock format)"},"2025-01-01","2025-12-31",null,null,null,null,null,null,null,null,null,null,null,null,null,null,null,null,null,null,null,null,null,{"$f":"ROW(INDIRECT(MID(_xlfn.FORMULATEXT(C207),2,LEN(_xlfn.FORMULATEXT(C207)))))","v":185},"F.2 Other token functionality","A description of the functionality of the crypto-assets being offered or admitted to trading","textBlock","error","The value of \"F.2 Crypto-asset functionality\" must be provided."]
[{"$f":"IF(Table2!E186=\"\",\"/*\",\"\")","v":""},"mica:InformationAboutPlannedApplicationOfFunctionalitiesExplanatory",{"$f":"Table2!E186","v":" Ex: Here is a sample text... (textBlock format)"},"2025-01-01","2025-12-31",null,null,null,null,null,null,null,null,null,null,null,null,null,null,null,null,null,null,null,null,null,{"$f":"ROW(INDIRECT(MID(_xlfn.FORMULATEXT(C208),2,LEN(_xlfn.FORMULATEXT(C208)))))","v":186},"F.3 Planned application of functionalities","Information about when the functionalities of the crypto-assets being offered or admitted to trading are planned to apply","textBlock","error","The value of \"F3. Planned application of functionalities\" must be provided."]
[{"$f":"IF(Table2!E187=\"\",\"/*\",\"\")","v":"/*"},"mica:DescriptionOfCharacteristicsOfOtherTokenIncludingDataNecessaryForClassificationOfOtherTokenWhitePaperInRegisterAbstract",{"$f":"Table2!E187","v":0},"2025-01-01","2025-12-31",null,null,null,null,null,null,null,null,null,null,null,null,null,null,null,null,null,null,null,null,null,{"$f":"ROW(INDIRECT(MID(_xlfn.FORMULATEXT(C209),2,LEN(_xlfn.FORMULATEXT(C209)))))","v":187},"A description of the characteristics of the other token, including the data necessary for classification of the crypto-asset white paper in the register referred to in Article 109 of Regulation (EU) 2023/1114, as specified in accordance with paragraph 8 of that Article","","","",""]
[{"$f":"IF(Table2!E188=\"\",\"/*\",\"\")","v":""},"mica:OtherTokenTypeOfWhitePaper",{"$f":"Table2!E188","v":"-- Select value --"},"2025-01-01","2025-12-31",null,null,null,null,null,null,null,null,null,null,null,null,null,null,null,null,null,null,null,null,null,{"$f":"ROW(INDIRECT(MID(_xlfn.FORMULATEXT(C210),2,LEN(_xlfn.FORMULATEXT(C210)))))","v":188},"F.4 Type of crypto-asset white paper","The type of white paper notified","enumeration","error","The value of \"F.4 Type of crypto-asset white paper\" must be provided."]
[{"$f":"IF(Table2!E189=\"\",\"/*\",\"\")","v":""},"mica:OtherTokenTypeOfSubmission",{"$f":"Table2!E189","v":"-- Select value --"},"2025-01-01","2025-12-31",null,null,null,null,null,null,null,null,null,null,null,null,null,null,null,null,null,null,null,null,null,{"$f":"ROW(INDIRECT(MID(_xlfn.FORMULATEXT(C211),2,LEN(_xlfn.FORMULATEXT(C211)))))","v":189},"F.5 Type of submission","Type of submission","enumeration","error","The value of \"F.5 Type of submission\" must be provided."]
[{"$f":"IF(Table2!E190=\"\",\"/*\",\"\")","v":""},"mica:DescriptionOfOtherTokenCharacteristicsExplanatory",{"$f":"Table2!E190","v":" Ex: Here is a sample text... (textBlock format)"},"2025-01-01","2025-12-31",null,null,null,null,null,null,null,null,null,null,null,null,null,null,null,null,null,null,null,null,null,{"$f":"ROW(INDIRECT(MID(_xlfn.FORMULATEXT(C212),2,LEN(_xlfn.FORMULATEXT(C212)))))","v":190},"F.6 Other token characteristics","A description of the characteristics of the crypto-asset","textBlock","error","The value of \"F.6 Crypto-asset characteristics\" must be provided."]
[{"$f":"IF(Table2!E191=\"\",\"/*\",\"\")","v":""},"mica:OtherTokenIssuersCommercialOrTradingName",{"$f":"Table2!E191","v":" Ex: Here is a sample text... (text format)"},"2025-01-01","2025-12-31",null,null,null,null,null,null,null,null,null,null,null,null,null,null,null,null,null,null,null,null,null,{"$f":"ROW(INDIRECT(MID(_xlfn.FORMULATEXT(C213),2,LEN(_xlfn.FORMULATEXT(C213)))))","v":191},"F.7 Commercial name or trading name","Field to be filled in only if a DTI is not provided in field F.13.\r\nCommercial name or trading name of the issuer.","text","error","If \"F.13 Digital token identifier code used to uniquely identify the crypto-asset or each of the several crypto assets to which the white paper relates, where available\" is not provided with a fact value, then \"F.7 Commercial name or trading name\" must be reported"]
[{"$f":"IF(Table2!E192=\"\",\"/*\",\"\")","v":""},"mica:OtherTokenIssuersWebsite",{"$f":"Table2!E192","v":" Ex: Here is a sample text... (text format)"},"2025-01-01","2025-12-31",null,null,null,null,null,null,null,null,null,null,null,null,null,null,null,null,null,null,null,null,null,{"$f":"ROW(INDIRECT(MID(_xlfn.FORMULATEXT(C214),2,LEN(_xlfn.FORMULATEXT(C214)))))","v":192},"F.8 Website of the issuer","Website of the issuer","text","error","The value of \"F.8 Website of the issuer\" must be provided."]
[{"$f":"IF(Table2!E193=\"\",\"/*\",\"\")","v":""},"mica:OtherTokenOfferStartingDate",{"$f":"Table2!E193","v":"YYYY-MM-DD"},null,"2025-12-31",null,null,null,null,null,null,null,null,null,null,null,null,null,null,null,null,null,null,null,null,null,{"$f":"ROW(INDIRECT(MID(_xlfn.FORMULATEXT(C215),2,LEN(_xlfn.FORMULATEXT(C215)))))","v":193},"F.9 Starting date of offer to the public or admission to trading","Starting date or, if not available at the time of the notification by the competent authority, the intended starting date of offer to the public or admission to trading.","date","error","The value of \"F.9 Starting date of offer to the public or addmission to trading\" must be provided."]
[{"$f":"IF(Table2!E194=\"\",\"/*\",\"\")","v":""},"mica:OtherTokenWhitePaperPublicationDate",{"$f":"Table2!E194","v":"YYYY-MM-DD"},null,"2025-12-31",null,null,null,null,null,null,null,null,null,null,null,null,null,null,null,null,null,null,null,null,null,{"$f":"ROW(INDIRECT(MID(_xlfn.FORMULATEXT(C216),2,LEN(_xlfn.FORMULATEXT(C216)))))","v":194},"F.10 Publication date","Effective or intended publication date of the crypto-asset white paper or of the modified white paper","date","error","The value of \"F.10 Publication date\" must be provided."]
[{"$f":"IF(Table2!E195=\"\",\"/*\",\"\")","v":""},"mica:InformationAboutOtherServicesProvidedByOtherTokenIssuerExplanatory",{"$f":"Table2!E195","v":" Ex: Here is a sample text... (textBlock format)"},"2025-01-01","2025-12-31",null,null,null,null,null,null,null,null,null,null,null,null,null,null,null,null,null,null,null,null,null,{"$f":"ROW(INDIRECT(MID(_xlfn.FORMULATEXT(C217),2,LEN(_xlfn.FORMULATEXT(C217)))))","v":195},"F.11 Any other services provided by the issuer","Any other services provided by the issuer not covered by Regulation (EU) 2023/1114, with a reference to the applicable Union or national legal acts regulating those services","textBlock","error","The value of \"F.11 Information about other services provided by the issuer\" must be provided."]
[{"$f":"IF(Table2!E196=\"\",\"/*\",\"\")","v":""},"mica:InformationAboutLanguagesUsedInOtherTokenWhitePaper",{"$f":"Table2!E196","v":" Ex: Here is a sample text... (text format)"},"2025-01-01","2025-12-31",null,null,null,null,null,null,null,null,null,null,null,null,null,null,null,null,null,null,null,null,null,{"$f":"ROW(INDIRECT(MID(_xlfn.FORMULATEXT(C218),2,LEN(_xlfn.FORMULATEXT(C218)))))","v":196},"F.12 Language or languages of white paper","Language or languages in which the crypto-asset white paper is drafted\r\nWhen multiple languages have been used, this field shall be reported as many times as necessary","text","error","The value of \"F.12 Language or languages of white paper\" must be provided."]
[{"$f":"IF(Table2!E197=\"\",\"/*\",\"\")","v":""},"mica:OtherTokenDigitalTokenIdentifierCode",{"$f":"Table2!E197","v":" Ex: Here is a sample text... (text format)"},"2025-01-01","2025-12-31",null,null,null,null,null,null,null,null,null,null,null,null,null,null,null,null,null,null,null,null,null,{"$f":"ROW(INDIRECT(MID(_xlfn.FORMULATEXT(C219),2,LEN(_xlfn.FORMULATEXT(C219)))))","v":197},"F.13 Digital token identifier code used to uniquely identify the crypto-asset or each of the several crypto assets to which the white paper relates, where available","Code used to uniquely identify the crypto-asset or each of the several crypto assets to which the crypto-asset white paper relates, where available","text","error","The value of \"F.13 Other token Digital Token Identifier code\" must be provided."]
[{"$f":"IF(Table2!E198=\"\",\"/*\",\"\")","v":""},"mica:OtherTokenFunctionallyFungibleGroupDigitalTokenIdentifier",{"$f":"Table2!E198","v":" Ex: Here is a sample text... (text format)"},"2025-01-01","2025-12-31",null,null,null,null,null,null,null,null,null,null,null,null,null,null,null,null,null,null,null,null,null,{"$f":"ROW(INDIRECT(MID(_xlfn.FORMULATEXT(C220),2,LEN(_xlfn.FORMULATEXT(C220)))))","v":198},"F.14 Functionally fungible group digital token identifier, where available","Code used to uniquely identify the functionally fungible group to which the digital asset belongs (i.e., common to each of the several assets to which the white paper relates, i.e. Code used to identify the white paper ISO 24165 DTI of type = 3 (i.e., functionally fungible group), where available","text","error","The value of \"F.14 Functionally fungible group digital token identifier, where available\" must be provided."]
[{"$f":"IF(Table2!E199=\"\",\"/*\",\"\")","v":""},"mica:OtherTokenVoluntaryDataFlagIndicator",{"$f":"Table2!E199","v":"true/false"},"2025-01-01","2025-12-31",null,null,null,null,null,null,null,null,null,null,null,null,null,null,null,null,null,null,null,null,null,{"$f":"ROW(INDIRECT(MID(_xlfn.FORMULATEXT(C221),2,LEN(_xlfn.FORMULATEXT(C221)))))","v":199},"F.15 Voluntary data flag","Flag indicating the mandatory or voluntary nature of the crypto-asset white paper provided for in Article 4(8) of Regulation (EU) 2023/1114","boolean","error","The value of \"F.15 Voluntary data flag\" must be provided."]
[{"$f":"IF(Table2!E200=\"\",\"/*\",\"\")","v":""},"mica:OtherTokenPersonalDataFlagIndicator",{"$f":"Table2!E200","v":"true/false"},"2025-01-01","2025-12-31",null,null,null,null,null,null,null,null,null,null,null,null,null,null,null,null,null,null,null,null,null,{"$f":"ROW(INDIRECT(MID(_xlfn.FORMULATEXT(C222),2,LEN(_xlfn.FORMULATEXT(C222)))))","v":200},"F.16 Personal data flag","Flag indicating if the submitted white paper contains personal data","boolean","error","The value of \"F.16 Personal data flag\" must be provided."]
[{"$f":"IF(Table2!E201=\"\",\"/*\",\"\")","v":""},"mica:LEIEligibilityIndicatorForOtherToken",{"$f":"Table2!E201","v":"true/false"},"2025-01-01","2025-12-31",null,null,null,null,null,null,null,null,null,null,null,null,null,null,null,null,null,null,null,null,null,{"$f":"ROW(INDIRECT(MID(_xlfn.FORMULATEXT(C223),2,LEN(_xlfn.FORMULATEXT(C223)))))","v":201},"F.17 LEI eligibility","Indication that the issuer is eligible for a Legal Entity Identifier","boolean","error","The value of \"F.17 LEI eligibility\" must be provided."]
[{"$f":"IF(Table2!E202=\"\",\"/*\",\"\")","v":""},"mica:OtherTokenHomeMemberState",{"$f":"Table2!E202","v":"-- Select value --"},"2025-01-01","2025-12-31",null,null,null,null,null,null,null,null,null,null,null,null,null,null,null,null,null,null,null,null,null,{"$f":"ROW(INDIRECT(MID(_xlfn.FORMULATEXT(C224),2,LEN(_xlfn.FORMULATEXT(C224)))))","v":202},"F.18 Home member state","Home Member State as defined in Article 3(1), point (33), of Regulation (EU) 2023/1114","enumeration","error","The value of \"F.18 Home member state\" must be provided."]
[{"$f":"IF(Table2!E203=\"\",\"/*\",\"\")","v":""},"mica:OtherTokenHostMemberStates",{"$f":"Table2!E203","v":"Belgium"},"2025-01-01","2025-12-31",null,null,null,null,null,null,null,null,null,null,null,null,null,null,null,null,null,null,null,null,null,{"$f":"ROW(INDIRECT(MID(_xlfn.FORMULATEXT(C225),2,LEN(_xlfn.FORMULATEXT(C225)))))","v":203},"F.19 Host member states #1","Host Member State as defined in Article 3(1), point (34), of Regulation (EU) 2023/1114","enumerationSet","",""]
[{"$f":"IF(Table2!E204=\"\",\"/*\",\"\")","v":""},"mica:OtherTokenHostMemberStates",{"$f":"Table2!E204","v":"Bulgaria"},"2025-01-01","2025-12-31",null,null,null,null,null,null,null,null,null,null,null,null,null,null,null,null,null,null,null,null,null,{"$f":"ROW(INDIRECT(MID(_xlfn.FORMULATEXT(C226),2,LEN(_xlfn.FORMULATEXT(C226)))))","v":204},"F.19 Host member states #1","Host Member State as defined in Article 3(1), point (34), of Regulation (EU) 2023/1114","enumerationSet","",""]
[{"$f":"IF(Table2!E205=\"\",\"/*\",\"\")","v":"/*"},"mica:InformationOnRightsAndObligationsAttachedToOtherTokensAbstract",{"$f":"Table2!E205","v":0},"2025-01-01","2025-12-31",null,null,null,null,null,null,null,null,null,null,null,null,null,null,null,null,null,null,null,null,null,{"$f":"ROW(INDIRECT(MID(_xlfn.FORMULATEXT(C227),2,LEN(_xlfn.FORMULATEXT(C227)))))","v":205},"Part G - Information on rights and obligations attached to other tokens","","","",""]
[{"$f":"IF(Table2!E206=\"\",\"/*\",\"\")","v":""},"mica:InformationAboutPurchaserRightsAndObligationsExplanatory",{"$f":"Table2!E206","v":" Ex: Here is a sample text... (textBlock format)"},"2025-01-01","2025-12-31",null,null,null,null,null,null,null,null,null,null,null,null,null,null,null,null,null,null,null,null,null,{"$f":"ROW(INDIRECT(MID(_xlfn.FORMULATEXT(C228),2,LEN(_xlfn.FORMULATEXT(C228)))))","v":206},"G.1 Purchaser rights and obligations","A description of the rights and obligations, if any, of the purchaser","textBlock","error","The value of \"G.1 Purchaser rights and obligations\" must be provided."]
[{"$f":"IF(Table2!E207=\"\",\"/*\",\"\")","v":""},"mica:ExerciseOfRightsAndObligationExplanatory",{"$f":"Table2!E207","v":" Ex: Here is a sample text... (textBlock format)"},"2025-01-01","2025-12-31",null,null,null,null,null,null,null,null,null,null,null,null,null,null,null,null,null,null,null,null,null,{"$f":"ROW(INDIRECT(MID(_xlfn.FORMULATEXT(C229),2,LEN(_xlfn.FORMULATEXT(C229)))))","v":207},"G.2 Exercise of rights and obligations","Procedure and conditions for the exercise of rights","textBlock","error","The value of \"G.2 Exercise of rights and obligation\" must be provided."]
[{"$f":"IF(Table2!E208=\"\",\"/*\",\"\")","v":""},"mica:InformationAboutConditionsForModificationsOfRightsAndObligationsExplanatory",{"$f":"Table2!E208","v":" Ex: Here is a sample text... (textBlock format)"},"2025-01-01","2025-12-31",null,null,null,null,null,null,null,null,null,null,null,null,null,null,null,null,null,null,null,null,null,{"$f":"ROW(INDIRECT(MID(_xlfn.FORMULATEXT(C230),2,LEN(_xlfn.FORMULATEXT(C230)))))","v":208},"G.3 Conditions for modifications of rights and obligations","Description of the conditions under which the rights and obligations may be modified","textBlock","error","The value of \"G.3 Conditions for modifications of rights and obligations\" must be provided."]
[{"$f":"IF(Table2!E209=\"\",\"/*\",\"\")","v":""},"mica:InformationAboutFuturePublicOffersExplanatory",{"$f":"Table2!E209","v":" Ex: Here is a sample text... (textBlock format)"},"2025-01-01","2025-12-31",null,null,null,null,null,null,null,null,null,null,null,null,null,null,null,null,null,null,null,null,null,{"$f":"ROW(INDIRECT(MID(_xlfn.FORMULATEXT(C231),2,LEN(_xlfn.FORMULATEXT(C231)))))","v":209},"G.4 Future public offers","Where applicable, information on the future offers to the public of crypto-assets by the issuer","textBlock","error","The value of \"G.4 Future public offers\" must be provided."]
[{"$f":"IF(Table2!E210=\"\",\"/*\",\"\")","v":""},"mica:NumberOfIssuersRetainedOtherTokens",{"$f":"Table2!E210","v":" Ex: 27"},null,"2025-12-31","xbrli:pure","0","0",null,null,null,null,null,null,null,null,null,null,null,null,null,null,null,null,null,null,{"$f":"ROW(INDIRECT(MID(_xlfn.FORMULATEXT(C232),2,LEN(_xlfn.FORMULATEXT(C232)))))","v":210},"G.5 Issuer retained other token","Where applicable, information on the number of crypto-assets retained by the issuer itself","integer","",""]
[{"$f":"IF(Table2!E211=\"\",\"/*\",\"\")","v":""},"mica:UtilityTokenClassificationForOtherTokenIndicator",{"$f":"Table2!E211","v":"true/false"},"2025-01-01","2025-12-31",null,null,null,null,null,null,null,null,null,null,null,null,null,null,null,null,null,null,null,null,null,{"$f":"ROW(INDIRECT(MID(_xlfn.FORMULATEXT(C233),2,LEN(_xlfn.FORMULATEXT(C233)))))","v":211},"G.6 Utility token classification","Indication as to whether the offer to the public of crypto-assets or their admission to trading concerns utility tokens","boolean","error","The value of \"G.6 Utility token classification\" must be provided."]
[{"$f":"IF(Table2!E212=\"\",\"/*\",\"\")","v":""},"mica:KeyFeaturesOfGoodsAndServicesOfUtilityTokensExplanatory",{"$f":"Table2!E212","v":" Ex: Here is a sample text... (text format)"},"2025-01-01","2025-12-31",null,null,null,null,null,null,null,null,null,null,null,null,null,null,null,null,null,null,null,null,null,{"$f":"ROW(INDIRECT(MID(_xlfn.FORMULATEXT(C234),2,LEN(_xlfn.FORMULATEXT(C234)))))","v":212},"G.7 Key features of goods or services utility tokens","Information about the quality and quantity of goods or services to which the utility tokens give access","text","error","If \"G.6 Utility token classification\" is set to true, then \"G.7 Key features of goods or services of utility token\" must be provided with a fact value."]
[{"$f":"IF(Table2!E213=\"\",\"/*\",\"\")","v":""},"mica:UtilityTokensRedemptionExplanatory",{"$f":"Table2!E213","v":" Ex: Here is a sample text... (text format)"},"2025-01-01","2025-12-31",null,null,null,null,null,null,null,null,null,null,null,null,null,null,null,null,null,null,null,null,null,{"$f":"ROW(INDIRECT(MID(_xlfn.FORMULATEXT(C235),2,LEN(_xlfn.FORMULATEXT(C235)))))","v":213},"G.8 Utility tokens redemption","Only applicable if field G.6 is true.\r\nInformation on how utility tokens can be redeemed for goods or services to which they relate","text","error","If \"G.6 Utility token classification\" is set to true, then \"G.8 Utility token redemption\" must be provided with a fact value."]
[{"$f":"IF(Table2!E214=\"\",\"/*\",\"\")","v":""},"mica:NontradingRequestIndicatorRelatedToOtherTokens",{"$f":"Table2!E214","v":"true/false"},"2025-01-01","2025-12-31",null,null,null,null,null,null,null,null,null,null,null,null,null,null,null,null,null,null,null,null,null,{"$f":"ROW(INDIRECT(MID(_xlfn.FORMULATEXT(C236),2,LEN(_xlfn.FORMULATEXT(C236)))))","v":214},"G.9 Non-trading request","Indication whether an admission to trading is sought","boolean","error","The value of \"G.9 Non-trading request\" must be provided."]
[{"$f":"IF(Table2!E215=\"\",\"/*\",\"\")","v":""},"mica:OtherTokensPurchaseOrSaleModalitiesExplanatory",{"$f":"Table2!E215","v":" Ex: Here is a sample text... (text format)"},"2025-01-01","2025-12-31",null,null,null,null,null,null,null,null,null,null,null,null,null,null,null,null,null,null,null,null,null,{"$f":"ROW(INDIRECT(MID(_xlfn.FORMULATEXT(C237),2,LEN(_xlfn.FORMULATEXT(C237)))))","v":215},"G.10 Other tokens purchase or sale modalities","Where an admission to trading is not sought, information on how and where the crypto-assets can be purchased or sold after the offer to the public","text","error","If \"G.9 Non-trading request\" is set to false, then \"G.10 Crypto-assets purchase or sale modalities\" must be provided with a fact value."]
[{"$f":"IF(Table2!E216=\"\",\"/*\",\"\")","v":""},"mica:OtherTokensTransferRestrictionsExplanatory",{"$f":"Table2!E216","v":" Ex: Here is a sample text... (text format)"},"2025-01-01","2025-12-31",null,null,null,null,null,null,null,null,null,null,null,null,null,null,null,null,null,null,null,null,null,{"$f":"ROW(INDIRECT(MID(_xlfn.FORMULATEXT(C238),2,LEN(_xlfn.FORMULATEXT(C238)))))","v":216},"G.11 Other tokens transfer restrictions","Restrictions on the transferability of the crypto-assets that are being offered or admitted to trading","text","error","The value of \"G.11 Crypto-assets transfer restrictions\" must be provided."]
[{"$f":"IF(Table2!E217=\"\",\"/*\",\"\")","v":""},"mica:SupplyAdjustmentProtocolsIndicator",{"$f":"Table2!E217","v":"true/false"},"2025-01-01","2025-12-31",null,null,null,null,null,null,null,null,null,null,null,null,null,null,null,null,null,null,null,null,null,{"$f":"ROW(INDIRECT(MID(_xlfn.FORMULATEXT(C239),2,LEN(_xlfn.FORMULATEXT(C239)))))","v":217},"G.12 Supply adjustment protocols","Indication as to whether the crypto-asset has protocols for the increase or decrease of its supply in response to changes in demand","boolean","error","The value of \"G.12 Supply adjustment protocols\" must be provided."]
[{"$f":"IF(Table2!E218=\"\",\"/*\",\"\")","v":""},"mica:SupplyAdjustmentMechanismsExplanatory",{"$f":"Table2!E218","v":" Ex: Here is a sample text... (text format)"},"2025-01-01","2025-12-31",null,null,null,null,null,null,null,null,null,null,null,null,null,null,null,null,null,null,null,null,null,{"$f":"ROW(INDIRECT(MID(_xlfn.FORMULATEXT(C240),2,LEN(_xlfn.FORMULATEXT(C240)))))","v":218},"G.13 Supply adjustment mechanisms","Where the crypto-asset has protocols for the increase or decrease of its supply in response to changes in demand, a description of the functioning of such protocols","text","error","The value of \"G.13 Supply adjustment mechanisms\" must be provided."]
[{"$f":"IF(Table2!E219=\"\",\"/*\",\"\")","v":"/*"},"mica:OtherTokenSchemesDetailsAbstract",{"$f":"Table2!E219","v":0},"2025-01-01","2025-12-31",null,null,null,null,null,null,null,null,null,null,null,null,null,null,null,null,null,null,null,null,null,{"$f":"ROW(INDIRECT(MID(_xlfn.FORMULATEXT(C241),2,LEN(_xlfn.FORMULATEXT(C241)))))","v":219},"Other token schemes details","","","",""]
[{"$f":"IF(Table2!E220=\"\",\"/*\",\"\")","v":""},"mica:OtherTokenValueProtectionSchemesIndicator",{"$f":"Table2!E220","v":"true/false"},"2025-01-01","2025-12-31",null,null,null,null,null,null,null,null,null,null,null,null,null,null,null,null,null,null,null,null,null,{"$f":"ROW(INDIRECT(MID(_xlfn.FORMULATEXT(C242),2,LEN(_xlfn.FORMULATEXT(C242)))))","v":220},"G.14 Token value protection schemes","Indication as to whether the crypto-asset has a protection scheme protecting the value of the crypto-asset","boolean","error","The value of \"G.14 Token token value protection schemes\" must be provided."]
[{"$f":"IF(Table2!E221=\"\",\"/*\",\"\")","v":""},"mica:DescriptionOfOtherTokenValueProtectionSchemesExplanatory",{"$f":"Table2!E221","v":" Ex: Here is a sample text... (textBlock format)"},"2025-01-01","2025-12-31",null,null,null,null,null,null,null,null,null,null,null,null,null,null,null,null,null,null,null,null,null,{"$f":"ROW(INDIRECT(MID(_xlfn.FORMULATEXT(C243),2,LEN(_xlfn.FORMULATEXT(C243)))))","v":221},"G.15 Token value protection schemes description","Where the field G.14 is true, a description of the protection schemes protecting the value of the crypto-assets","textBlock","error","If \"G.14 Token value protection schemes\" is set to true, then \"G.15 Token value protection schemes description\" must be provided with a fact value."]
[{"$f":"IF(Table2!E222=\"\",\"/*\",\"\")","v":""},"mica:OtherTokenCompensationSchemesIndicator",{"$f":"Table2!E222","v":"true/false"},"2025-01-01","2025-12-31",null,null,null,null,null,null,null,null,null,null,null,null,null,null,null,null,null,null,null,null,null,{"$f":"ROW(INDIRECT(MID(_xlfn.FORMULATEXT(C244),2,LEN(_xlfn.FORMULATEXT(C244)))))","v":222},"G.16 Compensation schemes","Indication as to whether the crypto-asset has a compensation scheme","boolean","error","The value of \"G.16 Compensation schemes\" must be provided."]
[{"$f":"IF(Table2!E223=\"\",\"/*\",\"\")","v":""},"mica:DescriptionOfOtherTokenCompensationSchemesExplanatory",{"$f":"Table2!E223","v":" Ex: Here is a sample text... (textBlock format)"},"2025-01-01","2025-12-31",null,null,null,null,null,null,null,null,null,null,null,null,null,null,null,null,null,null,null,null,null,{"$f":"ROW(INDIRECT(MID(_xlfn.FORMULATEXT(C245),2,LEN(_xlfn.FORMULATEXT(C245)))))","v":223},"G.17 Compensation schemes description","Where the field G.16 is true, a description of the compensation schemes","textBlock","error","If \"G.16 Compensation schemes\" is set to true, then \"G.17 Compensation schemes description\" must be provided with a fact value."]
[{"$f":"IF(Table2!E224=\"\",\"/*\",\"\")","v":""},"mica:ApplicableLawForOtherTokenExplanatory",{"$f":"Table2!E224","v":" Ex: Here is a sample text... (textBlock format)"},"2025-01-01","2025-12-31",null,null,null,null,null,null,null,null,null,null,null,null,null,null,null,null,null,null,null,null,null,{"$f":"ROW(INDIRECT(MID(_xlfn.FORMULATEXT(C246),2,LEN(_xlfn.FORMULATEXT(C246)))))","v":224},"G.18 Applicable law","The law applicable to the crypto-assets","textBlock","error","The value of \"G.18 Applicable law\" must be provided."]
[{"$f":"IF(Table2!E225=\"\",\"/*\",\"\")","v":""},"mica:CompetentCourtForOtherTokenExplanatory",{"$f":"Table2!E225","v":" Ex: Here is a sample text... (textBlock format)"},"2025-01-01","2025-12-31",null,null,null,null,null,null,null,null,null,null,null,null,null,null,null,null,null,null,null,null,null,{"$f":"ROW(INDIRECT(MID(_xlfn.FORMULATEXT(C247),2,LEN(_xlfn.FORMULATEXT(C247)))))","v":225},"G.19 Competent court","Competent court","textBlock","error","The value of \"G.19 Competent court\" must be provided."]
[{"$f":"IF(Table2!E226=\"\",\"/*\",\"\")","v":"/*"},"mica:InformationOnUnderlyingTechnologyForOtherTokensAbstract",{"$f":"Table2!E226","v":0},"2025-01-01","2025-12-31",null,null,null,null,null,null,null,null,null,null,null,null,null,null,null,null,null,null,null,null,null,{"$f":"ROW(INDIRECT(MID(_xlfn.FORMULATEXT(C248),2,LEN(_xlfn.FORMULATEXT(C248)))))","v":226},"Part H – Information on underlying technology","","","",""]
[{"$f":"IF(Table2!E227=\"\",\"/*\",\"\")","v":""},"mica:DistributedLedgerTechnologyForOtherTokenExplanatory",{"$f":"Table2!E227","v":" Ex: Here is a sample text... (text format)"},"2025-01-01","2025-12-31",null,null,null,null,null,null,null,null,null,null,null,null,null,null,null,null,null,null,null,null,null,{"$f":"ROW(INDIRECT(MID(_xlfn.FORMULATEXT(C249),2,LEN(_xlfn.FORMULATEXT(C249)))))","v":227},"H.1 Distributed ledger technology (DTL)","Field to be filled in only if a DTI is not provided in field F.13.\r\nInformation on the technology used, including distributed ledger technology","text","error","If \"F.13 Digital token identifier code used to uniquely identify the crypto-asset or each of the several crypto assets to which the white paper relates, where available\"  is not provided with a fact value, then \"H.1 Distributed ledger technology (DTL)\" must be reported."]
[{"$f":"IF(Table2!E228=\"\",\"/*\",\"\")","v":""},"mica:ProtocolsAndTechnicalStandardsForOtherTokenExplanatory",{"$f":"Table2!E228","v":" Ex: Here is a sample text... (text format)"},"2025-01-01","2025-12-31",null,null,null,null,null,null,null,null,null,null,null,null,null,null,null,null,null,null,null,null,null,{"$f":"ROW(INDIRECT(MID(_xlfn.FORMULATEXT(C250),2,LEN(_xlfn.FORMULATEXT(C250)))))","v":228},"H.2 Protocols and technical standards","Information about protocols and technical standards used","text","error","The value of \"H.2 Protocols and technical standards\" must be provided."]
[{"$f":"IF(Table2!E229=\"\",\"/*\",\"\")","v":""},"mica:InformationAboutTechnologyUsedForOtherTokenExplanatory",{"$f":"Table2!E229","v":" Ex: Here is a sample text... (textBlock format)"},"2025-01-01","2025-12-31",null,null,null,null,null,null,null,null,null,null,null,null,null,null,null,null,null,null,null,null,null,{"$f":"ROW(INDIRECT(MID(_xlfn.FORMULATEXT(C251),2,LEN(_xlfn.FORMULATEXT(C251)))))","v":229},"H.3 Technology used","Other information on the technology used","textBlock","error","The value of \"H.3 Technology used\" must be provided."]
[{"$f":"IF(Table2!E230=\"\",\"/*\",\"\")","v":""},"mica:ConsensusMechanismForOtherTokenExplanatory",{"$f":"Table2!E230","v":" Ex: Here is a sample text... (text format)"},"2025-01-01","2025-12-31",null,null,null,null,null,null,null,null,null,null,null,null,null,null,null,null,null,null,null,null,null,{"$f":"ROW(INDIRECT(MID(_xlfn.FORMULATEXT(C252),2,LEN(_xlfn.FORMULATEXT(C252)))))","v":230},"H.4 Consensus mechanism","Information on the consensus mechanism, where applicable","text","",""]
[{"$f":"IF(Table2!E231=\"\",\"/*\",\"\")","v":""},"mica:IncentiveMechanismsAndApplicableFeesForOtherTokenExplanatory",{"$f":"Table2!E231","v":" Ex: Here is a sample text... (text format)"},"2025-01-01","2025-12-31",null,null,null,null,null,null,null,null,null,null,null,null,null,null,null,null,null,null,null,null,null,{"$f":"ROW(INDIRECT(MID(_xlfn.FORMULATEXT(C253),2,LEN(_xlfn.FORMULATEXT(C253)))))","v":231},"H.5 Incentive mechanisms and applicable fees","Information on incentive mechanisms to secure transactions and any fees applicable","text","error","The value of \"H.5 Incentive mechanisms and applicable fees\" must be provided."]
[{"$f":"IF(Table2!E232=\"\",\"/*\",\"\")","v":""},"mica:UseOfDistributedLedgerTechnologyIndicatorForOtherToken",{"$f":"Table2!E232","v":"true/false"},"2025-01-01","2025-12-31",null,null,null,null,null,null,null,null,null,null,null,null,null,null,null,null,null,null,null,null,null,{"$f":"ROW(INDIRECT(MID(_xlfn.FORMULATEXT(C254),2,LEN(_xlfn.FORMULATEXT(C254)))))","v":232},"H.6 Use of distributed ledger technology","Indication as to whether the crypto-assets are issued, transferred and stored using distributed ledger technology that is operated by the issuer, the offeror or a third-party acting on their behalf","boolean","error","The value of \"H.6 Use of distributed ledger technology\" must be provided."]
[{"$f":"IF(Table2!E233=\"\",\"/*\",\"\")","v":""},"mica:DescriptionOfDLTFunctionalityForOtherTokenExplanatory",{"$f":"Table2!E233","v":" Ex: Here is a sample text... (textBlock format)"},"2025-01-01","2025-12-31",null,null,null,null,null,null,null,null,null,null,null,null,null,null,null,null,null,null,null,null,null,{"$f":"ROW(INDIRECT(MID(_xlfn.FORMULATEXT(C255),2,LEN(_xlfn.FORMULATEXT(C255)))))","v":233},"H.7 DLT functionality description","If the DLT is operated by the issuer or a third party acting on the issuer’s behalf, a detailed description of the functioning of such distributed ledger technology","textBlock","error","If \"H.6 Use of distributed ledger technology\" is set to true, then \"H.7 DLT functionality description\" must be provided with a fact value."]
[{"$f":"IF(Table2!E234=\"\",\"/*\",\"\")","v":"/*"},"mica:OtherTokenAuditDetailsAbstract",{"$f":"Table2!E234","v":0},"2025-01-01","2025-12-31",null,null,null,null,null,null,null,null,null,null,null,null,null,null,null,null,null,null,null,null,null,{"$f":"ROW(INDIRECT(MID(_xlfn.FORMULATEXT(C256),2,LEN(_xlfn.FORMULATEXT(C256)))))","v":234},"Other token audit details","","","",""]
[{"$f":"IF(Table2!E235=\"\",\"/*\",\"\")","v":""},"mica:AuditIndicatorForOtherToken",{"$f":"Table2!E235","v":"true/false"},"2025-01-01","2025-12-31",null,null,null,null,null,null,null,null,null,null,null,null,null,null,null,null,null,null,null,null,null,{"$f":"ROW(INDIRECT(MID(_xlfn.FORMULATEXT(C257),2,LEN(_xlfn.FORMULATEXT(C257)))))","v":235},"H.8 Audit","Indication as to whether an audit of the technology used was conducted","boolean","error","The value of \"H.8 Audit\" must be provided."]
[{"$f":"IF(Table2!E236=\"\",\"/*\",\"\")","v":""},"mica:AuditOutcomeForOtherTokenExplanatory",{"$f":"Table2!E236","v":" Ex: Here is a sample text... (textBlock format)"},"2025-01-01","2025-12-31",null,null,null,null,null,null,null,null,null,null,null,null,null,null,null,null,null,null,null,null,null,{"$f":"ROW(INDIRECT(MID(_xlfn.FORMULATEXT(C258),2,LEN(_xlfn.FORMULATEXT(C258)))))","v":236},"H.9 Audit outcome","If an audit was conducted, information on the outcome of the audit of the technology used","textBlock","error","If \"H.8 Audit\" is set to true, then \"H.9 Audit outcome\" must be provided with a fact value."]
[{"$f":"IF(Table2!E244=\"\",\"/*\",\"\")","v":"/*"},"mica:InformationOnSustainabilityIndicatorsInRelationToAdverseImpactOnClimateAndOtherEnvironmentrelatedAdverseImpactsForOtherTokenTokenAbstract",{"$f":"Table2!E244","v":0},"2025-01-01","2025-12-31",null,null,null,null,null,null,null,null,null,null,null,null,null,null,null,null,null,null,null,null,null,{"$f":"ROW(INDIRECT(MID(_xlfn.FORMULATEXT(C259),2,LEN(_xlfn.FORMULATEXT(C259)))))","v":244},"Part J - Information on the sustainability indicators in relation to adverse impact on the climate and other environment-related adverse impacts","","","",""]
[{"$f":"IF(Table2!E245=\"\",\"/*\",\"\")","v":""},"mica:InformationOnAdverseImpactsOnClimateAndOtherEnvironmentrelatedAdverseImpactsForOtherTokenTokenExplanatory",{"$f":"Table2!E245","v":" Ex: Here is a sample text... (textBlock format)"},"2025-01-01","2025-12-31",null,null,null,null,null,null,null,null,null,null,null,null,null,null,null,null,null,null,null,null,null,{"$f":"ROW(INDIRECT(MID(_xlfn.FORMULATEXT(C260),2,LEN(_xlfn.FORMULATEXT(C260)))))","v":245},"J.1 Adverse impacts on climate and other environment-related adverse impacts","Information referred to Commission Delegated Regulation establishing technical standards adopted pursuant to Article 6(12), fourth subparagraph, Article 19(11), fourth subparagraph, Article 51(15), fourth subparagraph, and Article 66(6), fourth subparagraph of Regulation (EU) 2023/1114 of the European Parliament and of the Council","textBlock","",""]
[{"$f":"IF(Table2!E246=\"\",\"/*\",\"\")","v":"/*"},"mica:MandatoryInformationOnPrincipalAdverseImpactsOnClimateAndOtherEnvironmentrelatedAdverseImpactsOfConsensusMechanismAbstract",{"$f":"Table2!E246","v":0},"2025-01-01","2025-12-31",null,null,null,null,null,null,null,null,null,null,null,null,null,null,null,null,null,null,null,null,null,{"$f":"ROW(INDIRECT(MID(_xlfn.FORMULATEXT(C261),2,LEN(_xlfn.FORMULATEXT(C261)))))","v":246},"Mandatory information on principal adverse impacts on the climate and other environment-related adverse impacts of the consensus mechanism","","","",""]
[{"$f":"IF(Table2!E247=\"\",\"/*\",\"\")","v":"/*"},"mica:GeneralInformationAboutAdverseImpactsAbstract",{"$f":"Table2!E247","v":0},"2025-01-01","2025-12-31",null,null,null,null,null,null,null,null,null,null,null,null,null,null,null,null,null,null,null,null,null,{"$f":"ROW(INDIRECT(MID(_xlfn.FORMULATEXT(C262),2,LEN(_xlfn.FORMULATEXT(C262)))))","v":247},"General information about adverse impacts","","","",""]
[{"$f":"IF(Table2!E248=\"\",\"/*\",\"\")","v":""},"mica:Name",{"$f":"Table2!E248","v":" Ex: Here is a sample text... (text format)"},"2025-01-01","2025-12-31",null,null,null,null,null,null,null,null,null,null,null,null,null,null,null,null,null,null,null,null,null,{"$f":"ROW(INDIRECT(MID(_xlfn.FORMULATEXT(C263),2,LEN(_xlfn.FORMULATEXT(C263)))))","v":248},"S.1 Name","Name reported in Annex II to Commission Implementing Regulation (EU) 2024/2984 (1), Table 2, fields A.1, B.2 or C.1, Table 3, field A.1, or Table 4, or name of the crypto-asset service provider","text","error","The value of \"S.1 Name\" must be provided."]
[{"$f":"IF(Table2!E249=\"\",\"/*\",\"\")","v":""},"mica:RelevantLegalEntityIdentifier",{"$f":"Table2!E249","v":" Ex: Here is a sample text... (text format)"},"2025-01-01","2025-12-31",null,null,null,null,null,null,null,null,null,null,null,null,null,null,null,null,null,null,null,null,null,{"$f":"ROW(INDIRECT(MID(_xlfn.FORMULATEXT(C264),2,LEN(_xlfn.FORMULATEXT(C264)))))","v":249},"S.2 Relevant legal entity identifier","Identifier referred to in Annex II to Implementing Regulation (EU) 2024/2984, Table 2, fields A.6 or A.7, B.7 or B.8 or C.6 or C.7, Table 3, fields A.7 and A.8 or Table 4, fields A.7 and A.8 or identifier of the crypto-asset service provider referred to in Article 1 of Commission Delegated Regulation (EU) 2025/305 (2)","text","error","The value of \"S.2 Relevant legal entity identifier\" must be provided."]
[{"$f":"IF(Table2!E250=\"\",\"/*\",\"\")","v":""},"mica:NameOfCryptoAssetSustainability",{"$f":"Table2!E250","v":" Ex: Here is a sample text... (text format)"},"2025-01-01","2025-12-31",null,null,null,null,null,null,null,null,null,null,null,null,null,null,null,null,null,null,null,null,null,{"$f":"ROW(INDIRECT(MID(_xlfn.FORMULATEXT(C265),2,LEN(_xlfn.FORMULATEXT(C265)))))","v":250},"S.3 Name of the crypto-asset","Name of the crypto-asset, as reported in Annex II to Implementing Regulation (EU) 2024/2984, Table 2, field D.2, Table 3, field B.1, or Table 4, field B.1 where relevant","text","error","The value of \"S.3 Name of the crypto-asset\" must be provided."]
[{"$f":"IF(Table2!E251=\"\",\"/*\",\"\")","v":""},"mica:ConsensusMechanismSustainabilityExplanatory",{"$f":"Table2!E251","v":" Ex: Here is a sample text... (text format)"},"2025-01-01","2025-12-31",null,null,null,null,null,null,null,null,null,null,null,null,null,null,null,null,null,null,null,null,null,{"$f":"ROW(INDIRECT(MID(_xlfn.FORMULATEXT(C266),2,LEN(_xlfn.FORMULATEXT(C266)))))","v":251},"S.4 Consensus mechanism","The consensus mechanism, as reported in Annex II to Implementing Regulation (EU) 2024/2984, Table 2, field H.4, Table 3, field E.4, or Table 4, field E.5, where relevant, including the information referred to in Article 6(1), point (b), of this Regulation.","text","error","The value of \"S.4 Consensus mechanism\" must be provided."]
[{"$f":"IF(Table2!E252=\"\",\"/*\",\"\")","v":""},"mica:IncentiveMechanismsAndApplicableFeesSustainabilityExplanatory",{"$f":"Table2!E252","v":" Ex: Here is a sample text... (text format)"},"2025-01-01","2025-12-31",null,null,null,null,null,null,null,null,null,null,null,null,null,null,null,null,null,null,null,null,null,{"$f":"ROW(INDIRECT(MID(_xlfn.FORMULATEXT(C267),2,LEN(_xlfn.FORMULATEXT(C267)))))","v":252},"S.5 Incentive mechanisms and applicable fees","Incentive mechanisms to secure transactions and any fees applicable, as reported in Annex II to Implementing Regulation (EU) 2024/2984, Table 2, field H.5, Table 3, field E.5 or Table 4, field E.6, where relevant.\r\nFor persons drawing up a crypto-asset white paper pursuant to Articles 6, 19 or 51 of Regulation (EU) 2023/1114, the information may be provided by including a cross-reference to the aforementioned fields.","text","error","The value of \"S.5 Incentive mechanisms and applicable fees\" must be provided."]
[{"$f":"IF(Table2!E253=\"\",\"/*\",\"\")","v":""},"mica:BeginningOfPeriodToWhichDisclosedInformationRelates",{"$f":"Table2!E253","v":"YYYY-MM-DD"},null,"2025-12-31",null,null,null,null,null,null,null,null,null,null,null,null,null,null,null,null,null,null,null,null,null,{"$f":"ROW(INDIRECT(MID(_xlfn.FORMULATEXT(C268),2,LEN(_xlfn.FORMULATEXT(C268)))))","v":253},"S.6 Beginning of period to which disclosed information relates","Start date of the period covered by the disclosed information","date","error","The value of \"S.6 Beginning of period to which disclosure relates\" must be provided."]
[{"$f":"IF(Table2!E254=\"\",\"/*\",\"\")","v":""},"mica:EndOfPeriodToWhichDisclosedInformationRelates",{"$f":"Table2!E254","v":"YYYY-MM-DD"},null,"2025-12-31",null,null,null,null,null,null,null,null,null,null,null,null,null,null,null,null,null,null,null,null,null,{"$f":"ROW(INDIRECT(MID(_xlfn.FORMULATEXT(C269),2,LEN(_xlfn.FORMULATEXT(C269)))))","v":254},"S.7 End of period to which disclosed information relates","End date of the period covered by the disclosed information","date","error","The value of \"S.7 End of period to which disclosure relates\" must be provided."]
[{"$f":"IF(Table2!E255=\"\",\"/*\",\"\")","v":"/*"},"mica:MandatoryKeyIndicatorOnEnergyConsumptionAbstract",{"$f":"Table2!E255","v":0},"2025-01-01","2025-12-31",null,null,null,null,null,null,null,null,null,null,null,null,null,null,null,null,null,null,null,null,null,{"$f":"ROW(INDIRECT(MID(_xlfn.FORMULATEXT(C270),2,LEN(_xlfn.FORMULATEXT(C270)))))","v":255},"Mandatory key indicator","","","",""]
[{"$f":"IF(Table2!E256=\"\",\"/*\",\"\")","v":""},"mica:EnergyConsumption",{"$f":"Table2!E256","v":" Ex: 27.04"},"2025-01-01","2025-12-31","utr:kWh","2","3",null,null,null,null,null,null,null,null,null,null,null,null,null,null,null,null,null,null,{"$f":"ROW(INDIRECT(MID(_xlfn.FORMULATEXT(C271),2,LEN(_xlfn.FORMULATEXT(C271)))))","v":256},"S.8 Energy consumption","Total amount of energy used for the validation of transactions and the maintenance of the integrity of the distributed ledger, expressed in kilowatt-hours per calendar year","energy (kWh) ","error","The value of \"S.8 Energy consumption\" must be provided."]
[{"$f":"IF(Table2!E257=\"\",\"/*\",\"\")","v":"/*"},"mica:SourcesAndMethodologiesOnEnergyConsumptionsAbstract",{"$f":"Table2!E257","v":0},"2025-01-01","2025-12-31",null,null,null,null,null,null,null,null,null,null,null,null,null,null,null,null,null,null,null,null,null,{"$f":"ROW(INDIRECT(MID(_xlfn.FORMULATEXT(C272),2,LEN(_xlfn.FORMULATEXT(C272)))))","v":257},"Sources and methodologies","","","",""]
[{"$f":"IF(Table2!E258=\"\",\"/*\",\"\")","v":""},"mica:DescriptionOfEnergyConsumptionSourcesAndMethodologiesExplanatory",{"$f":"Table2!E258","v":" Ex: Here is a sample text... (textBlock format)"},"2025-01-01","2025-12-31",null,null,null,null,null,null,null,null,null,null,null,null,null,null,null,null,null,null,null,null,null,{"$f":"ROW(INDIRECT(MID(_xlfn.FORMULATEXT(C273),2,LEN(_xlfn.FORMULATEXT(C273)))))","v":258},"S.9 Energy consumption sources and methodologies","Sources and methodologies used in relation to the information reported in field S.8","textBlock","error","The value of \"S.9 Energy consumption sources and methodologies\" must be provided."]
[{"$f":"IF(Table2!E259=\"\",\"/*\",\"\")","v":"/*"},"mica:SupplementaryInformationOnPrincipalAdverseImpactsOnClimateAndOtherEnvironmentrelatedAdverseImpactsOfConsensusMechanismAbstract",{"$f":"Table2!E259","v":0},"2025-01-01","2025-12-31",null,null,null,null,null,null,null,null,null,null,null,null,null,null,null,null,null,null,null,null,null,{"$f":"ROW(INDIRECT(MID(_xlfn.FORMULATEXT(C274),2,LEN(_xlfn.FORMULATEXT(C274)))))","v":259},"Supplementary information on principal adverse impacts on climate and other environment-related adverse impacts of consensus mechanism","","","",""]
[{"$f":"IF(Table2!E260=\"\",\"/*\",\"\")","v":"/*"},"mica:SupplementaryKeyIndicatorsOnEnergyAndGHGEmissionsAbstract",{"$f":"Table2!E260","v":0},"2025-01-01","2025-12-31",null,null,null,null,null,null,null,null,null,null,null,null,null,null,null,null,null,null,null,null,null,{"$f":"ROW(INDIRECT(MID(_xlfn.FORMULATEXT(C275),2,LEN(_xlfn.FORMULATEXT(C275)))))","v":260},"Supplementary key indicators","","","",""]
[{"$f":"IF(Table2!E261=\"\",\"/*\",\"\")","v":""},"mica:RenewableEnergyConsumptionPercentage",{"$f":"Table2!E261","v":" Ex: 27.1018%"},"2025-01-01","2025-12-31","xbrli:pure",4,-2,null,null,null,null,null,null,null,null,null,null,null,null,null,null,null,null,null,null,{"$f":"ROW(INDIRECT(MID(_xlfn.FORMULATEXT(C276),2,LEN(_xlfn.FORMULATEXT(C276)))))","v":261},"S.10 Renewable energy consumption","Share of energy from renewable sources, used for the validation of transactions and the maintenance of the integrity of the distributed ledger, expressed as a percentage of the total amount of energy used per calendar year","percent","",""]
[{"$f":"IF(Table2!E262=\"\",\"/*\",\"\")","v":""},"mica:EnergyIntensity",{"$f":"Table2!E262","v":" Ex: 27.04"},"2025-01-01","2025-12-31","utr:kWh",2,3,null,null,null,null,null,null,null,null,null,null,null,null,null,null,null,null,null,null,{"$f":"ROW(INDIRECT(MID(_xlfn.FORMULATEXT(C277),2,LEN(_xlfn.FORMULATEXT(C277)))))","v":262},"S.11 Energy intensity","Average amount of energy used per validated transaction","energy (kWh)","",""]
[{"$f":"IF(Table2!E263=\"\",\"/*\",\"\")","v":""},"mica:Scope1DLTGHGEmissionsControlled",{"$f":"Table2!E263","v":" Ex: 27.04"},"2025-01-01","2025-12-31","utr:tCO2e",0,0,null,null,null,null,null,null,null,null,null,null,null,null,null,null,null,null,null,null,{"$f":"ROW(INDIRECT(MID(_xlfn.FORMULATEXT(C278),2,LEN(_xlfn.FORMULATEXT(C278)))))","v":263},"S.12 Scope 1 DLT GHG emissions - controlled","Scope 1 GHG emissions per calendar year for the validation of transactions and the maintenance of the integrity of the distributed ledger","GHG emissions (tCO2e)","",""]
[{"$f":"IF(Table2!E264=\"\",\"/*\",\"\")","v":""},"mica:Scope2DLTGHGEmissionsPurchased",{"$f":"Table2!E264","v":" Ex: 27.04"},"2025-01-01","2025-12-31","utr:tCO2e",0,0,null,null,null,null,null,null,null,null,null,null,null,null,null,null,null,null,null,null,{"$f":"ROW(INDIRECT(MID(_xlfn.FORMULATEXT(C279),2,LEN(_xlfn.FORMULATEXT(C279)))))","v":264},"S.13 Scope 2 DLT GHG emissions - purchased","Scope 2 GHG emissions, expressed in tCO2e per calendar year for the validation of transactions and the maintenance of the integrity of the distributed ledger","GHG emissions (tCO2e)","",""]
[{"$f":"IF(Table2!E265=\"\",\"/*\",\"\")","v":""},"mica:GHGIntensity",{"$f":"Table2!E265","v":" Ex: 27.04"},"2025-01-01","2025-12-31","utr:tCO2e",0,0,null,null,null,null,null,null,null,null,null,null,null,null,null,null,null,null,null,null,{"$f":"ROW(INDIRECT(MID(_xlfn.FORMULATEXT(C280),2,LEN(_xlfn.FORMULATEXT(C280)))))","v":265},"S.14 GHG intensity","Average GHG emissions (scope 1 and scope 2) per validated transaction","GHG emissions (tCO2e)","",""]
[{"$f":"IF(Table2!E266=\"\",\"/*\",\"\")","v":"/*"},"mica:KeySourcesAndMethodologiesAbstract",{"$f":"Table2!E266","v":0},"2025-01-01","2025-12-31",null,null,null,null,null,null,null,null,null,null,null,null,null,null,null,null,null,null,null,null,null,{"$f":"ROW(INDIRECT(MID(_xlfn.FORMULATEXT(C281),2,LEN(_xlfn.FORMULATEXT(C281)))))","v":266},"Sources and methodologies","","","",""]
[{"$f":"IF(Table2!E267=\"\",\"/*\",\"\")","v":""},"mica:DescriptionOfKeyEnergySourcesAndMethodologiesExplanatory",{"$f":"Table2!E267","v":" Ex: Here is a sample text... (textBlock format)"},"2025-01-01","2025-12-31",null,null,null,null,null,null,null,null,null,null,null,null,null,null,null,null,null,null,null,null,null,{"$f":"ROW(INDIRECT(MID(_xlfn.FORMULATEXT(C282),2,LEN(_xlfn.FORMULATEXT(C282)))))","v":267},"S.15 Key energy sources and methodologies","Sources and methodologies used in relation to the information reported in fields S.10 and S.11","textBlock","",""]
[{"$f":"IF(Table2!E268=\"\",\"/*\",\"\")","v":""},"mica:DescriptionOfKeyGHGSourcesAndMethodologiesExplanatory",{"$f":"Table2!E268","v":" Ex: Here is a sample text... (textBlock format)"},"2025-01-01","2025-12-31",null,null,null,null,null,null,null,null,null,null,null,null,null,null,null,null,null,null,null,null,null,{"$f":"ROW(INDIRECT(MID(_xlfn.FORMULATEXT(C283),2,LEN(_xlfn.FORMULATEXT(C283)))))","v":268},"S.16 Key GHG sources and methodologies","Sources and methodologies used in relation to the information reported in fields S.12, S.13 and S.14","textBlock","",""]
[{"$f":"IF(Table2!E269=\"\",\"/*\",\"\")","v":"/*"},"mica:OptionalInformationOnPrincipalAdverseImpactsOnClimateAndOnOtherEnvironmentrelatedAdverseImpactsOfConsensusMechanismAbstract",{"$f":"Table2!E269","v":0},"2025-01-01","2025-12-31",null,null,null,null,null,null,null,null,null,null,null,null,null,null,null,null,null,null,null,null,null,{"$f":"ROW(INDIRECT(MID(_xlfn.FORMULATEXT(C284),2,LEN(_xlfn.FORMULATEXT(C284)))))","v":269},"Optional information on principal adverse impacts on the climate and on other environment-related adverse impacts of the consensus mechanism","","","",""]
[{"$f":"IF(Table2!E270=\"\",\"/*\",\"\")","v":"/*"},"mica:OptionalIndicatorsAbstract",{"$f":"Table2!E270","v":0},"2025-01-01","2025-12-31",null,null,null,null,null,null,null,null,null,null,null,null,null,null,null,null,null,null,null,null,null,{"$f":"ROW(INDIRECT(MID(_xlfn.FORMULATEXT(C285),2,LEN(_xlfn.FORMULATEXT(C285)))))","v":270},"Optional indicators","","","",""]
[{"$f":"IF(Table2!E271=\"\",\"/*\",\"\")","v":""},"mica:EnergyMixPercentage",{"$f":"Table2!E271","v":" Ex: 27.1018%"},"2025-01-01","2025-12-31","xbrli:pure",4,-2,null,null,null,null,null,null,null,null,null,null,null,null,null,null,null,null,null,null,{"$f":"ROW(INDIRECT(MID(_xlfn.FORMULATEXT(C286),2,LEN(_xlfn.FORMULATEXT(C286)))))","v":271},"S. 17 Energy mix","Description of the relative contributions of each different primary energy source used for the validation of transactions and the maintenance of the integrity of the distributed ledger, expressed as percentages","percent","",""]
[{"$f":"IF(Table2!E272=\"\",\"/*\",\"\")","v":"/*"},"mica:EnergyUseReductionDetailsAbstract",{"$f":"Table2!E272","v":0},"2025-01-01","2025-12-31",null,null,null,null,null,null,null,null,null,null,null,null,null,null,null,null,null,null,null,null,null,{"$f":"ROW(INDIRECT(MID(_xlfn.FORMULATEXT(C287),2,LEN(_xlfn.FORMULATEXT(C287)))))","v":272},"S.18 Energy use reduction","Energy use reduction targets or commitments, expressed in absolute or relative reduction of energy use over one calendar year","","",""]
[{"$f":"IF(Table2!E273=\"\",\"/*\",\"\")","v":""},"mica:EnergyUseReductionTargetAbsoluteValue",{"$f":"Table2!E273","v":" Ex: 27.04"},"2025-01-01","2025-12-31","utr:kWh",2,3,null,null,null,null,null,null,null,null,null,null,null,null,null,null,null,null,null,null,{"$f":"ROW(INDIRECT(MID(_xlfn.FORMULATEXT(C288),2,LEN(_xlfn.FORMULATEXT(C288)))))","v":273},"Energy use reduction target (absolute value)","","energy (kWh)","",""]
[{"$f":"IF(Table2!E274=\"\",\"/*\",\"\")","v":""},"mica:EnergyUseReductionTargetPercentage",{"$f":"Table2!E274","v":" Ex: 27.1018%"},"2025-01-01","2025-12-31","xbrli:pure",4,-2,null,null,null,null,null,null,null,null,null,null,null,null,null,null,null,null,null,null,{"$f":"ROW(INDIRECT(MID(_xlfn.FORMULATEXT(C289),2,LEN(_xlfn.FORMULATEXT(C289)))))","v":274},"Energy use reduction target (percentage)","","percent","",""]
[{"$f":"IF(Table2!E275=\"\",\"/*\",\"\")","v":""},"mica:CarbonIntensity",{"$f":"Table2!E275","v":" Ex: 27.1018"},"2025-01-01","2025-12-31","xbrli:pure","INF",0,null,null,null,null,null,null,null,null,null,null,null,null,null,null,null,null,null,null,{"$f":"ROW(INDIRECT(MID(_xlfn.FORMULATEXT(C290),2,LEN(_xlfn.FORMULATEXT(C290)))))","v":275},"S.19 Carbon intensity","Carbon intensity of the energy used for the validation of transactions and the maintenance of the integrity of the distributed ledger","decimal","",""]
[{"$f":"IF(Table2!E276=\"\",\"/*\",\"\")","v":""},"mica:Scope3DLTGHGEmissionsValueChain",{"$f":"Table2!E276","v":" Ex: 27.04"},"2025-01-01","2025-12-31","utr:tCO2e",0,0,null,null,null,null,null,null,null,null,null,null,null,null,null,null,null,null,null,null,{"$f":"ROW(INDIRECT(MID(_xlfn.FORMULATEXT(C291),2,LEN(_xlfn.FORMULATEXT(C291)))))","v":276},"S.20 Scope 3 DLT GHG emissions - value chain","Scope 3 GHG emissions for the validation of transactions and the maintenance of the integrity of the distributed ledger per calendar year","GHG emissions (tCO2e)","",""]
[{"$f":"IF(Table2!E277=\"\",\"/*\",\"\")","v":""},"mica:GHGEmissionsReductionTargetsOrCommitmentsExplanatory",{"$f":"Table2!E277","v":" Ex: Here is a sample text... (textBlock format)"},"2025-01-01","2025-12-31",null,null,null,null,null,null,null,null,null,null,null,null,null,null,null,null,null,null,null,null,null,{"$f":"ROW(INDIRECT(MID(_xlfn.FORMULATEXT(C292),2,LEN(_xlfn.FORMULATEXT(C292)))))","v":277},"S.21 GHG emissions reduction targets or commitments","GHG emissions reduction targets or commitments, expressed in terms of absolute or relative reduction in GHG emissions over one calendar year","textBlock","",""]
[{"$f":"IF(Table2!E278=\"\",\"/*\",\"\")","v":""},"mica:GenerationOfWasteElectricalAndElectronicEquipmentWEEE",{"$f":"Table2!E278","v":" Ex: 27.04"},"2025-01-01","2025-12-31","utr:t",2,0,null,null,null,null,null,null,null,null,null,null,null,null,null,null,null,null,null,null,{"$f":"ROW(INDIRECT(MID(_xlfn.FORMULATEXT(C293),2,LEN(_xlfn.FORMULATEXT(C293)))))","v":278},"S.22 Generation of waste electrical and electronic equipment (WEEE)","Total amount of WEEE generated for the validation of transactions and the maintenance of the integrity of the distributed ledger per calendar year","mass (tonnes)","",""]
[{"$f":"IF(Table2!E279=\"\",\"/*\",\"\")","v":""},"mica:NonrecycledWEEEratio",{"$f":"Table2!E279","v":" Ex: 27.1018%"},"2025-01-01","2025-12-31","xbrli:pure",4,-2,null,null,null,null,null,null,null,null,null,null,null,null,null,null,null,null,null,null,{"$f":"ROW(INDIRECT(MID(_xlfn.FORMULATEXT(C294),2,LEN(_xlfn.FORMULATEXT(C294)))))","v":279},"S.23 Non-recycled WEEE ratio","Share of the total amount of WEEE generated for the validation of transactions and the maintenance of the integrity of the distributed ledger, not recycled per calendar year","percent","",""]
[{"$f":"IF(Table2!E280=\"\",\"/*\",\"\")","v":""},"mica:GenerationOfHazardousWaste",{"$f":"Table2!E280","v":" Ex: 27.04"},"2025-01-01","2025-12-31","utr:t",2,0,null,null,null,null,null,null,null,null,null,null,null,null,null,null,null,null,null,null,{"$f":"ROW(INDIRECT(MID(_xlfn.FORMULATEXT(C295),2,LEN(_xlfn.FORMULATEXT(C295)))))","v":280},"S.24 Generation of hazardous waste","Total amount of hazardous waste generated for the validation of transactions and the maintenance of the integrity of the distributed ledger per calendar year","mass (tonnes)","",""]
[{"$f":"IF(Table2!E281=\"\",\"/*\",\"\")","v":""},"mica:GenerationOfWasteAllTypes",{"$f":"Table2!E281","v":" Ex: 27.04"},"2025-01-01","2025-12-31","utr:t",2,0,null,null,null,null,null,null,null,null,null,null,null,null,null,null,null,null,null,null,{"$f":"ROW(INDIRECT(MID(_xlfn.FORMULATEXT(C296),2,LEN(_xlfn.FORMULATEXT(C296)))))","v":281},"S.25 Generation of waste (all types)","Total amount of waste generated by the validation of transactions and the maintenance of the integrity of the distributed ledger","mass (tonnes)","",""]
[{"$f":"IF(Table2!E282=\"\",\"/*\",\"\")","v":""},"mica:NonrecycledWasteRatioAllTypes",{"$f":"Table2!E282","v":" Ex: 27.1018%"},"2025-01-01","2025-12-31","xbrli:pure",4,-2,null,null,null,null,null,null,null,null,null,null,null,null,null,null,null,null,null,null,{"$f":"ROW(INDIRECT(MID(_xlfn.FORMULATEXT(C297),2,LEN(_xlfn.FORMULATEXT(C297)))))","v":282},"S.26 Non-recycled waste ratio (all types)","Share of the total amount of waste generated for the validation of transactions and the maintenance of the integrity of the distributed ledger not recycled per calendar year","percent","",""]
[{"$f":"IF(Table2!E283=\"\",\"/*\",\"\")","v":""},"mica:WasteIntensityAllTypes",{"$f":"Table2!E283","v":" Ex: 27.04"},"2025-01-01","2025-12-31","utr:t",2,0,null,null,null,null,null,null,null,null,null,null,null,null,null,null,null,null,null,null,{"$f":"ROW(INDIRECT(MID(_xlfn.FORMULATEXT(C298),2,LEN(_xlfn.FORMULATEXT(C298)))))","v":283},"S.27 Waste intensity (all types)","Total amount of waste generated per transaction validated","mass (tonnes)","",""]
[{"$f":"IF(Table2!E284=\"\",\"/*\",\"\")","v":""},"mica:WasteReductionTargetsOrCommitmentsAllTypesExplanatory",{"$f":"Table2!E284","v":" Ex: Here is a sample text... (textBlock format)"},"2025-01-01","2025-12-31",null,null,null,null,null,null,null,null,null,null,null,null,null,null,null,null,null,null,null,null,null,{"$f":"ROW(INDIRECT(MID(_xlfn.FORMULATEXT(C299),2,LEN(_xlfn.FORMULATEXT(C299)))))","v":284},"S.28 Waste reduction targets or commitments (all types)","Waste reduction targets or commitments, expressed in absolute or relative reduction in waste generation over one calendar year","textBlock","",""]
[{"$f":"IF(Table2!E285=\"\",\"/*\",\"\")","v":""},"mica:ImpactOfUseOfEquipmentOnNaturalResourcesExplanatory",{"$f":"Table2!E285","v":" Ex: Here is a sample text... (textBlock format)"},"2025-01-01","2025-12-31",null,null,null,null,null,null,null,null,null,null,null,null,null,null,null,null,null,null,null,null,null,{"$f":"ROW(INDIRECT(MID(_xlfn.FORMULATEXT(C300),2,LEN(_xlfn.FORMULATEXT(C300)))))","v":285},"S.29 Impact of use of equipment on natural resources","Description of the impact on natural resources of the production, the use and the disposal of the devices of the DLT network nodes","textBlock","",""]
[{"$f":"IF(Table2!E286=\"\",\"/*\",\"\")","v":""},"mica:NaturalResourcesUseReductionTargetsOrCommitmentsExplanatory",{"$f":"Table2!E286","v":" Ex: Here is a sample text... (textBlock format)"},"2025-01-01","2025-12-31",null,null,null,null,null,null,null,null,null,null,null,null,null,null,null,null,null,null,null,null,null,{"$f":"ROW(INDIRECT(MID(_xlfn.FORMULATEXT(C301),2,LEN(_xlfn.FORMULATEXT(C301)))))","v":286},"S.30 Natural resources use reduction targets or commitments","Natural resources use reduction targets or commitments, expressed in absolute or relative reduction in use of natural resources over one calendar year","textBlock","",""]
[{"$f":"IF(Table2!E287=\"\",\"/*\",\"\")","v":""},"mica:WaterUse",{"$f":"Table2!E287","v":" Ex: 27.04"},"2025-01-01","2025-12-31","utr:m3",4,0,null,null,null,null,null,null,null,null,null,null,null,null,null,null,null,null,null,null,{"$f":"ROW(INDIRECT(MID(_xlfn.FORMULATEXT(C302),2,LEN(_xlfn.FORMULATEXT(C302)))))","v":287},"S.31 Water use","Total water consumption linked to the validation of transactions and the maintenance of the integrity of the distributed ledger, expressed in cubic meters","volume (m3)","",""]
[{"$f":"IF(Table2!E288=\"\",\"/*\",\"\")","v":""},"mica:NonRecycledWaterRatio",{"$f":"Table2!E288","v":" Ex: 27.1018%"},"2025-01-01","2025-12-31","xbrli:pure",4,-2,null,null,null,null,null,null,null,null,null,null,null,null,null,null,null,null,null,null,{"$f":"ROW(INDIRECT(MID(_xlfn.FORMULATEXT(C303),2,LEN(_xlfn.FORMULATEXT(C303)))))","v":288},"S.32 Non recycled water ratio","Share of the total water consumed not recycled and not reused linked to the validation of transactions and the maintenance of the integrity of the distributed ledger per calendar year, expressed as a percentage","percent","",""]
[{"$f":"IF(Table2!E289=\"\",\"/*\",\"\")","v":"/*"},"mica:OtherSourcesAndMethodologiesAbstract",{"$f":"Table2!E289","v":0},"2025-01-01","2025-12-31",null,null,null,null,null,null,null,null,null,null,null,null,null,null,null,null,null,null,null,null,null,{"$f":"ROW(INDIRECT(MID(_xlfn.FORMULATEXT(C304),2,LEN(_xlfn.FORMULATEXT(C304)))))","v":289},"Sources and methodologies","","","",""]
[{"$f":"IF(Table2!E290=\"\",\"/*\",\"\")","v":""},"mica:OtherEnergySourcesAndMethodologiesExplanatory",{"$f":"Table2!E290","v":" Ex: Here is a sample text... (textBlock format)"},"2025-01-01","2025-12-31",null,null,null,null,null,null,null,null,null,null,null,null,null,null,null,null,null,null,null,null,null,{"$f":"ROW(INDIRECT(MID(_xlfn.FORMULATEXT(C305),2,LEN(_xlfn.FORMULATEXT(C305)))))","v":290},"S.33 Other energy sources and methodologies","Sources and methodologies used in relation to the information reported in fields S.17 and S.18","textBlock","",""]
[{"$f":"IF(Table2!E291=\"\",\"/*\",\"\")","v":""},"mica:OtherGHGSourcesAndMethodologiesExplanatory",{"$f":"Table2!E291","v":" Ex: Here is a sample text... (textBlock format)"},"2025-01-01","2025-12-31",null,null,null,null,null,null,null,null,null,null,null,null,null,null,null,null,null,null,null,null,null,{"$f":"ROW(INDIRECT(MID(_xlfn.FORMULATEXT(C306),2,LEN(_xlfn.FORMULATEXT(C306)))))","v":291},"S.34 Other GHG sources and methodologies","Sources and methodologies used in relation to the information reported in fields S.19, S.20 and S.21","textBlock","",""]
[{"$f":"IF(Table2!E292=\"\",\"/*\",\"\")","v":""},"mica:WasteSourcesAndMethodologiesExplanatory",{"$f":"Table2!E292","v":" Ex: Here is a sample text... (textBlock format)"},"2025-01-01","2025-12-31",null,null,null,null,null,null,null,null,null,null,null,null,null,null,null,null,null,null,null,null,null,{"$f":"ROW(INDIRECT(MID(_xlfn.FORMULATEXT(C307),2,LEN(_xlfn.FORMULATEXT(C307)))))","v":292},"S.35 Waste sources and methodologies","Sources and methodologies used in relation to the information reported in fields S.22, S.23, S.24, S.25, S.26, S.27 and S.28","textBlock","",""]
[{"$f":"IF(Table2!E293=\"\",\"/*\",\"\")","v":""},"mica:NaturalResourcesSourcesAndMethodologiesExplanatory",{"$f":"Table2!E293","v":" Ex: Here is a sample text... (textBlock format)"},"2025-01-01","2025-12-31",null,null,null,null,null,null,null,null,null,null,null,null,null,null,null,null,null,null,null,null,null,{"$f":"ROW(INDIRECT(MID(_xlfn.FORMULATEXT(C308),2,LEN(_xlfn.FORMULATEXT(C308)))))","v":293},"S.36 Natural resources sources and methodologies","Sources and methodologies used in relation to the information reported in fields S.29, S.30, S.31 and S.32","textBlock","",""]

{"sheet":"TableOfContent_T2","index":12,"n_rows":20,"n_cols":6,"rows_kept":20,"cut":false,"hidden":true,"merged":[]}
[null,null,null,null,null,"  .."]
[null,null,null,"White paper for crypto-assets other than asset-referenced tokens or e-money tokens"]
[]
[null,null,null,"Digital Token Identifier:  ","DTI code"]
[null,null,null,"Offeror or person seeking admission to trading:  ","ASDQWEASDQWEASDZXC12 - toto"]
[null,null,null,"Type of submission:  ","Error"]
[]
[null,"Table of content"]
[null,"General information"]
[null,"SUMMARY"]
[null,"Part A - Information about offeror or person seeking admission to trading"]
[null,"Part B - Information about issuer, if different from offeror or person seeking admission to trading"]
[null,"Part C - Information about the operator of the trading platform in cases where it draws up the crypto-asset white paper and information about other persons drawing the crypto-asset white paper pursuant to Article 6(1), second subparagraph, of Regulation (EU) 2023/1114"]
[null,"Part D - Information about other token project"]
[null,"Part E - Information about offer to public of other tokens or their admission to trading"]
[null,"Part F - Information about other tokens"]
[null,"Part G - Information on rights and obligations attached to other tokens"]
[null,"Part H – Information on underlying technology"]
[null,"Part I - Information on risks"]
[null,"Part J - Information on the sustainability indicators in relation to adverse impact on the climate and other environment-related adverse impacts"]

{"sheet":"enum-ListOfHomeMemberStatesDoma","index":13,"n_rows":30,"n_cols":2,"rows_kept":30,"cut":false,"hidden":true,"merged":[]}
["https://www.esma.europa.eu/taxonomy/2025-03-31/mica/#AustriaMemberState","Austria"]
["https://www.esma.europa.eu/taxonomy/2025-03-31/mica/#BelgiumMemberState","Belgium"]
["https://www.esma.europa.eu/taxonomy/2025-03-31/mica/#BulgariaMemberState","Bulgaria"]
["https://www.esma.europa.eu/taxonomy/2025-03-31/mica/#CroatiaMemberState","Croatia"]
["https://www.esma.europa.eu/taxonomy/2025-03-31/mica/#CyprusMemberState","Cyprus"]
["https://www.esma.europa.eu/taxonomy/2025-03-31/mica/#CzechiaMemberState","Czechia"]
["https://www.esma.europa.eu/taxonomy/2025-03-31/mica/#DenmarkMemberState","Denmark"]
["https://www.esma.europa.eu/taxonomy/2025-03-31/mica/#EstoniaMemberState","Estonia"]
["https://www.esma.europa.eu/taxonomy/2025-03-31/mica/#FinlandMemberState","Finland"]
["https://www.esma.europa.eu/taxonomy/2025-03-31/mica/#FranceMemberState","France"]
["https://www.esma.europa.eu/taxonomy/2025-03-31/mica/#GermanyMemberState","Germany"]
["https://www.esma.europa.eu/taxonomy/2025-03-31/mica/#GreeceMemberState","Greece"]
["https://www.esma.europa.eu/taxonomy/2025-03-31/mica/#HungaryMemberState","Hungary"]
["https://www.esma.europa.eu/taxonomy/2025-03-31/mica/#IcelandMemberState","Iceland"]
["https://www.esma.europa.eu/taxonomy/2025-03-31/mica/#IrelandMemberState","Ireland"]
["https://www.esma.europa.eu/taxonomy/2025-03-31/mica/#ItalyMemberState","Italy"]
["https://www.esma.europa.eu/taxonomy/2025-03-31/mica/#LatviaMemberState","Latvia"]
["https://www.esma.europa.eu/taxonomy/2025-03-31/mica/#LiechtensteinMemberState","Liechtenstein"]
["https://www.esma.europa.eu/taxonomy/2025-03-31/mica/#LithuaniaMemberState","Lithuania"]
["https://www.esma.europa.eu/taxonomy/2025-03-31/mica/#LuxembourgMemberState","Luxembourg"]
["https://www.esma.europa.eu/taxonomy/2025-03-31/mica/#MaltaMemberState","Malta"]
["https://www.esma.europa.eu/taxonomy/2025-03-31/mica/#NetherlandsMemberState","Netherlands"]
["https://www.esma.europa.eu/taxonomy/2025-03-31/mica/#NorwayMemberState","Norway"]
["https://www.esma.europa.eu/taxonomy/2025-03-31/mica/#PolandMemberState","Poland"]
["https://www.esma.europa.eu/taxonomy/2025-03-31/mica/#PortugalMemberState","Portugal"]
["https://www.esma.europa.eu/taxonomy/2025-03-31/mica/#RomaniaMemberState","Romania"]
["https://www.esma.europa.eu/taxonomy/2025-03-31/mica/#SlovakiaMemberState","Slovakia"]
["https://www.esma.europa.eu/taxonomy/2025-03-31/mica/#SloveniaMemberState","Slovenia"]
["https://www.esma.europa.eu/taxonomy/2025-03-31/mica/#SpainMemberState","Spain"]
["https://www.esma.europa.eu/taxonomy/2025-03-31/mica/#SwedenMemberState","Sweden"]

{"sheet":"enum-ListOfExemptionFromAuthori","index":14,"n_rows":3,"n_cols":2,"rows_kept":3,"cut":false,"hidden":true,"merged":[]}
["https://www.esma.europa.eu/taxonomy/2025-03-31/mica/#NoExemptionExemptionFromAuthorisation","No exemption"]
["https://www.esma.europa.eu/taxonomy/2025-03-31/mica/#ExemptionInAccordanceWithArticle17ExemptionFromAuthorisation","Exemption in accordance with Article 17"]
["https://www.esma.europa.eu/taxonomy/2025-03-31/mica/#ExemptionInAccordanceWithArticle16ExemptionFromAuthorisation","Exemption in accordance with Article 16"]

{"sheet":"enum-ListOfAuthorisationAuthori","index":15,"n_rows":49,"n_cols":2,"rows_kept":49,"cut":false,"hidden":true,"merged":[]}
["https://www.esma.europa.eu/taxonomy/2025-03-31/mica/#AustrianFinancialMarketAuthorityFMA","Austrian Financial Market Authority (FMA)"]
["https://www.esma.europa.eu/taxonomy/2025-03-31/mica/#CommissionbancairefinanciereetdesassurancesCBFA","Commission bancaire, financière et des assurances (CBFA)"]
["https://www.esma.europa.eu/taxonomy/2025-03-31/mica/#FinancialServicesandMarketsAuthorityFSMA","Financial Services and Markets Authority (FSMA)"]
["https://www.esma.europa.eu/taxonomy/2025-03-31/mica/#NationalBankofBelgiumNBB","National Bank of Belgium (NBB)"]
["https://www.esma.europa.eu/taxonomy/2025-03-31/mica/#BulgarianNationalBankBNB","Bulgarian National Bank (BNB)"]
["https://www.esma.europa.eu/taxonomy/2025-03-31/mica/#FinancialSupervisionCommissionFSC","Financial Supervision Commission (FSC)"]
["https://www.esma.europa.eu/taxonomy/2025-03-31/mica/#CentralBankofCyprusCBC","Central Bank of Cyprus (CBC)"]
["https://www.esma.europa.eu/taxonomy/2025-03-31/mica/#CyprusSecuritiesandExchangeCommissionCySEC","Cyprus Securities and Exchange Commission (CySEC)"]
["https://www.esma.europa.eu/taxonomy/2025-03-31/mica/#CzechNationalBankCNB","Czech National Bank (CNB)"]
["https://www.esma.europa.eu/taxonomy/2025-03-31/mica/#FederalFinancialSupervisoryAuthorityBaFin","Federal Financial Supervisory Authority (BaFin)"]
["https://www.esma.europa.eu/taxonomy/2025-03-31/mica/#Bundesbank","Bundesbank"]
["https://www.esma.europa.eu/taxonomy/2025-03-31/mica/#Finanstilsynet","Finanstilsynet"]
["https://www.esma.europa.eu/taxonomy/2025-03-31/mica/#EstonianFinancialSupervisionandResolutionAuthorityEFSRA","Estonian Financial Supervision and Resolution Authority (EFSRA)"]
["https://www.esma.europa.eu/taxonomy/2025-03-31/mica/#BancodeEspana","Banco de Espana"]
["https://www.esma.europa.eu/taxonomy/2025-03-31/mica/#ComisionNacionaldelMercadodeValoresCNMV","Comisión Nacional del Mercado de Valores (CNMV)"]
["https://www.esma.europa.eu/taxonomy/2025-03-31/mica/#EuropeanBankingAuthorityEBA","European Banking Authority (EBA)"]
["https://www.esma.europa.eu/taxonomy/2025-03-31/mica/#EuropeanSecuritiesandMarketsAuthorityESMA","European Securities and Markets Authority (ESMA)"]
["https://www.esma.europa.eu/taxonomy/2025-03-31/mica/#BankingSupervisionOfficeBSO","Banking Supervision Office (BSO)"]
["https://www.esma.europa.eu/taxonomy/2025-03-31/mica/#FinanssivalvontaFIN-FSA","Finanssivalvonta (FIN-FSA)"]
["https://www.esma.europa.eu/taxonomy/2025-03-31/mica/#AutoritedeControlePrudentieletdeResolutionACPR","Autorité de Contrôle Prudentiel et de Résolution (ACPR)"]
["https://www.esma.europa.eu/taxonomy/2025-03-31/mica/#AutoritedesMarchesFinanciersAMF","Autorité des Marchés Financiers (AMF)"]
["https://www.esma.europa.eu/taxonomy/2025-03-31/mica/#BankofGreece","Bank of Greece"]
["https://www.esma.europa.eu/taxonomy/2025-03-31/mica/#HellenicCapitalMarketCommissionHCMC","Hellenic Capital Market Commission (HCMC)"]
["https://www.esma.europa.eu/taxonomy/2025-03-31/mica/#CroatianFinancialServicesSupervisoryAgencyHANFA","Croatian Financial Services Supervisory Agency (HANFA)"]
["https://www.esma.europa.eu/taxonomy/2025-03-31/mica/#CroatianNationalBankHNB","Croatian National Bank (HNB)"]
["https://www.esma.europa.eu/taxonomy/2025-03-31/mica/#CentralBankofHungaryMNB","Central Bank of Hungary (MNB)"]
["https://www.esma.europa.eu/taxonomy/2025-03-31/mica/#CentralBankofIrelandCBI","Central Bank of Ireland (CBI)"]
["https://www.esma.europa.eu/taxonomy/2025-03-31/mica/#IcelandFinancialSupervisoryAuthorityFME","Iceland Financial Supervisory Authority (FME)"]
["https://www.esma.europa.eu/taxonomy/2025-03-31/mica/#CentralBankofIceland","Central Bank of Iceland"]
["https://www.esma.europa.eu/taxonomy/2025-03-31/mica/#BancadItalia","Banca d'Italia"]
["https://www.esma.europa.eu/taxonomy/2025-03-31/mica/#CommissioneNazionaleperleSocietaelaBorsaCONSOB","Commissione Nazionale per le Societa e la Borsa (CONSOB)"]
["https://www.esma.europa.eu/taxonomy/2025-03-31/mica/#FinanzmarktaufsichtFMA","Finanzmarktaufsicht (FMA)"]
["https://www.esma.europa.eu/taxonomy/2025-03-31/mica/#BankofLithuaniaLSC","Bank of Lithuania (LSC)"]
["https://www.esma.europa.eu/taxonomy/2025-03-31/mica/#CommissiondeSurveillanceduSecteurFinancierCSSF","Commission de Surveillance du Secteur Financier (CSSF)"]
["https://www.esma.europa.eu/taxonomy/2025-03-31/mica/#LatvijasBanka","Latvijas Banka"]
["https://www.esma.europa.eu/taxonomy/2025-03-31/mica/#MaltaFinancialServicesAuthorityMFSA","Malta Financial Services Authority (MFSA)"]
["https://www.esma.europa.eu/taxonomy/2025-03-31/mica/#NetherlandsAuthorityfortheFinancialMarketsAFM","Netherlands Authority for the Financial Markets (AFM)"]
["https://www.esma.europa.eu/taxonomy/2025-03-31/mica/#DeNederlandscheBankDNB","De Nederlandsche Bank (DNB)"]
["https://www.esma.europa.eu/taxonomy/2025-03-31/mica/#CreditSupervisoryAuthority","Credit Supervisory Authority"]
["https://www.esma.europa.eu/taxonomy/2025-03-31/mica/#NorwegianFinancialSupervisoryAuthorityFinanstilsynet","Norwegian Financial Supervisory Authority  (Finanstilsynet)"]
["https://www.esma.europa.eu/taxonomy/2025-03-31/mica/#PolishFinancialSupervisoryAuthorityKNF","Polish Financial Supervisory Authority (KNF)"]
["https://www.esma.europa.eu/taxonomy/2025-03-31/mica/#BancodePortugal","Banco de Portugal"]
["https://www.esma.europa.eu/taxonomy/2025-03-31/mica/#ComissaodoMercadodeValoresMobiliariosCMVM","Comissão do Mercado de Valores Mobiliários (CMVM)"]
["https://www.esma.europa.eu/taxonomy/2025-03-31/mica/#NationalBankofRomaniaBNR","National Bank of Romania (BNR)"]
["https://www.esma.europa.eu/taxonomy/2025-03-31/mica/#RomanianFinancialSupervisoryAuthority","Romanian Financial Supervisory Authority"]
["https://www.esma.europa.eu/taxonomy/2025-03-31/mica/#FinansinspektionenFI","Finansinspektionen (FI)"]
["https://www.esma.europa.eu/taxonomy/2025-03-31/mica/#BankaSlovenije","Banka Slovenije"]
["https://www.esma.europa.eu/taxonomy/2025-03-31/mica/#SecuritiesMarketAgencyATVP","Securities Market Agency (ATVP)"]
["https://www.esma.europa.eu/taxonomy/2025-03-31/mica/#NationalBankofSlovakiaNBS","National Bank of Slovakia (NBS)"]

{"sheet":"enum-ListOfCompetentAuthorityDo","index":16,"n_rows":49,"n_cols":2,"rows_kept":49,"cut":false,"hidden":true,"merged":[]}
["https://www.esma.europa.eu/taxonomy/2025-03-31/mica/#AustrianFinancialMarketAuthorityFMA","Austrian Financial Market Authority (FMA)"]
["https://www.esma.europa.eu/taxonomy/2025-03-31/mica/#CommissionbancairefinanciereetdesassurancesCBFA","Commission bancaire, financière et des assurances (CBFA)"]
["https://www.esma.europa.eu/taxonomy/2025-03-31/mica/#FinancialServicesandMarketsAuthorityFSMA","Financial Services and Markets Authority (FSMA)"]
["https://www.esma.europa.eu/taxonomy/2025-03-31/mica/#NationalBankofBelgiumNBB","National Bank of Belgium (NBB)"]
["https://www.esma.europa.eu/taxonomy/2025-03-31/mica/#BulgarianNationalBankBNB","Bulgarian National Bank (BNB)"]
["https://www.esma.europa.eu/taxonomy/2025-03-31/mica/#FinancialSupervisionCommissionFSC","Financial Supervision Commission (FSC)"]
["https://www.esma.europa.eu/taxonomy/2025-03-31/mica/#CentralBankofCyprusCBC","Central Bank of Cyprus (CBC)"]
["https://www.esma.europa.eu/taxonomy/2025-03-31/mica/#CyprusSecuritiesandExchangeCommissionCySEC","Cyprus Securities and Exchange Commission (CySEC)"]
["https://www.esma.europa.eu/taxonomy/2025-03-31/mica/#CzechNationalBankCNB","Czech National Bank (CNB)"]
["https://www.esma.europa.eu/taxonomy/2025-03-31/mica/#FederalFinancialSupervisoryAuthorityBaFin","Federal Financial Supervisory Authority (BaFin)"]
["https://www.esma.europa.eu/taxonomy/2025-03-31/mica/#Bundesbank","Bundesbank"]
["https://www.esma.europa.eu/taxonomy/2025-03-31/mica/#Finanstilsynet","Finanstilsynet"]
["https://www.esma.europa.eu/taxonomy/2025-03-31/mica/#EstonianFinancialSupervisionandResolutionAuthorityEFSRA","Estonian Financial Supervision and Resolution Authority (EFSRA)"]
["https://www.esma.europa.eu/taxonomy/2025-03-31/mica/#BancodeEspana","Banco de Espana"]
["https://www.esma.europa.eu/taxonomy/2025-03-31/mica/#ComisionNacionaldelMercadodeValoresCNMV","Comisión Nacional del Mercado de Valores (CNMV)"]
["https://www.esma.europa.eu/taxonomy/2025-03-31/mica/#EuropeanBankingAuthorityEBA","European Banking Authority (EBA)"]
["https://www.esma.europa.eu/taxonomy/2025-03-31/mica/#EuropeanSecuritiesandMarketsAuthorityESMA","European Securities and Markets Authority (ESMA)"]
["https://www.esma.europa.eu/taxonomy/2025-03-31/mica/#BankingSupervisionOfficeBSO","Banking Supervision Office (BSO)"]
["https://www.esma.europa.eu/taxonomy/2025-03-31/mica/#FinanssivalvontaFIN-FSA","Finanssivalvonta (FIN-FSA)"]
["https://www.esma.europa.eu/taxonomy/2025-03-31/mica/#AutoritedeControlePrudentieletdeResolutionACPR","Autorité de Contrôle Prudentiel et de Résolution (ACPR)"]
["https://www.esma.europa.eu/taxonomy/2025-03-31/mica/#AutoritedesMarchesFinanciersAMF","Autorité des Marchés Financiers (AMF)"]
["https://www.esma.europa.eu/taxonomy/2025-03-31/mica/#BankofGreece","Bank of Greece"]
["https://www.esma.europa.eu/taxonomy/2025-03-31/mica/#HellenicCapitalMarketCommissionHCMC","Hellenic Capital Market Commission (HCMC)"]
["https://www.esma.europa.eu/taxonomy/2025-03-31/mica/#CroatianFinancialServicesSupervisoryAgencyHANFA","Croatian Financial Services Supervisory Agency (HANFA)"]
["https://www.esma.europa.eu/taxonomy/2025-03-31/mica/#CroatianNationalBankHNB","Croatian National Bank (HNB)"]
["https://www.esma.europa.eu/taxonomy/2025-03-31/mica/#CentralBankofHungaryMNB","Central Bank of Hungary (MNB)"]
["https://www.esma.europa.eu/taxonomy/2025-03-31/mica/#CentralBankofIrelandCBI","Central Bank of Ireland (CBI)"]
["https://www.esma.europa.eu/taxonomy/2025-03-31/mica/#IcelandFinancialSupervisoryAuthorityFME","Iceland Financial Supervisory Authority (FME)"]
["https://www.esma.europa.eu/taxonomy/2025-03-31/mica/#CentralBankofIceland","Central Bank of Iceland"]
["https://www.esma.europa.eu/taxonomy/2025-03-31/mica/#BancadItalia","Banca d'Italia"]
["https://www.esma.europa.eu/taxonomy/2025-03-31/mica/#CommissioneNazionaleperleSocietaelaBorsaCONSOB","Commissione Nazionale per le Societa e la Borsa (CONSOB)"]
["https://www.esma.europa.eu/taxonomy/2025-03-31/mica/#FinanzmarktaufsichtFMA","Finanzmarktaufsicht (FMA)"]
["https://www.esma.europa.eu/taxonomy/2025-03-31/mica/#BankofLithuaniaLSC","Bank of Lithuania (LSC)"]
["https://www.esma.europa.eu/taxonomy/2025-03-31/mica/#CommissiondeSurveillanceduSecteurFinancierCSSF","Commission de Surveillance du Secteur Financier (CSSF)"]
["https://www.esma.europa.eu/taxonomy/2025-03-31/mica/#LatvijasBanka","Latvijas Banka"]
["https://www.esma.europa.eu/taxonomy/2025-03-31/mica/#MaltaFinancialServicesAuthorityMFSA","Malta Financial Services Authority (MFSA)"]
["https://www.esma.europa.eu/taxonomy/2025-03-31/mica/#NetherlandsAuthorityfortheFinancialMarketsAFM","Netherlands Authority for the Financial Markets (AFM)"]
["https://www.esma.europa.eu/taxonomy/2025-03-31/mica/#DeNederlandscheBankDNB","De Nederlandsche Bank (DNB)"]
["https://www.esma.europa.eu/taxonomy/2025-03-31/mica/#CreditSupervisoryAuthority","Credit Supervisory Authority"]
["https://www.esma.europa.eu/taxonomy/2025-03-31/mica/#NorwegianFinancialSupervisoryAuthorityFinanstilsynet","Norwegian Financial Supervisory Authority  (Finanstilsynet)"]
["https://www.esma.europa.eu/taxonomy/2025-03-31/mica/#PolishFinancialSupervisoryAuthorityKNF","Polish Financial Supervisory Authority (KNF)"]
["https://www.esma.europa.eu/taxonomy/2025-03-31/mica/#BancodePortugal","Banco de Portugal"]
["https://www.esma.europa.eu/taxonomy/2025-03-31/mica/#ComissaodoMercadodeValoresMobiliariosCMVM","Comissão do Mercado de Valores Mobiliários (CMVM)"]
["https://www.esma.europa.eu/taxonomy/2025-03-31/mica/#NationalBankofRomaniaBNR","National Bank of Romania (BNR)"]
["https://www.esma.europa.eu/taxonomy/2025-03-31/mica/#RomanianFinancialSupervisoryAuthority","Romanian Financial Supervisory Authority"]
["https://www.esma.europa.eu/taxonomy/2025-03-31/mica/#FinansinspektionenFI","Finansinspektionen (FI)"]
["https://www.esma.europa.eu/taxonomy/2025-03-31/mica/#BankaSlovenije","Banka Slovenije"]
["https://www.esma.europa.eu/taxonomy/2025-03-31/mica/#SecuritiesMarketAgencyATVP","Securities Market Agency (ATVP)"]
["https://www.esma.europa.eu/taxonomy/2025-03-31/mica/#NationalBankofSlovakiaNBS","National Bank of Slovakia (NBS)"]

{"sheet":"enum-AssetreferencedTokenWhiteP","index":17,"n_rows":1,"n_cols":2,"rows_kept":1,"cut":false,"hidden":true,"merged":[]}
["https://www.esma.europa.eu/taxonomy/2025-03-31/mica/#AssetreferencedTokenWhitePaper","Asset-referenced token white paper"]

{"sheet":"enum-ListOfHostMemberStatesDoma","index":18,"n_rows":30,"n_cols":2,"rows_kept":30,"cut":false,"hidden":true,"merged":[]}
["https://www.esma.europa.eu/taxonomy/2025-03-31/mica/#AustriaMemberState","Austria"]
["https://www.esma.europa.eu/taxonomy/2025-03-31/mica/#BelgiumMemberState","Belgium"]
["https://www.esma.europa.eu/taxonomy/2025-03-31/mica/#BulgariaMemberState","Bulgaria"]
["https://www.esma.europa.eu/taxonomy/2025-03-31/mica/#CroatiaMemberState","Croatia"]
["https://www.esma.europa.eu/taxonomy/2025-03-31/mica/#CyprusMemberState","Cyprus"]
["https://www.esma.europa.eu/taxonomy/2025-03-31/mica/#CzechiaMemberState","Czechia"]
["https://www.esma.europa.eu/taxonomy/2025-03-31/mica/#DenmarkMemberState","Denmark"]
["https://www.esma.europa.eu/taxonomy/2025-03-31/mica/#EstoniaMemberState","Estonia"]
["https://www.esma.europa.eu/taxonomy/2025-03-31/mica/#FinlandMemberState","Finland"]
["https://www.esma.europa.eu/taxonomy/2025-03-31/mica/#FranceMemberState","France"]
["https://www.esma.europa.eu/taxonomy/2025-03-31/mica/#GermanyMemberState","Germany"]
["https://www.esma.europa.eu/taxonomy/2025-03-31/mica/#GreeceMemberState","Greece"]
["https://www.esma.europa.eu/taxonomy/2025-03-31/mica/#HungaryMemberState","Hungary"]
["https://www.esma.europa.eu/taxonomy/2025-03-31/mica/#IcelandMemberState","Iceland"]
["https://www.esma.europa.eu/taxonomy/2025-03-31/mica/#IrelandMemberState","Ireland"]
["https://www.esma.europa.eu/taxonomy/2025-03-31/mica/#ItalyMemberState","Italy"]
["https://www.esma.europa.eu/taxonomy/2025-03-31/mica/#LatviaMemberState","Latvia"]
["https://www.esma.europa.eu/taxonomy/2025-03-31/mica/#LiechtensteinMemberState","Liechtenstein"]
["https://www.esma.europa.eu/taxonomy/2025-03-31/mica/#LithuaniaMemberState","Lithuania"]
["https://www.esma.europa.eu/taxonomy/2025-03-31/mica/#LuxembourgMemberState","Luxembourg"]
["https://www.esma.europa.eu/taxonomy/2025-03-31/mica/#MaltaMemberState","Malta"]
["https://www.esma.europa.eu/taxonomy/2025-03-31/mica/#NetherlandsMemberState","Netherlands"]
["https://www.esma.europa.eu/taxonomy/2025-03-31/mica/#NorwayMemberState","Norway"]
["https://www.esma.europa.eu/taxonomy/2025-03-31/mica/#PolandMemberState","Poland"]
["https://www.esma.europa.eu/taxonomy/2025-03-31/mica/#PortugalMemberState","Portugal"]
["https://www.esma.europa.eu/taxonomy/2025-03-31/mica/#RomaniaMemberState","Romania"]
["https://www.esma.europa.eu/taxonomy/2025-03-31/mica/#SlovakiaMemberState","Slovakia"]
["https://www.esma.europa.eu/taxonomy/2025-03-31/mica/#SloveniaMemberState","Slovenia"]
["https://www.esma.europa.eu/taxonomy/2025-03-31/mica/#SpainMemberState","Spain"]
["https://www.esma.europa.eu/taxonomy/2025-03-31/mica/#SwedenMemberState","Sweden"]

{"sheet":"enum-CurrencyDomain","index":19,"n_rows":281,"n_cols":2,"rows_kept":281,"cut":false,"hidden":true,"merged":[]}
["http://www.xbrl.org/2003/iso4217#ADP","Andorran Peseta (before 2003-07)"]
["http://www.xbrl.org/2003/iso4217#AED","UAE Dirham"]
["http://www.xbrl.org/2003/iso4217#AFA","Afghani (before 2003-01)"]
["http://www.xbrl.org/2003/iso4217#AFN","Afghani"]
["http://www.xbrl.org/2003/iso4217#ALK","Old Lek (before 1989-12)"]
["http://www.xbrl.org/2003/iso4217#ALL","Lek"]
["http://www.xbrl.org/2003/iso4217#AMD","Armenian Dram"]
["http://www.xbrl.org/2003/iso4217#ANG","Netherlands Antillean Guilder"]
["http://www.xbrl.org/2003/iso4217#AOA","Kwanza"]
["http://www.xbrl.org/2003/iso4217#AOK","Kwanza (before 1991-03)"]
["http://www.xbrl.org/2003/iso4217#AON","New Kwanza (before 2000-02)"]
["http://www.xbrl.org/2003/iso4217#AOR","Kwanza Reajustado (before 2000-02)"]
["http://www.xbrl.org/2003/iso4217#ARA","Austral (before 1992-01)"]
["http://www.xbrl.org/2003/iso4217#ARP","Peso Argentino (before 1985-07)"]
["http://www.xbrl.org/2003/iso4217#ARS","Argentine Peso"]
["http://www.xbrl.org/2003/iso4217#ARY","Peso (before 1990-12)"]
["http://www.xbrl.org/2003/iso4217#ATS","Schilling (before 2002-03)"]
["http://www.xbrl.org/2003/iso4217#AUD","Australian Dollar"]
["http://www.xbrl.org/2003/iso4217#AWG","Aruban Florin"]
["http://www.xbrl.org/2003/iso4217#AYM","Azerbaijan Manat (before 2005-10)"]
["http://www.xbrl.org/2003/iso4217#AZM","Azerbaijanian Manat (before 2005-12)"]
["http://www.xbrl.org/2003/iso4217#AZN","Azerbaijan Manat"]
["http://www.xbrl.org/2003/iso4217#BAD","Dinar (before 1998-07)"]
["http://www.xbrl.org/2003/iso4217#BAM","Convertible Mark"]
["http://www.xbrl.org/2003/iso4217#BBD","Barbados Dollar"]
["http://www.xbrl.org/2003/iso4217#BDT","Taka"]
["http://www.xbrl.org/2003/iso4217#BEC","Convertible Franc (before 1990-03)"]
["http://www.xbrl.org/2003/iso4217#BEF","Belgian Franc (before 2002-03)"]
["http://www.xbrl.org/2003/iso4217#BEL","Financial Franc (before 1990-03)"]
["http://www.xbrl.org/2003/iso4217#BGJ","Lev A/52 (before 1990-12)"]
["http://www.xbrl.org/2003/iso4217#BGK","Lev A/62 (before 1990-12)"]
["http://www.xbrl.org/2003/iso4217#BGL","Lev (before 2003-11)"]
["http://www.xbrl.org/2003/iso4217#BGN","Bulgarian Lev"]
["http://www.xbrl.org/2003/iso4217#BHD","Bahraini Dinar"]
["http://www.xbrl.org/2003/iso4217#BIF","Burundi Franc"]
["http://www.xbrl.org/2003/iso4217#BMD","Bermudian Dollar"]
["http://www.xbrl.org/2003/iso4217#BND","Brunei Dollar"]
["http://www.xbrl.org/2003/iso4217#BOB","Boliviano"]
["http://www.xbrl.org/2003/iso4217#BOP","Peso boliviano (before 1987-02)"]
["http://www.xbrl.org/2003/iso4217#BRB","Cruzeiro (before 1986-03)"]
["http://www.xbrl.org/2003/iso4217#BRC","Cruzado (before 1989-02)"]
["http://www.xbrl.org/2003/iso4217#BRE","Cruzeiro (before 1993-03)"]
["http://www.xbrl.org/2003/iso4217#BRL","Brazilian Real"]
["http://www.xbrl.org/2003/iso4217#BRN","New Cruzado (before 1990-03)"]
["http://www.xbrl.org/2003/iso4217#BRR","Cruzeiro Real (before 1994-07)"]
["http://www.xbrl.org/2003/iso4217#BSD","Bahamian Dollar"]
["http://www.xbrl.org/2003/iso4217#BTN","Ngultrum"]
["http://www.xbrl.org/2003/iso4217#BUK","Kyat (before 1990-02)"]
["http://www.xbrl.org/2003/iso4217#BWP","Pula"]
["http://www.xbrl.org/2003/iso4217#BYB","Belarusian Ruble (before 2001-01)"]
["http://www.xbrl.org/2003/iso4217#BYN","Belarusian Ruble"]
["http://www.xbrl.org/2003/iso4217#BYR","Belarusian Ruble (before 2017-01)"]
["http://www.xbrl.org/2003/iso4217#BZD","Belize Dollar"]
["http://www.xbrl.org/2003/iso4217#CAD","Canadian Dollar"]
["http://www.xbrl.org/2003/iso4217#CDF","Congolese Franc"]
["http://www.xbrl.org/2003/iso4217#CHC","WIR Franc (for electronic) (before 2004-11)"]
["http://www.xbrl.org/2003/iso4217#CHF","Swiss Franc"]
["http://www.xbrl.org/2003/iso4217#CLP","Chilean Peso"]
["http://www.xbrl.org/2003/iso4217#CNY","Yuan Renminbi"]
["http://www.xbrl.org/2003/iso4217#COP","Colombian Peso"]
["http://www.xbrl.org/2003/iso4217#CRC","Costa Rican Colon"]
["http://www.xbrl.org/2003/iso4217#CSD","Serbian Dinar (before 2006-10)"]
["http://www.xbrl.org/2003/iso4217#CSJ","Krona A/53 (before 1990-12)"]
["http://www.xbrl.org/2003/iso4217#CSK","Koruna (before 1993-03)"]
["http://www.xbrl.org/2003/iso4217#CUC","Peso Convertible"]
["http://www.xbrl.org/2003/iso4217#CUP","Cuban Peso"]
["http://www.xbrl.org/2003/iso4217#CVE","Cabo Verde Escudo"]
["http://www.xbrl.org/2003/iso4217#CYP","Cyprus Pound (before 2008-01)"]
["http://www.xbrl.org/2003/iso4217#CZK","Czech Koruna"]
["http://www.xbrl.org/2003/iso4217#DDM","Mark der DDR (before 1990-09)"]
["http://www.xbrl.org/2003/iso4217#DEM","Deutsche Mark (before 2002-03)"]
["http://www.xbrl.org/2003/iso4217#DJF","Djibouti Franc"]
["http://www.xbrl.org/2003/iso4217#DKK","Danish Krone"]
["http://www.xbrl.org/2003/iso4217#DOP","Dominican Peso"]
["http://www.xbrl.org/2003/iso4217#DZD","Algerian Dinar"]
["http://www.xbrl.org/2003/iso4217#ECS","Sucre (before 2000-09)"]
["http://www.xbrl.org/2003/iso4217#ECV","Unidad de Valor Constante (UVC) (before 2000-09)"]
["http://www.xbrl.org/2003/iso4217#EEK","Kroon (before 2011-01)"]
["http://www.xbrl.org/2003/iso4217#EGP","Egyptian Pound"]
["http://www.xbrl.org/2003/iso4217#ERN","Nakfa"]
["http://www.xbrl.org/2003/iso4217#ESA","Spanish Peseta (before 1981-12)"]
["http://www.xbrl.org/2003/iso4217#ESB","\"A\" Account (convertible Peseta Account) (before 1994-12)"]
["http://www.xbrl.org/2003/iso4217#ESP","Spanish Peseta (before 2002-03)"]
["http://www.xbrl.org/2003/iso4217#ETB","Ethiopian Birr"]
["http://www.xbrl.org/2003/iso4217#EUR","Euro"]
["http://www.xbrl.org/2003/iso4217#FIM","Markka (before 2002-03)"]
["http://www.xbrl.org/2003/iso4217#FJD","Fiji Dollar"]
["http://www.xbrl.org/2003/iso4217#FKP","Falkland Islands Pound"]
["http://www.xbrl.org/2003/iso4217#FRF","French Franc (before 2002-03)"]
["http://www.xbrl.org/2003/iso4217#GBP","Pound Sterling"]
["http://www.xbrl.org/2003/iso4217#GEK","Georgian Coupon (before 1995-10)"]
["http://www.xbrl.org/2003/iso4217#GEL","Lari"]
["http://www.xbrl.org/2003/iso4217#GHC","Cedi (before 2008-01)"]
["http://www.xbrl.org/2003/iso4217#GHP","Ghana Cedi (before 2007-06)"]
["http://www.xbrl.org/2003/iso4217#GHS","Ghana Cedi"]
["http://www.xbrl.org/2003/iso4217#GIP","Gibraltar Pound"]
["http://www.xbrl.org/2003/iso4217#GMD","Dalasi"]
["http://www.xbrl.org/2003/iso4217#GNE","Syli (before 1989-12)"]
["http://www.xbrl.org/2003/iso4217#GNF","Guinean Franc"]
["http://www.xbrl.org/2003/iso4217#GNS","Syli (before 1986-02)"]
["http://www.xbrl.org/2003/iso4217#GQE","Ekwele (before 1986-06)"]
["http://www.xbrl.org/2003/iso4217#GRD","Drachma (before 2002-03)"]
["http://www.xbrl.org/2003/iso4217#GTQ","Quetzal"]
["http://www.xbrl.org/2003/iso4217#GWE","Guinea Escudo (before 1981-12)"]
["http://www.xbrl.org/2003/iso4217#GWP","Guinea-Bissau Peso (before 1997-05)"]
["http://www.xbrl.org/2003/iso4217#GYD","Guyana Dollar"]
["http://www.xbrl.org/2003/iso4217#HKD","Hong Kong Dollar"]
["http://www.xbrl.org/2003/iso4217#HNL","Lempira"]
["http://www.xbrl.org/2003/iso4217#HRD","Croatian Dinar (before 1995-01)"]
["http://www.xbrl.org/2003/iso4217#HRK","Kuna (before 2023-01)"]
["http://www.xbrl.org/2003/iso4217#HTG","Gourde"]
["http://www.xbrl.org/2003/iso4217#HUF","Forint"]
["http://www.xbrl.org/2003/iso4217#IDR","Rupiah"]
["http://www.xbrl.org/2003/iso4217#IEP","Irish Pound (before 2002-03)"]
["http://www.xbrl.org/2003/iso4217#ILP","Pound (before 1981-12)"]
["http://www.xbrl.org/2003/iso4217#ILR","Old Shekel (before 1990-12)"]
["http://www.xbrl.org/2003/iso4217#ILS","New Israeli Sheqel"]
["http://www.xbrl.org/2003/iso4217#INR","Indian Rupee"]
["http://www.xbrl.org/2003/iso4217#IQD","Iraqi Dinar"]
["http://www.xbrl.org/2003/iso4217#IRR","Iranian Rial"]
["http://www.xbrl.org/2003/iso4217#ISJ","Old Krona (before 1990-12)"]
["http://www.xbrl.org/2003/iso4217#ISK","Iceland Krona"]
["http://www.xbrl.org/2003/iso4217#ITL","Italian Lira (before 2002-03)"]
["http://www.xbrl.org/2003/iso4217#JMD","Jamaican Dollar"]
["http://www.xbrl.org/2003/iso4217#JOD","Jordanian Dinar"]
["http://www.xbrl.org/2003/iso4217#JPY","Yen"]
["http://www.xbrl.org/2003/iso4217#KES","Kenyan Shilling"]
["http://www.xbrl.org/2003/iso4217#KGS","Som"]
["http://www.xbrl.org/2003/iso4217#KHR","Riel"]
["http://www.xbrl.org/2003/iso4217#KMF","Comorian Franc "]
["http://www.xbrl.org/2003/iso4217#KPW","North Korean Won"]
["http://www.xbrl.org/2003/iso4217#KRW","Won"]
["http://www.xbrl.org/2003/iso4217#KWD","Kuwaiti Dinar"]
["http://www.xbrl.org/2003/iso4217#KYD","Cayman Islands Dollar"]
["http://www.xbrl.org/2003/iso4217#KZT","Tenge"]
["http://www.xbrl.org/2003/iso4217#LAJ","Pathet Lao Kip (before 1979-12)"]
["http://www.xbrl.org/2003/iso4217#LAK","Lao Kip"]
["http://www.xbrl.org/2003/iso4217#LBP","Lebanese Pound"]
["http://www.xbrl.org/2003/iso4217#LKR","Sri Lanka Rupee"]
["http://www.xbrl.org/2003/iso4217#LRD","Liberian Dollar"]
["http://www.xbrl.org/2003/iso4217#LSL","Loti"]
["http://www.xbrl.org/2003/iso4217#LSM","Loti (before 1985-05)"]
["http://www.xbrl.org/2003/iso4217#LTL","Lithuanian Litas (before 2014-12)"]
["http://www.xbrl.org/2003/iso4217#LTT","Talonas (before 1993-07)"]
["http://www.xbrl.org/2003/iso4217#LUC","Luxembourg Convertible Franc (before 1990-03)"]
["http://www.xbrl.org/2003/iso4217#LUF","Luxembourg Franc (before 2002-03)"]
["http://www.xbrl.org/2003/iso4217#LUL","Luxembourg Financial Franc (before 1990-03)"]
["http://www.xbrl.org/2003/iso4217#LVL","Latvian Lats (before 2014-01)"]
["http://www.xbrl.org/2003/iso4217#LVR","Latvian Ruble (before 1994-12)"]
["http://www.xbrl.org/2003/iso4217#LYD","Libyan Dinar"]
["http://www.xbrl.org/2003/iso4217#MAD","Moroccan Dirham"]
["http://www.xbrl.org/2003/iso4217#MDL","Moldovan Leu"]
["http://www.xbrl.org/2003/iso4217#MGA","Malagasy Ariary"]
["http://www.xbrl.org/2003/iso4217#MGF","Malagasy Franc (before 2004-12)"]
["http://www.xbrl.org/2003/iso4217#MKD","Denar"]
["http://www.xbrl.org/2003/iso4217#MLF","Mali Franc (before 1984-11)"]
["http://www.xbrl.org/2003/iso4217#MMK","Kyat"]
["http://www.xbrl.org/2003/iso4217#MNT","Tugrik"]
["http://www.xbrl.org/2003/iso4217#MOP","Pataca"]
["http://www.xbrl.org/2003/iso4217#MRO","Ouguiya (before 2017-12)"]
["http://www.xbrl.org/2003/iso4217#MRU","Ouguiya"]
["http://www.xbrl.org/2003/iso4217#MTL","Maltese Lira (before 2008-01)"]
["http://www.xbrl.org/2003/iso4217#MTP","Maltese Pound (before 1983-06)"]
["http://www.xbrl.org/2003/iso4217#MUR","Mauritius Rupee"]
["http://www.xbrl.org/2003/iso4217#MVQ","Maldive Rupee (before 1989-12)"]
["http://www.xbrl.org/2003/iso4217#MVR","Rufiyaa"]
["http://www.xbrl.org/2003/iso4217#MWK","Malawi Kwacha"]
["http://www.xbrl.org/2003/iso4217#MXN","Mexican Peso"]
["http://www.xbrl.org/2003/iso4217#MXP","Mexican Peso (before 1993-01)"]
["http://www.xbrl.org/2003/iso4217#MYR","Malaysian Ringgit"]
["http://www.xbrl.org/2003/iso4217#MZE","Mozambique Escudo (before 1981-12)"]
["http://www.xbrl.org/2003/iso4217#MZM","Mozambique Metical (before 2006-06)"]
["http://www.xbrl.org/2003/iso4217#MZN","Mozambique Metical"]
["http://www.xbrl.org/2003/iso4217#NAD","Namibia Dollar"]
["http://www.xbrl.org/2003/iso4217#NGN","Naira"]
["http://www.xbrl.org/2003/iso4217#NIC","Cordoba (before 1990-10)"]
["http://www.xbrl.org/2003/iso4217#NIO","Cordoba Oro"]
["http://www.xbrl.org/2003/iso4217#NLG","Netherlands Guilder (before 2002-03)"]
["http://www.xbrl.org/2003/iso4217#NOK","Norwegian Krone"]
["http://www.xbrl.org/2003/iso4217#NPR","Nepalese Rupee"]
["http://www.xbrl.org/2003/iso4217#NZD","New Zealand Dollar"]
["http://www.xbrl.org/2003/iso4217#OMR","Rial Omani"]
["http://www.xbrl.org/2003/iso4217#PAB","Balboa"]
["http://www.xbrl.org/2003/iso4217#PEH","Sol (before 1990-12)"]
["http://www.xbrl.org/2003/iso4217#PEI","Inti (before 1991-07)"]
["http://www.xbrl.org/2003/iso4217#PEN","Sol"]
["http://www.xbrl.org/2003/iso4217#PES","Sol (before 1986-02)"]
["http://www.xbrl.org/2003/iso4217#PGK","Kina"]
["http://www.xbrl.org/2003/iso4217#PHP","Philippine Peso"]
["http://www.xbrl.org/2003/iso4217#PKR","Pakistan Rupee"]
["http://www.xbrl.org/2003/iso4217#PLN","Zloty"]
["http://www.xbrl.org/2003/iso4217#PLZ","Zloty (before 1997-01)"]
["http://www.xbrl.org/2003/iso4217#PTE","Portuguese Escudo (before 2002-03)"]
["http://www.xbrl.org/2003/iso4217#PYG","Guarani"]
["http://www.xbrl.org/2003/iso4217#QAR","Qatari Rial"]
["http://www.xbrl.org/2003/iso4217#RHD","Rhodesian Dollar (before 1981-12)"]
["http://www.xbrl.org/2003/iso4217#ROK","Leu A/52 (before 1990-12)"]
["http://www.xbrl.org/2003/iso4217#ROL","Old Leu (before 2005-06)"]
["http://www.xbrl.org/2003/iso4217#RON","Romanian Leu"]
["http://www.xbrl.org/2003/iso4217#RSD","Serbian Dinar"]
["http://www.xbrl.org/2003/iso4217#RUB","Russian Ruble"]
["http://www.xbrl.org/2003/iso4217#RUR","Russian Ruble (before 2004-01)"]
["http://www.xbrl.org/2003/iso4217#RWF","Rwanda Franc"]
["http://www.xbrl.org/2003/iso4217#SAR","Saudi Riyal"]
["http://www.xbrl.org/2003/iso4217#SBD","Solomon Islands Dollar"]
["http://www.xbrl.org/2003/iso4217#SCR","Seychelles Rupee"]
["http://www.xbrl.org/2003/iso4217#SDD","Sudanese Dinar (before 2007-07)"]
["http://www.xbrl.org/2003/iso4217#SDG","Sudanese Pound"]
["http://www.xbrl.org/2003/iso4217#SDP","Sudanese Pound (before 1998-06)"]
["http://www.xbrl.org/2003/iso4217#SEK","Swedish Krona"]
["http://www.xbrl.org/2003/iso4217#SGD","Singapore Dollar"]
["http://www.xbrl.org/2003/iso4217#SHP","Saint Helena Pound"]
["http://www.xbrl.org/2003/iso4217#SIT","Tolar (before 2007-01)"]
["http://www.xbrl.org/2003/iso4217#SKK","Slovak Koruna (before 2009-01)"]
["http://www.xbrl.org/2003/iso4217#SLE","Leone"]
["http://www.xbrl.org/2003/iso4217#SLL","Leone (before 2023-12)"]
["http://www.xbrl.org/2003/iso4217#SOS","Somali Shilling"]
["http://www.xbrl.org/2003/iso4217#SRD","Surinam Dollar"]
["http://www.xbrl.org/2003/iso4217#SRG","Surinam Guilder (before 2003-12)"]
["http://www.xbrl.org/2003/iso4217#SSP","South Sudanese Pound"]
["http://www.xbrl.org/2003/iso4217#STD","Dobra (before 2017-12)"]
["http://www.xbrl.org/2003/iso4217#STN","Dobra"]
["http://www.xbrl.org/2003/iso4217#SUR","Rouble (before 1990-12)"]
["http://www.xbrl.org/2003/iso4217#SVC","El Salvador Colon"]
["http://www.xbrl.org/2003/iso4217#SYP","Syrian Pound"]
["http://www.xbrl.org/2003/iso4217#SZL","Lilangeni"]
["http://www.xbrl.org/2003/iso4217#THB","Baht"]
["http://www.xbrl.org/2003/iso4217#TJR","Tajik Ruble (before 2001-04)"]
["http://www.xbrl.org/2003/iso4217#TJS","Somoni"]
["http://www.xbrl.org/2003/iso4217#TMM","Turkmenistan Manat (before 2009-01)"]
["http://www.xbrl.org/2003/iso4217#TMT","Turkmenistan New Manat"]
["http://www.xbrl.org/2003/iso4217#TND","Tunisian Dinar"]
["http://www.xbrl.org/2003/iso4217#TOP","Pa’anga"]
["http://www.xbrl.org/2003/iso4217#TPE","Timor Escudo (before 2002-11)"]
["http://www.xbrl.org/2003/iso4217#TRL","Old Turkish Lira (before 2005-12)"]
["http://www.xbrl.org/2003/iso4217#TRY","Turkish Lira"]
["http://www.xbrl.org/2003/iso4217#TTD","Trinidad and Tobago Dollar"]
["http://www.xbrl.org/2003/iso4217#TWD","New Taiwan Dollar"]
["http://www.xbrl.org/2003/iso4217#TZS","Tanzanian Shilling"]
["http://www.xbrl.org/2003/iso4217#UAH","Hryvnia"]
["http://www.xbrl.org/2003/iso4217#UAK","Karbovanet (before 1996-09)"]
["http://www.xbrl.org/2003/iso4217#UGS","Uganda Shilling (before 1987-05)"]
["http://www.xbrl.org/2003/iso4217#UGW","Old Shilling (before 1990-12)"]
["http://www.xbrl.org/2003/iso4217#UGX","Uganda Shilling"]
["http://www.xbrl.org/2003/iso4217#USD","US Dollar"]
["http://www.xbrl.org/2003/iso4217#USS","US Dollar (Same day) (before 2014-03)"]
["http://www.xbrl.org/2003/iso4217#UYN","Old Uruguay Peso (before 1989-12)"]
["http://www.xbrl.org/2003/iso4217#UYP","Uruguayan Peso (before 1993-03)"]
["http://www.xbrl.org/2003/iso4217#UYU","Peso Uruguayo"]
["http://www.xbrl.org/2003/iso4217#UYW","Unidad Previsional"]
["http://www.xbrl.org/2003/iso4217#UZS","Uzbekistan Sum"]
["http://www.xbrl.org/2003/iso4217#VEB","Bolivar (before 2008-01)"]
["http://www.xbrl.org/2003/iso4217#VED","Bolívar Soberano (VED)"]
["http://www.xbrl.org/2003/iso4217#VEF","Bolívar (before 2018-08)"]
["http://www.xbrl.org/2003/iso4217#VES","Bolívar Soberano (VES)"]
["http://www.xbrl.org/2003/iso4217#VNC","Old Dong (before 1990-12)"]
["http://www.xbrl.org/2003/iso4217#VND","Dong"]
["http://www.xbrl.org/2003/iso4217#VUV","Vatu"]
["http://www.xbrl.org/2003/iso4217#WST","Tala"]
["http://www.xbrl.org/2003/iso4217#XAF","CFA Franc BEAC"]
["http://www.xbrl.org/2003/iso4217#XCD","East Caribbean Dollar"]
["http://www.xbrl.org/2003/iso4217#XEU","European Currency Unit (E.C.U) (before 1999-01)"]
["http://www.xbrl.org/2003/iso4217#XOF","CFA Franc BCEAO"]
["http://www.xbrl.org/2003/iso4217#XPF","CFP Franc"]
["http://www.xbrl.org/2003/iso4217#XSU","Sucre"]
["http://www.xbrl.org/2003/iso4217#YDD","Yemeni Dinar (before 1991-09)"]
["http://www.xbrl.org/2003/iso4217#YER","Yemeni Rial"]
["http://www.xbrl.org/2003/iso4217#YUD","New Yugoslavian Dinar (before 1990-01)"]
["http://www.xbrl.org/2003/iso4217#YUM","New Dinar (before 2003-07)"]
["http://www.xbrl.org/2003/iso4217#YUN","Yugoslavian Dinar (before 1995-11)"]
["http://www.xbrl.org/2003/iso4217#ZAL","Financial Rand (before 1995-03)"]
["http://www.xbrl.org/2003/iso4217#ZAR","Rand"]
["http://www.xbrl.org/2003/iso4217#ZMK","Zambian Kwacha (before 2012-12)"]
["http://www.xbrl.org/2003/iso4217#ZMW","Zambian Kwacha"]
["http://www.xbrl.org/2003/iso4217#ZRN","New Zaire (before 1999-06)"]
["http://www.xbrl.org/2003/iso4217#ZRZ","Zaire (before 1994-02)"]
["http://www.xbrl.org/2003/iso4217#ZWC","Rhodesian Dollar (before 1989-12)"]
["http://www.xbrl.org/2003/iso4217#ZWD","Zimbabwe Dollar (before 2008-08)"]
["http://www.xbrl.org/2003/iso4217#ZWL","Zimbabwe Dollar"]
["http://www.xbrl.org/2003/iso4217#ZWN","Zimbabwe Dollar (new) (before 2006-09)"]
["http://www.xbrl.org/2003/iso4217#ZWR","Zimbabwe Dollar (before 2009-06)"]

{"sheet":"enum-ListOfTargetedHoldersDomai","index":20,"n_rows":3,"n_cols":2,"rows_kept":3,"cut":false,"hidden":true,"merged":[]}
["https://www.esma.europa.eu/taxonomy/2025-03-31/mica/#ProfessionalInvestors","Professional investors"]
["https://www.esma.europa.eu/taxonomy/2025-03-31/mica/#RetailInvestors","Retail investors"]
["https://www.esma.europa.eu/taxonomy/2025-03-31/mica/#AllTypesOfInvestors","All types of investors"]

{"sheet":"enum-ListOfPlacementFormDomain","index":21,"n_rows":3,"n_cols":2,"rows_kept":3,"cut":false,"hidden":true,"merged":[]}
["https://www.esma.europa.eu/taxonomy/2025-03-31/mica/#WithAFirmCommitmentBasisPlacementForm","With a firm commitment basis"]
["https://www.esma.europa.eu/taxonomy/2025-03-31/mica/#WithoutAFirmCommitmentBasisPlacementForm","Without a firm commitment basis"]
["https://www.esma.europa.eu/taxonomy/2025-03-31/mica/#NotApplicablePlacementForm","Not applicable"]

{"sheet":"enum-OtherCryptoassetWhitePaper","index":22,"n_rows":1,"n_cols":2,"rows_kept":1,"cut":false,"hidden":true,"merged":[]}
["https://www.esma.europa.eu/taxonomy/2025-03-31/mica/#OtherCryptoassetWhitePaper","Other crypto-asset token white paper"]

{"sheet":"enum-ListOfSubmissionTypeDomain","index":23,"n_rows":4,"n_cols":2,"rows_kept":4,"cut":false,"hidden":true,"merged":[]}
["https://www.esma.europa.eu/taxonomy/2025-03-31/mica/#NewTypeOfSubmission","New"]
["https://www.esma.europa.eu/taxonomy/2025-03-31/mica/#ModifyTypeOfSubmission","Modify"]
["https://www.esma.europa.eu/taxonomy/2025-03-31/mica/#ErrorTypeOfSubmission","Error"]
["https://www.esma.europa.eu/taxonomy/2025-03-31/mica/#CorrectionTypeOfSubmission","Correction"]

{"sheet":"table2-02","index":24,"n_rows":3,"n_cols":1,"rows_kept":3,"cut":false,"hidden":true,"merged":[]}
["This crypto-asset white paper has not been approved by any competent authority in any Member State of the European Union. The offeror of the crypto-asset is solely responsible for the content of this crypto-asset white paper."]
["This crypto-asset white paper has not been approved by any competent authority in any Member State of the European Union. The person seeking admission to trading of the crypto-asset is solely responsible for the content of this crypto-asset white paper."]
["This crypto-asset white paper has not been approved by any competent authority in any Member State of the European Union. The operator of the trading platform of the crypto-asset is solely responsible for the content of this crypto-asset white paper."]

{"sheet":"table2-05","index":25,"n_rows":2,"n_cols":1,"rows_kept":2,"cut":false,"hidden":true,"merged":[]}
["Not applicable"]
["The utility token referred to in this white paper may not be exchangeable against the good or service promised in this white paper, especially in the case of a failure or discontinuation of the crypto-asset project."]

{"sheet":"data_T3","index":26,"n_rows":279,"n_cols":32,"rows_kept":279,"cut":false,"hidden":true,"merged":[[27,30,27,31]]}
[]
[]
[]
[]
[]
["Skip","Qname","Fact","PeriodInit","PeriodEnd","UnitRef","Decimals","Scale","Dimension","DimensionMember","Dimension","DimensionMember","Dimension","DimensionMember","Dimension","DimensionMember","Dimension","DimensionMember","Dimension","DimensionMember","Dimension","DimensionMember","DimensionMember"]
["/*"]
["/**Entity",null,"999999A9AA99AAAAAA99"]
["/**Schema",null,"http://standards.iso.org/iso/17442"]
["/* "]
["/**Xmlns",null,"xmlns=\"http://www.w3.org/1999/xhtml\""]
["/**Xmlns",null,"xmlns:xbrli=\"http://www.xbrl.org/2003/instance\""]
["/**Xmlns",null,"xmlns:iso4217=\"http://www.xbrl.org/2003/iso4217\""]
["/**Xmlns",null,"xmlns:xbrldi=\"http://xbrl.org/2006/xbrldi\""]
["/**Xmlns",null,"xmlns:link=\"http://www.xbrl.org/2003/linkbase\""]
["/**Xmlns",null,"xmlns:xlink=\"http://www.w3.org/1999/xlink\""]
["/**Xmlns",null,"xmlns:ix=\"http://www.xbrl.org/2013/inlineXBRL\""]
["/**Xmlns",null,"xmlns:mica=\"https://www.esma.europa.eu/taxonomy/2025-03-31/mica/\""]
["/**Xmlns",null,"xmlns:ixt4=\"http://www.xbrl.org/inlineXBRL/transformation/2020-02-12\""]
["/**Xmlns",null,"xmlns:utr=\"http://www.xbrl.org/2009/utr\""]
["/**Xmlns",null,"xml:lang=\"en\""]
["/**Href",null,"https://www.esma.europa.eu/taxonomy/mica/2025-03-31/mica_entry_table_3.xsd"]
["/**Options",null,"iXBRL"]
["/**ClearArea",null,"Index!$E$1:$G$12"]
[{"$f":"IF(C25=\"\",\"/*\",\"\")","v":"/*"}]
[{"$f":"IF(C26=\"\",\"/*\",\"\")","v":"/*"}]
[{"$f":"IF(C27=\"\",\"/*\",\"\")","v":"/*"}]
["/*","QNAME","FACT","PeriodInit","PeriodEnd","UnitRef","Decimals","Scale","Dimension 1","Dimension member 1","Dimension 2","Dimension member 2","Dimension 3","Dimension member 3",null,null,null,null,null,null,null,null,null,null,null,null,null,null,null,null,"DATA CHECKS \n(Taxonomy)"]
["/*","Table 3",null,null,null,null,null,null,null,null,null,null,null,null,null,null,null,null,null,null,null,null,null,null,null,null,"Line in Table sheet","No FIELD","CONTENT TO BE REPORTED","FIELD FORMAT\n(Taxo)","Severity","Formula"]
[{"$f":"IF(Table3!E5=\"\",\"/*\",\"\")","v":"/*"},"mica:DisclosureTemplateForWhitePapersForAssetreferencedTokensAbstract",{"$f":"Table3!E5","v":0},"2025-01-01","2025-12-31",null,null,null,null,null,null,null,null,null,null,null,null,null,null,null,null,null,null,null,null,null,{"$f":"ROW(INDIRECT(MID(_xlfn.FORMULATEXT(C30),2,LEN(_xlfn.FORMULATEXT(C30)))))","v":5},"Template for white papers for asset-referenced tokens [abstract]","","","",""]
[{"$f":"IF(Table3!E6=\"\",\"/*\",\"\")","v":"/*"},"mica:GeneralInformationAboutAssetreferencedTokensAbstract",{"$f":"Table3!E6","v":0},"2025-01-01","2025-12-31",null,null,null,null,null,null,null,null,null,null,null,null,null,null,null,null,null,null,null,null,null,{"$f":"ROW(INDIRECT(MID(_xlfn.FORMULATEXT(C31),2,LEN(_xlfn.FORMULATEXT(C31)))))","v":6},"General information","","","",""]
[{"$f":"IF(Table3!E7=\"\",\"/*\",\"\")","v":""},"mica:TableOfContentForAssetReferencedTokenWhitePaper",{"$f":"Table3!E7","v":"true"},"2025-01-01","2025-12-31","true",null,null,null,null,null,null,null,null,null,null,null,null,null,null,null,null,null,null,null,null,{"$f":"ROW(INDIRECT(MID(_xlfn.FORMULATEXT(C32),2,LEN(_xlfn.FORMULATEXT(C32)))))","v":7},"I.00 Table of content","Table of contents","boolean true","error","The value of \"I.00 Table of content\" must be provided."]
[{"$f":"IF(Table3!E8=\"\",\"/*\",\"\")","v":""},"mica:DateOfNotificationForAssetreferencedTokenWhitePaper",{"$f":"Table3!E8","v":"YYYY-MM-DD"},null,"2025-12-31",null,null,null,null,null,null,null,null,null,null,null,null,null,null,null,null,null,null,null,null,null,{"$f":"ROW(INDIRECT(MID(_xlfn.FORMULATEXT(C33),2,LEN(_xlfn.FORMULATEXT(C33)))))","v":8},"I.01 Date of notification","Date of notification","date","error","The value of \"I.01 Date of notification\" must be provided."]
[{"$f":"IF(Table3!E9=\"\",\"/*\",\"\")","v":""},"mica:StatementOnValueAndTransferabilityRisks",{"$f":"Table3!E9","v":"The asset-referenced token referred to in this crypto-asset white paper may lose its value in part or in full, may not always be transferable and may not be liquid.\n\nThe asset-refenced token referred to in this crypto-asset white paper is not covered by the investor compensation schemes under Directive 97/9/EC of the European Parliament and of the Council or the deposit guarantee schemes under Directive 2014/49/EU of the European Parliament and of the Council."},"2025-01-01","2025-12-31","true",null,null,null,null,null,null,null,null,null,null,null,null,null,null,null,null,null,null,null,null,{"$f":"ROW(INDIRECT(MID(_xlfn.FORMULATEXT(C34),2,LEN(_xlfn.FORMULATEXT(C34)))))","v":9},"I.02 Statement in accordance with Article 19(4), points (a) to (e), of Regulation (EU) 2023/1114","‘The asset-referenced token referred to in this crypto-asset white paper may lose its value in part or in full, may not always be transferable and may not be liquid.\r\nThe asset-refenced token referred to in this crypto-asset white paper is not covered by the investor compensation schemes under Directive 97/9/EC of the European Parliament and of the Council or the deposit guarantee schemes under Directive 2014/49/EU of the European Parliament and of the Council.’","boolean true","error","The value of \"I.02 Statement in accordance with Article 19(4), points (a) to (e), of Regulation (EU) 2023/1114\" must be provided."]
[{"$f":"IF(Table3!E10=\"\",\"/*\",\"\")","v":""},"mica:ComplianceStatementOnInformationIntegrityForAssetreferencedTokenWhitePaper",{"$f":"Table3!E10","v":"This crypto-asset white paper complies with Title III of Regulation (EU) 2023/1114 of the European Parliament and of the Council and to the best of the knowledge of the management body, the information presented in this crypto-asset white paper is fair, clear and not misleading and the crypto-asset white paper makes no omission likely to affect its import"},"2025-01-01","2025-12-31","true",null,null,null,null,null,null,null,null,null,null,null,null,null,null,null,null,null,null,null,null,{"$f":"ROW(INDIRECT(MID(_xlfn.FORMULATEXT(C35),2,LEN(_xlfn.FORMULATEXT(C35)))))","v":10},"I.03 Compliance statement in accordance with Article 19(5) of Regulation (EU) 2023/1114","‘This crypto-asset white paper complies with Title III of Regulation (EU) 2023/1114 of the European Parliament and of the Council and to the best of the knowledge of the management body, the information presented in this crypto-asset white paper is fair, clear and not misleading and the crypto-asset white paper makes no omission likely to affect its import.’","boolean true","error","The value of \"I.03 Compliance statement in accordance with Article 19(5) of Regulation (EU) 2023/1114\" must be provided."]
[{"$f":"IF(Table3!E11=\"\",\"/*\",\"\")","v":"/*"},"mica:AssetreferencedTokenOfferSummaryAbstract",{"$f":"Table3!E11","v":0},"2025-01-01","2025-12-31",null,null,null,null,null,null,null,null,null,null,null,null,null,null,null,null,null,null,null,null,null,{"$f":"ROW(INDIRECT(MID(_xlfn.FORMULATEXT(C36),2,LEN(_xlfn.FORMULATEXT(C36)))))","v":11},"SUMMARY","","","",""]
[{"$f":"IF(Table3!E12=\"\",\"/*\",\"\")","v":""},"mica:WarningOnSummaryLimitationsAndOfferConditionsForAssetreferencedTokenWhitePaper",{"$f":"Table3!E12","v":"Warning\n\nThis summary should be read as an introduction to the crypto-asset white paper.\n\nThe prospective holder should base any decision to purchase this asset-referenced token on the content of the crypto-asset white paper as a whole and not on the summary alone.\n\nThe offer to the public of this crypto-asset does not constitute an offer or solicitation to purchase financial instruments and any such offer or solicitation can be made only by means of a prospectus or other offer documents pursuant to the applicable national law.\n\nThis crypto-asset white paper does not constitute a prospectus as referred to in Regulation (EU) 2017/1129 of the European Parliament and of the Council or any other offer document pursuant to Union or national law."},"2025-01-01","2025-12-31","true",null,null,null,null,null,null,null,null,null,null,null,null,null,null,null,null,null,null,null,null,{"$f":"ROW(INDIRECT(MID(_xlfn.FORMULATEXT(C37),2,LEN(_xlfn.FORMULATEXT(C37)))))","v":12},"I.04 Warning in accordance with Article 19(6), second subparagraph, of Regulation (EU) 2023/1114","‘Warning\r\nThis summary should be read as an introduction to the crypto-asset white paper.\r\nThe prospective holder should base any decision to purchase this asset-referenced token on the content of the crypto-asset white paper as a whole and not on the summary alone.\r\nThe offer to the public of this crypto-asset does not constitute an offer or solicitation to purchase financial instruments and any such offer or solicitation can be made only by means of a prospectus or other offer documents pursuant to the applicable national law.\r\nThis crypto-asset white paper does not constitute a prospectus as referred to in Regulation (EU) 2017/1129 of the European Parliament and of the Council or any other offer document pursuant to Union or national law.’","boolean true","error","The value of \"I.04 Warning in accordance with Article 19(6), second subpargraph, of Regulation (EU) 2023/1114\" must be provided."]
[{"$f":"IF(Table3!E13=\"\",\"/*\",\"\")","v":""},"mica:DescriptionOfCharacteristicsOfAssetreferencedTokenExplanatory",{"$f":"Table3!E13","v":" Ex: Here is a sample text... (textBlock format)"},"2025-01-01","2025-12-31",null,null,null,null,null,null,null,null,null,null,null,null,null,null,null,null,null,null,null,null,null,{"$f":"ROW(INDIRECT(MID(_xlfn.FORMULATEXT(C38),2,LEN(_xlfn.FORMULATEXT(C38)))))","v":13},"I.05 Characteristics of the crypto-asset","A brief, clear and non-technical description of the characteristics of the asset-referenced token concerned in order to help prospective holders of that asset-referenced token make an informed decision","textBlock","error","The value of \"I.05 Characteristics of the crypto-asset\" must be provided."]
[{"$f":"IF(Table3!E14=\"\",\"/*\",\"\")","v":""},"mica:RightOfRedemptionForAssetreferencedTokenWhitePaperExplanatory",{"$f":"Table3!E14","v":" Ex: Here is a sample text... (textBlock format)"},"2025-01-01","2025-12-31",null,null,null,null,null,null,null,null,null,null,null,null,null,null,null,null,null,null,null,null,null,{"$f":"ROW(INDIRECT(MID(_xlfn.FORMULATEXT(C39),2,LEN(_xlfn.FORMULATEXT(C39)))))","v":14},"I.06 Right of redemption","‘The holders of asset-referenced tokens have a right of redemption at any time’\r\nDescription of the conditions for such redemption","textBlock","error","The value of \"I.06 Right of redemption\" must be provided."]
[{"$f":"IF(Table3!E15=\"\",\"/*\",\"\")","v":""},"mica:KeyInformationAboutOfferToPublicAndOrAdmissionToTradingExplanatory",{"$f":"Table3!E15","v":" Ex: Here is a sample text... (textBlock format)"},"2025-01-01","2025-12-31",null,null,null,null,null,null,null,null,null,null,null,null,null,null,null,null,null,null,null,null,null,{"$f":"ROW(INDIRECT(MID(_xlfn.FORMULATEXT(C40),2,LEN(_xlfn.FORMULATEXT(C40)))))","v":15},"I.07 Key information about the offer to the public and or admission to trading","Key information about the offer to the public of the asset-referenced token or the intended admission to trading of the asset-referenced token","textBlock","error","The value of \"I.07 Key information about offer to public and or admission to trading\" must be provided."]
[{"$f":"IF(Table3!E191=\"\",\"/*\",\"\")","v":"/*"},"mica:InformationOnRisksAbstract",{"$f":"Table3!E191","v":0},"2025-01-01","2025-12-31",null,null,null,null,null,null,null,null,null,null,null,null,null,null,null,null,null,null,null,null,null,{"$f":"ROW(INDIRECT(MID(_xlfn.FORMULATEXT(C41),2,LEN(_xlfn.FORMULATEXT(C41)))))","v":191},"Part F - Information on the risks","","","",""]
[{"$f":"IF(Table3!E16=\"\",\"/*\",\"\")","v":"/*"},"mica:InformationAboutIssuerOfAssetreferencedTokenAbstract",{"$f":"Table3!E16","v":0},"2025-01-01","2025-12-31",null,null,null,null,null,null,null,null,null,null,null,null,null,null,null,null,null,null,null,null,null,{"$f":"ROW(INDIRECT(MID(_xlfn.FORMULATEXT(C42),2,LEN(_xlfn.FORMULATEXT(C42)))))","v":16},"Part A – Information about issuer of asset-referenced token","","","",""]
[{"$f":"IF(Table3!E17=\"\",\"/*\",\"\")","v":""},"mica:AssetreferencedTokenIssuersStatutoryName",{"$f":"Table3!E17","v":" Ex: Here is a sample text... (text format)"},"2025-01-01","2025-12-31",null,null,null,null,null,null,null,null,null,null,null,null,null,null,null,null,null,null,null,null,null,{"$f":"ROW(INDIRECT(MID(_xlfn.FORMULATEXT(C43),2,LEN(_xlfn.FORMULATEXT(C43)))))","v":17},"A.1 Statutory Name","Statutory name","text","error","The value of \"A.1 Statutory name\" must be provided."]
[{"$f":"IF(Table3!E18=\"\",\"/*\",\"\")","v":""},"mica:AssetreferencedTokenIssuersTradingName",{"$f":"Table3!E18","v":" Ex: Here is a sample text... (text format)"},"2025-01-01","2025-12-31",null,null,null,null,null,null,null,null,null,null,null,null,null,null,null,null,null,null,null,null,null,{"$f":"ROW(INDIRECT(MID(_xlfn.FORMULATEXT(C44),2,LEN(_xlfn.FORMULATEXT(C44)))))","v":18},"A.2 Trading name","Trading name","text","error","The value of \"A.2 Trading name\" must be provided."]
[{"$f":"IF(Table3!E19=\"\",\"/*\",\"\")","v":""},"mica:AssetreferencedTokenIssuersLegalForm",{"$f":"Table3!E19","v":" Ex: Here is a sample text... (text format)"},"2025-01-01","2025-12-31",null,null,null,null,null,null,null,null,null,null,null,null,null,null,null,null,null,null,null,null,null,{"$f":"ROW(INDIRECT(MID(_xlfn.FORMULATEXT(C45),2,LEN(_xlfn.FORMULATEXT(C45)))))","v":19},"A.3 Legal form","Field to be filled in only if an LEI is not provided in field A.7\r\nLegal form","text","error","If \"A.7 Legal entity identifier\" is not provided with a fact value, then \"A.3 Legal form\" must be reported."]
[{"$f":"IF(Table3!E20=\"\",\"/*\",\"\")","v":"/*"},"mica:AssetreferencedTokenIssuersRegisteredAddressDetailsAbstract",{"$f":"Table3!E20","v":0},"2025-01-01","2025-12-31",null,null,null,null,null,null,null,null,null,null,null,null,null,null,null,null,null,null,null,null,null,{"$f":"ROW(INDIRECT(MID(_xlfn.FORMULATEXT(C46),2,LEN(_xlfn.FORMULATEXT(C46)))))","v":20},"A.4 Registered address","Field to be filled in only if an LEI is not provided in field A.7\r\nAddress and country of registration","","error\r\nerror\r\nerror","If \"A.7 Legal entity identifier\" is not provided with a fact value, then \"A.4 Registered address sub-division\" must be reported.\r\nIf \"A.7 Legal entity identifier\" is not provided with a fact value, then \"A.4 Registered address country\" must be reported.\r\nIf \"A.7 Legal entity identifier\" is not provided with a fact value, then \"A.4 Registered address sub-division\" must be reported."]
[{"$f":"IF(Table3!E21=\"\",\"/*\",\"\")","v":""},"mica:AssetreferencedTokenIssuersRegisteredAddress",{"$f":"Table3!E21","v":" Ex: Here is a sample text... (text format)"},"2025-01-01","2025-12-31",null,null,null,null,null,null,null,null,null,null,null,null,null,null,null,null,null,null,null,null,null,{"$f":"ROW(INDIRECT(MID(_xlfn.FORMULATEXT(C47),2,LEN(_xlfn.FORMULATEXT(C47)))))","v":21},"Registered addess","","text","",""]
[{"$f":"IF(Table3!E22=\"\",\"/*\",\"\")","v":""},"mica:AssetreferencedTokenIssuersRegisteredCountry",{"$f":"Table3!E22","v":"-- Select value --"},"2025-01-01","2025-12-31",null,null,null,null,null,null,null,null,null,null,null,null,null,null,null,null,null,null,null,null,null,{"$f":"ROW(INDIRECT(MID(_xlfn.FORMULATEXT(C48),2,LEN(_xlfn.FORMULATEXT(C48)))))","v":22},"Country","","enumeration","",""]
[{"$f":"IF(Table3!E23=\"\",\"/*\",\"\")","v":""},"mica:AssetreferencedTokenIssuersRegisteredCountrySubdivision",{"$f":"Table3!E23","v":" Ex: Here is a sample text... (text format)"},"2025-01-01","2025-12-31",null,null,null,null,null,null,null,null,null,null,null,null,null,null,null,null,null,null,null,null,null,{"$f":"ROW(INDIRECT(MID(_xlfn.FORMULATEXT(C49),2,LEN(_xlfn.FORMULATEXT(C49)))))","v":23},"Sub-division","","text","",""]
[{"$f":"IF(Table3!E24=\"\",\"/*\",\"\")","v":"/*"},"mica:AssetreferencedTokenIssuersHeadOfficeDetailsAbstract",{"$f":"Table3!E24","v":0},"2025-01-01","2025-12-31",null,null,null,null,null,null,null,null,null,null,null,null,null,null,null,null,null,null,null,null,null,{"$f":"ROW(INDIRECT(MID(_xlfn.FORMULATEXT(C50),2,LEN(_xlfn.FORMULATEXT(C50)))))","v":24},"A.5 Head office","Field to be filled in only if an LEI is not provided in field A.7\r\nAddress and country of the Head office, where different than registered address","","error\r\nerror\r\nerror","If \"A.7 Legal entity identifier\" is not provided with a fact value, then \"A.5 Head office\" must be reported.\r\nIf \"A.7 Legal entity identifier\" is not provided with a fact value, then \"A.5 Head office country\" must be reported.\r\nIf \"A.7 Legal entity identifier\" is not provided with a fact value, then \"A.5 Head office sub-division\" must be reported."]
[{"$f":"IF(Table3!E25=\"\",\"/*\",\"\")","v":""},"mica:AssetreferencedTokenIssuersHeadOffice",{"$f":"Table3!E25","v":" Ex: Here is a sample text... (text format)"},"2025-01-01","2025-12-31",null,null,null,null,null,null,null,null,null,null,null,null,null,null,null,null,null,null,null,null,null,{"$f":"ROW(INDIRECT(MID(_xlfn.FORMULATEXT(C51),2,LEN(_xlfn.FORMULATEXT(C51)))))","v":25},"Head office","","text","",""]
[{"$f":"IF(Table3!E26=\"\",\"/*\",\"\")","v":""},"mica:AssetreferencedTokenIssuersHeadOfficeCountry",{"$f":"Table3!E26","v":"-- Select value --"},"2025-01-01","2025-12-31",null,null,null,null,null,null,null,null,null,null,null,null,null,null,null,null,null,null,null,null,null,{"$f":"ROW(INDIRECT(MID(_xlfn.FORMULATEXT(C52),2,LEN(_xlfn.FORMULATEXT(C52)))))","v":26},"Country","","enumeration","",""]
[{"$f":"IF(Table3!E27=\"\",\"/*\",\"\")","v":""},"mica:AssetreferencedTokenIssuersHeadOfficeCountrySubdivision",{"$f":"Table3!E27","v":" Ex: Here is a sample text... (text format)"},"2025-01-01","2025-12-31",null,null,null,null,null,null,null,null,null,null,null,null,null,null,null,null,null,null,null,null,null,{"$f":"ROW(INDIRECT(MID(_xlfn.FORMULATEXT(C53),2,LEN(_xlfn.FORMULATEXT(C53)))))","v":27},"Sub-division","","text","",""]
[{"$f":"IF(Table3!E28=\"\",\"/*\",\"\")","v":""},"mica:AssetreferencedTokenIssuersRegistrationDate",{"$f":"Table3!E28","v":"YYYY-MM-DD"},"2025-01-01","2025-12-31",null,null,null,null,null,null,null,null,null,null,null,null,null,null,null,null,null,null,null,null,null,{"$f":"ROW(INDIRECT(MID(_xlfn.FORMULATEXT(C54),2,LEN(_xlfn.FORMULATEXT(C54)))))","v":28},"A.6 Registration date","Date of the registration","date","error","The value of \"A.6 Registration date\" must be provided."]
[{"$f":"IF(Table3!E29=\"\",\"/*\",\"\")","v":""},"mica:AssetreferencedTokenIssuersLegalEntityIdentifier",{"$f":"Table3!E29","v":" Ex: 999999A9AA99AAAAAA99"},"2025-01-01","2025-12-31",null,null,null,null,null,null,null,null,null,null,null,null,null,null,null,null,null,null,null,null,null,{"$f":"ROW(INDIRECT(MID(_xlfn.FORMULATEXT(C55),2,LEN(_xlfn.FORMULATEXT(C55)))))","v":29},"A.7 Legal entity identifier","Legal entity identifier of the issuer","LEI","error","If \"A.8 Other identifier required pursuant to applicable national law\" is not provided with a fact value, then \"A.7 Legal entity identifier\" must be reported."]
[{"$f":"IF(Table3!E30=\"\",\"/*\",\"\")","v":""},"mica:AssetreferencedTokenIssuersOtherIdentifierRequiredPursuantToApplicableNationalLaw",{"$f":"Table3!E30","v":" Ex: Here is a sample text... (text format)"},"2025-01-01","2025-12-31",null,null,null,null,null,null,null,null,null,null,null,null,null,null,null,null,null,null,null,null,null,{"$f":"ROW(INDIRECT(MID(_xlfn.FORMULATEXT(C56),2,LEN(_xlfn.FORMULATEXT(C56)))))","v":30},"A.8 Other identifier required pursuant to applicable national law","National identifier based on the nationality of the issuer, if required under the applicable national law.\r\nThis field only applies to entities for which a national identifieris required under applicable national law.","text","error","If \"A.7 Legal entity identifier\" is not provided with a fact value, then \"A.8 Other identifier required pursuant to applicable national law\" must be reported."]
[{"$f":"IF(Table3!E31=\"\",\"/*\",\"\")","v":""},"mica:IdentificationOfAssetreferenceTokenIssuersParentCompany",{"$f":"Table3!E31","v":" Ex: Here is a sample text... (text format)"},"2025-01-01","2025-12-31",null,null,null,null,null,null,null,null,null,null,null,null,null,null,null,null,null,null,null,null,null,{"$f":"ROW(INDIRECT(MID(_xlfn.FORMULATEXT(C57),2,LEN(_xlfn.FORMULATEXT(C57)))))","v":31},"A.9 Parent company","Field to be filled in only if an LEI is not provided in field A.7\r\nWhere applicable, the name of the parent company","text","warning\r\nwarning","If \"A.7 Legal entity identifier\" is provided with a fact value, then \"A.9 Parent company\" should not be reported.\r\nIf \"A.9 Parent company\" is provided with fact value, \"A.12 Parent company business activity\" should also be provided with fact value."]
[{"$f":"IF(Table3!E32=\"\",\"/*\",\"\")","v":"/*"},"mica:MembersoOfAssetreferencedTokenIssuersManagementBodyExplanatory",{"$f":"Table3!E32","v":0},"2025-01-01","2025-12-31",null,null,null,null,null,null,null,null,null,null,null,null,null,null,null,null,null,null,null,null,null,{"$f":"ROW(INDIRECT(MID(_xlfn.FORMULATEXT(C58),2,LEN(_xlfn.FORMULATEXT(C58)))))","v":32},"A.10 Members of management body","Identity, business address and functions of each person that is member of the management body, as defined in Article 3(1), point (27), of Regulation (EU) 2023/1114, of the issuer","","error\r\nerror\r\nerror","The value of \"A.10 Members of management body / Identity\" must be provided.\r\nThe value of \"A.10 Members of management body / Business address\" must be provided.\r\nThe value of \"A.10 Members of management body / Function\" must be provided."]
[{"$f":"IF(Table3!E34=\"\",\"/*\",\"\")","v":""},"mica:IdentityOfIssuersManagementBodyMemberForAssetreferencedToken",{"$f":"Table3!E34","v":" Ex: Here is a sample text... (text format)"},"2025-01-01","2025-12-31",null,null,null,"mica:LineIdentifierForIssuersManagementBodyMemberForAssetreferencedTokenTypedAxis",1,"/**Typed","mica:lineIdentifierForIssuersManagementBodyMemberForAssetreferencedToken",null,null,null,null,null,null,null,null,null,null,null,null,null,null,{"$f":"ROW(INDIRECT(MID(_xlfn.FORMULATEXT(C59),2,LEN(_xlfn.FORMULATEXT(C59)))))","v":34},"Identity","","text","",""]
[{"$f":"IF(Table3!E35=\"\",\"/*\",\"\")","v":""},"mica:BusinessAddressOfIssuersManagementBodyMemberForAssetreferencedToken",{"$f":"Table3!E35","v":" Ex: Here is a sample text... (text format)"},"2025-01-01","2025-12-31",null,null,null,"mica:LineIdentifierForIssuersManagementBodyMemberForAssetreferencedTokenTypedAxis",1,"/**Typed","mica:lineIdentifierForIssuersManagementBodyMemberForAssetreferencedToken",null,null,null,null,null,null,null,null,null,null,null,null,null,null,{"$f":"ROW(INDIRECT(MID(_xlfn.FORMULATEXT(C60),2,LEN(_xlfn.FORMULATEXT(C60)))))","v":35},"Business address","","text","",""]
[{"$f":"IF(Table3!E36=\"\",\"/*\",\"\")","v":""},"mica:FunctionOfIssuersManagementBodyMemberForAssetreferencedToken",{"$f":"Table3!E36","v":" Ex: Here is a sample text... (text format)"},"2025-01-01","2025-12-31",null,null,null,"mica:LineIdentifierForIssuersManagementBodyMemberForAssetreferencedTokenTypedAxis",1,"/**Typed","mica:lineIdentifierForIssuersManagementBodyMemberForAssetreferencedToken",null,null,null,null,null,null,null,null,null,null,null,null,null,null,{"$f":"ROW(INDIRECT(MID(_xlfn.FORMULATEXT(C61),2,LEN(_xlfn.FORMULATEXT(C61)))))","v":36},"Function","","text","",""]
[{"$f":"IF(Table3!E37=\"\",\"/*\",\"\")","v":""},"mica:IdentityOfIssuersManagementBodyMemberForAssetreferencedToken",{"$f":"Table3!$E$38","v":" Ex: Here is a sample text... (text format)"},"2025-01-01","2025-12-31",null,null,null,"mica:LineIdentifierForIssuersManagementBodyMemberForAssetreferencedTokenTypedAxis",2,"/**Typed","mica:lineIdentifierForIssuersManagementBodyMemberForAssetreferencedToken",null,null,null,null,null,null,null,null,null,null,null,null,null,null,{"$f":"ROW(INDIRECT(MID(_xlfn.FORMULATEXT(C62),2,LEN(_xlfn.FORMULATEXT(C62)))))","v":38},"Identity","","text","",""]
[{"$f":"IF(Table3!E38=\"\",\"/*\",\"\")","v":""},"mica:BusinessAddressOfIssuersManagementBodyMemberForAssetreferencedToken",{"$f":"Table3!$E$39","v":" Ex: Here is a sample text... (text format)"},"2025-01-01","2025-12-31",null,null,null,"mica:LineIdentifierForIssuersManagementBodyMemberForAssetreferencedTokenTypedAxis",2,"/**Typed","mica:lineIdentifierForIssuersManagementBodyMemberForAssetreferencedToken",null,null,null,null,null,null,null,null,null,null,null,null,null,null,{"$f":"ROW(INDIRECT(MID(_xlfn.FORMULATEXT(C63),2,LEN(_xlfn.FORMULATEXT(C63)))))","v":39},"Business address","","text","",""]
[{"$f":"IF(Table3!E39=\"\",\"/*\",\"\")","v":""},"mica:FunctionOfIssuersManagementBodyMemberForAssetreferencedToken",{"$f":"Table3!$E$40","v":" Ex: Here is a sample text... (text format)"},"2025-01-01","2025-12-31",null,null,null,"mica:LineIdentifierForIssuersManagementBodyMemberForAssetreferencedTokenTypedAxis",2,"/**Typed","mica:lineIdentifierForIssuersManagementBodyMemberForAssetreferencedToken",null,null,null,null,null,null,null,null,null,null,null,null,null,null,{"$f":"ROW(INDIRECT(MID(_xlfn.FORMULATEXT(C64),2,LEN(_xlfn.FORMULATEXT(C64)))))","v":40},"Function","","text","",""]
[{"$f":"IF(Table3!E41=\"\",\"/*\",\"\")","v":""},"mica:AssetreferencedTokensIssuersBusinessActivityExplanatory",{"$f":"Table3!E41","v":" Ex: Here is a sample text... (textBlock format)"},"2025-01-01","2025-12-31",null,null,null,null,null,null,null,null,null,null,null,null,null,null,null,null,null,null,null,null,null,{"$f":"ROW(INDIRECT(MID(_xlfn.FORMULATEXT(C65),2,LEN(_xlfn.FORMULATEXT(C65)))))","v":41},"A.11 Business activity","Business or professional activity of the issuer,","textBlock","error","The value of \"A.11 Business activity\" must be provided."]
[{"$f":"IF(Table3!E42=\"\",\"/*\",\"\")","v":""},"mica:ParentCompanyBusinessActivityOfAssetreferencedTokenIssuerSideExplanatory",{"$f":"Table3!E42","v":" Ex: Here is a sample text... (textBlock format)"},"2025-01-01","2025-12-31",null,null,null,null,null,null,null,null,null,null,null,null,null,null,null,null,null,null,null,null,null,{"$f":"ROW(INDIRECT(MID(_xlfn.FORMULATEXT(C66),2,LEN(_xlfn.FORMULATEXT(C66)))))","v":42},"A.12 Parent company business activity","Business or professional activity of the parent company (if applicable)","textBlock","",""]
[{"$f":"IF(Table3!E43=\"\",\"/*\",\"\")","v":""},"mica:NewlyEstablishedAssetreferencedTokenIssuersIndicator",{"$f":"Table3!E43","v":"true/false"},"2025-01-01","2025-12-31",null,null,null,null,null,null,null,null,null,null,null,null,null,null,null,null,null,null,null,null,null,{"$f":"ROW(INDIRECT(MID(_xlfn.FORMULATEXT(C67),2,LEN(_xlfn.FORMULATEXT(C67)))))","v":43},"A.13 Newly established","Indication as to whether the issuer has been established for the past three years","boolean","error","The value of \"A.13 Newly established\" must be provided."]
[{"$f":"IF(Table3!E44=\"\",\"/*\",\"\")","v":""},"mica:InformationAboutAssetreferencedTokenIssuersFinancialConditionForPastThreeYearsExplanatory",{"$f":"Table3!E44","v":" Ex: Here is a sample text... (textBlock format)"},"2025-01-01","2025-12-31",null,null,null,null,null,null,null,null,null,null,null,null,null,null,null,null,null,null,null,null,null,{"$f":"ROW(INDIRECT(MID(_xlfn.FORMULATEXT(C68),2,LEN(_xlfn.FORMULATEXT(C68)))))","v":44},"A.14 Financial condition for the past three years","Financial condition of the issuer over the past three years.\r\nThis shall be assessed based on a fair review of the development and performance of the business of the issuer and of its position for each year and interim period for which historical financial information is required, including the causes of material changes.\r\nThe review shall be a balanced and comprehensive analysis of the development and performance of the business of the issuer and of its position, consistent with the size and complexity of the business.","textBlock","error","If \"A.13 Newly established\" is set to true, then \"A.14 Financial condition for past three years\" must be provided with a fact value."]
[{"$f":"IF(Table3!E45=\"\",\"/*\",\"\")","v":""},"mica:InformationAboutAssetreferencedTokenIssuersFinancialConditionSinceRegistrationExplanatory",{"$f":"Table3!E45","v":" Ex: Here is a sample text... (textBlock format)"},"2025-01-01","2025-12-31",null,null,null,null,null,null,null,null,null,null,null,null,null,null,null,null,null,null,null,null,null,{"$f":"ROW(INDIRECT(MID(_xlfn.FORMULATEXT(C69),2,LEN(_xlfn.FORMULATEXT(C69)))))","v":45},"A.15 Financial condition since registration","Where the issuer has not been established for the past three years, its financial condition since the date of its registration.\r\nThis shall be assessed based on a fair review of the development and performance of the business of the issuer and of its position for each year and interim period for which historical financial information is required, including the causes of material changes.\r\nThe review shall be a balanced and comprehensive analysis of the development and performance of the business of the issuer and of its position, consistent with the size and complexity of the business.","textBlock","error","If \"A.13 Newly established\" is set to false, then \"A.15 Financial condition since registration\" must be provided with a fact value."]
[{"$f":"IF(Table3!E46=\"\",\"/*\",\"\")","v":""},"mica:GovernanceArrangementsExplanatory",{"$f":"Table3!E46","v":" Ex: Here is a sample text... (textBlock format)"},"2025-01-01","2025-12-31",null,null,null,null,null,null,null,null,null,null,null,null,null,null,null,null,null,null,null,null,null,{"$f":"ROW(INDIRECT(MID(_xlfn.FORMULATEXT(C70),2,LEN(_xlfn.FORMULATEXT(C70)))))","v":46},"A.16 Governance arrangements","A detailed description of the issuer’s governance arrangements","textBlock","error","The value of \"A.16 Governance arrangements\" must be provided."]
[{"$f":"IF(Table3!E47=\"\",\"/*\",\"\")","v":""},"mica:ExemptionFromAuthorisation",{"$f":"Table3!E47","v":"-- Select value --"},"2025-01-01","2025-12-31",null,null,null,null,null,null,null,null,null,null,null,null,null,null,null,null,null,null,null,null,null,{"$f":"ROW(INDIRECT(MID(_xlfn.FORMULATEXT(C71),2,LEN(_xlfn.FORMULATEXT(C71)))))","v":47},"A.17 Exemption from authorisation","Indication of whether the issuer of asset-referenced tokens is exempted from authorisation","enumeration","error","The value of \"A17 Exemption from authorisation\" must be provided."]
[{"$f":"IF(Table3!E48=\"\",\"/*\",\"\")","v":""},"mica:AuthorisationAsIssuerOfAssetreferencedTokenExplanatory",{"$f":"Table3!E48","v":" Ex: Here is a sample text... (text format)"},"2025-01-01","2025-12-31",null,null,null,null,null,null,null,null,null,null,null,null,null,null,null,null,null,null,null,null,null,{"$f":"ROW(INDIRECT(MID(_xlfn.FORMULATEXT(C72),2,LEN(_xlfn.FORMULATEXT(C72)))))","v":48},"A.18 Authorisation as issuer of asset-referenced token","If not exempted from authorisation, details about the authorisation as an issuer of an asset-referenced token","text","error","If \"A.17 Exemption from authorisation\" is set with 'NOEX' value, then \"A.18 Authorisation as issuer of asset-referenced token\" must be provided with a fact value."]
[{"$f":"IF(Table3!E49=\"\",\"/*\",\"\")","v":""},"mica:AuthorisationAuthorityForAssetreferencedTokenIssuer",{"$f":"Table3!E49","v":"-- Select value --"},"2025-01-01","2025-12-31",null,null,null,null,null,null,null,null,null,null,null,null,null,null,null,null,null,null,null,null,null,{"$f":"ROW(INDIRECT(MID(_xlfn.FORMULATEXT(C73),2,LEN(_xlfn.FORMULATEXT(C73)))))","v":49},"A.19 Authorisation authority","Name of the competent authority that granted the authorisation as issuer of asset-referenced tokens","enumeration","error","If \"A.17 Exemption from authorisation\" is set with 'NOEX' value, then \"A.19 Authorisation authority\" must be provided with a fact value."]
[{"$f":"IF(Table3!E50=\"\",\"/*\",\"\")","v":""},"mica:CompetentAuthorityForCreditInstitutions",{"$f":"Table3!E50","v":"-- Select value --"},"2025-01-01","2025-12-31",null,null,null,null,null,null,null,null,null,null,null,null,null,null,null,null,null,null,null,null,null,{"$f":"ROW(INDIRECT(MID(_xlfn.FORMULATEXT(C74),2,LEN(_xlfn.FORMULATEXT(C74)))))","v":50},"A.20 Competent authority for credit institutions","For credit institutions, name of the competent authority of the home Member State","enumeration","error","If \"A.17 Exemption from authorisation\" is set with 'EX17' value, then \"A.20 Competent authority for credit institutions\" must be provided with a fact value."]
[{"$f":"IF(Table3!E51=\"\",\"/*\",\"\")","v":""},"mica:IssuanceOfOtherTokenForAssetreferencedTokenIssuerIndicator",{"$f":"Table3!E51","v":"true/false"},"2025-01-01","2025-12-31",null,null,null,null,null,null,null,null,null,null,null,null,null,null,null,null,null,null,null,null,null,{"$f":"ROW(INDIRECT(MID(_xlfn.FORMULATEXT(C75),2,LEN(_xlfn.FORMULATEXT(C75)))))","v":51},"A.21 Issuance of other crypto-assets","Indication of whether the issuer of the asset-referenced token also issues other crypto-assets","boolean","error","The value of \"A.21 Issuance of other crypto-assets\" must be provided."]
[{"$f":"IF(Table3!E52=\"\",\"/*\",\"\")","v":""},"mica:ActivitiesRelatedToOtherCryptoassetsIndicatorForAssetreferencedTokenIssuer",{"$f":"Table3!E52","v":"true/false"},"2025-01-01","2025-12-31",null,null,null,null,null,null,null,null,null,null,null,null,null,null,null,null,null,null,null,null,null,{"$f":"ROW(INDIRECT(MID(_xlfn.FORMULATEXT(C76),2,LEN(_xlfn.FORMULATEXT(C76)))))","v":52},"A.22 Activities related to other crypto-assets","Indication of whether the issuer of the asset-referenced token also has activities related to other crypto-assets","boolean","error","If \"A.21 Issuance of other crypto-assets\" is set to true, then \"A.22 Activities related to other crypto-assets\" must be provided with a fact value."]
[{"$f":"IF(Table3!E53=\"\",\"/*\",\"\")","v":"/*"},"mica:AssetreferencedTokenIssuerAndDLTBusinessAssociationAbstract",{"$f":"Table3!E53","v":0},"2025-01-01","2025-12-31",null,null,null,null,null,null,null,null,null,null,null,null,null,null,null,null,null,null,null,null,null,{"$f":"ROW(INDIRECT(MID(_xlfn.FORMULATEXT(C77),2,LEN(_xlfn.FORMULATEXT(C77)))))","v":53},"Asset-referenced token issuer and DLT business association","","","",""]
[{"$f":"IF(Table3!E54=\"\",\"/*\",\"\")","v":""},"mica:ConnectionBetweenAssetreferencedTokenIssuerAndEntityRunningDLTIndicator",{"$f":"Table3!E54","v":"true/false"},"2025-01-01","2025-12-31",null,null,null,null,null,null,null,null,null,null,null,null,null,null,null,null,null,null,null,null,null,{"$f":"ROW(INDIRECT(MID(_xlfn.FORMULATEXT(C78),2,LEN(_xlfn.FORMULATEXT(C78)))))","v":54},"A.23 Connection between the issuer and the entity running the DLT","Indication of whether there is any connection between the issuer and the entity running the distributed ledger technology used to issue the crypto-asset, including if the protocols are run or controlled by a person closely connected to the project participants","boolean","error","The value of \"A.23 Connection between the issuer and entity running DLT\" must be provided."]
[{"$f":"IF(Table3!E55=\"\",\"/*\",\"\")","v":""},"mica:DescriptionOfConnectionBetweenAssetreferencedTokenIssuerAndEntityRunningDLTExplanatory",{"$f":"Table3!E55","v":" Ex: Here is a sample text... (textBlock format)"},"2025-01-01","2025-12-31",null,null,null,null,null,null,null,null,null,null,null,null,null,null,null,null,null,null,null,null,null,{"$f":"ROW(INDIRECT(MID(_xlfn.FORMULATEXT(C79),2,LEN(_xlfn.FORMULATEXT(C79)))))","v":55},"A.24 Description of the connection between the issuer and the entity running the DLT","Description of the connection between the issuer and entity running the distributed ledger technology used to issue the crypto-asset, including if the protocols are run or controlled by a person closely connected to the project participants","textBlock","error","If \"A.23 Connection between the issuer and the entity running the DLT\" is set to true, then \"A.24 Description of the connection between the issuer and the entity running the DLT\" must be provided with a fact value."]
[{"$f":"IF(Table3!E56=\"\",\"/*\",\"\")","v":"/*"},"mica:InformationOnWhetherPersonsOtherThanAssetreferencedTokenIssuerAreInvolvedAbstract",{"$f":"Table3!E56","v":0},"2025-01-01","2025-12-31",null,null,null,null,null,null,null,null,null,null,null,null,null,null,null,null,null,null,null,null,null,{"$f":"ROW(INDIRECT(MID(_xlfn.FORMULATEXT(C80),2,LEN(_xlfn.FORMULATEXT(C80)))))","v":56},"AA Information on other persons offering to the public or seeking admission to trading of asset-referenced tokens other than the issuer and on other persons drawing up the crypto-asset white paper in accordance with Article 19(1), second subparagraph, of Regulation (EU) 2023/1114","","","",""]
[{"$f":"IF(Table3!E57=\"\",\"/*\",\"\")","v":"/*"},"mica:InformationAboutPersonsOtherThanAssetreferencedTokenIssuerOfferingToPublicOrSeekingAdmissionToTradingOfAssetreferencedToken",{"$f":"Table3!E57","v":0},"2025-01-01","2025-12-31",null,null,null,null,null,null,null,null,null,null,null,null,null,null,null,null,null,null,null,null,null,{"$f":"ROW(INDIRECT(MID(_xlfn.FORMULATEXT(C81),2,LEN(_xlfn.FORMULATEXT(C81)))))","v":57},"AA.1 Persons other than the issuer offering to the public or seeking admission to trading of the asset referenced token according to Article 19(1), second subparagraph, of Regulation (EU) 2023/1114","Where different from the issuer, indication of the identity of the person offering to the public or seeking admission to trading of the asset referenced token","LEI","error\r\nerror","If \"AA.1 Persons other than the issuer offering to the public or seeking admission to trading of the asset referenced token according to Article 19(1), second subparagraph, of Regulation (EU) 2023/1114\" or \"AA.1.2 Persons other than the issuer offering to the public or seeking admission to trading of the asset referenced token according to Article 19(1), second subparagraph, of Regulation (EU) 2023/1114\" is provided with fact value, \"AA.2 Reason for offering to the public or seeking admission to trading the asset-referenced token by persons referred to in Article 19(1), second subparagraph, of Regulation (EU) 2023/1114\" must also be provided with fact value.\r\nIf \"AA.2 Reason for offering to the public or seeking admission to trading the asset-referenced token by persons referred to in Article 19(1), second subparagraph, of Regulation (EU) 2023/1114\" is provided with fact value and \"AA.1.2 Persons other than the issuer offering to the public or seeking admission to trading of the asset referenced token according to Article 19(1), second subparagraph, of Regulation (EU) 2023/1114\" is not provided with a fact value, then \"AA.1 Persons other than the issuer offering to the public or seeking admission to trading of the asset referenced token according to Article 19(1), second subparagraph, of Regulation (EU) 2023/1114\" must be provided with fact value."]
[{"$f":"IF(Table3!E58=\"\",\"/*\",\"\")","v":"/*"},"mica:InformationAboutPersonsOtherThanAssetreferencedTokenIssuerOfferingToPublicOrSeekingAdmissionToTradingOfAssetreferencedTokenAnotherIdentifier",{"$f":"Table3!E58","v":""},"2025-01-01","2025-12-31",null,null,null,null,null,null,null,null,null,null,null,null,null,null,null,null,null,null,null,null,null,{"$f":"ROW(INDIRECT(MID(_xlfn.FORMULATEXT(C82),2,LEN(_xlfn.FORMULATEXT(C82)))))","v":58},"AA.1.2 Persons other than the issuer offering to the public or seeking admission to trading of the asset referenced token according to Article 19(1), second subparagraph, of Regulation (EU) 2023/1114","Field to be filled in only if a legal entity identifier is not provided in field AA.1\r\nNational identifier based on the nationality of the person other than the issuer offering to the public or seeking admission to trading, if required under the applicable national law.\r\nThis field only applies to entities for which a national identifier is required in accordance with applicable national law.","text","error","If \"AA.2 Reason for offering to the public or seeking admission to trading the asset-referenced token by persons referred to in Article 19(1), second subparagraph, of Regulation (EU) 2023/1114\" is provided with fact value and \"AA.1 Persons other than the issuer offering to the public or seeking admission to trading of the asset referenced token according to Article 19(1), second subparagraph, of Regulation (EU) 2023/1114\" is not provided with a fact value, then \"AA.1.2 Persons other than the issuer offering to the public or seeking admission to trading of the asset referenced token according to Article 19(1), second subparagraph, of Regulation (EU) 2023/1114\" must be provided with fact value."]
[{"$f":"IF(Table3!E59=\"\",\"/*\",\"\")","v":"/*"},"mica:ReasonForOfferingAssetreferencedTokenExplanatory",{"$f":"Table3!E59","v":""},"2025-01-01","2025-12-31",null,null,null,null,null,null,null,null,null,null,null,null,null,null,null,null,null,null,null,null,null,{"$f":"ROW(INDIRECT(MID(_xlfn.FORMULATEXT(C83),2,LEN(_xlfn.FORMULATEXT(C83)))))","v":59},"AA.2 Reason for offering to the public or seeking admission to trading the asset-referenced token by persons referred to in Article 19(1), second subparagraph, of Regulation (EU) 2023/1114","Where the offeror or the person seeking admission to trading is different from the issuer, reason for offering to the public or seeking admission to trading of the asset-referenced token","textBlock","",""]
[{"$f":"IF(Table3!E60=\"\",\"/*\",\"\")","v":"/*"},"mica:OtherPersonsDrawingUpAssetreferencedTokenWhitePaper",{"$f":"Table3!E60","v":0},"2025-01-01","2025-12-31",null,null,null,null,null,null,null,null,null,null,null,null,null,null,null,null,null,null,null,null,null,{"$f":"ROW(INDIRECT(MID(_xlfn.FORMULATEXT(C84),2,LEN(_xlfn.FORMULATEXT(C84)))))","v":60},"AA.3 Other persons drawing up the crypto-asset white paper according to Article 19(1), second subparagraph, of Regulation (EU) 2023/1114","Where different from the issuer, indication of the identity of the person drawing up the crypto-asset white paper","LEI","error\r\nerror","If \"AA.4 Reason for drawing the white paper by persons referred to in Article 19(1), second subparagraph, of Regulation (EU) 2023/1114\" is provided with fact value and \"AA.3.1 Other persons drawing up the crypto-asset white paper according to Article 19(1), second subparagraph, of Regulation (EU) 2023/1114\" is not provided with a fact value, then \"AA.3 Other persons drawing up the crypto-asset white paper according to Article 19(1), second subparagraph, of Regulation (EU) 2023/1114\" must be provided with fact value.\r\nIf \"AA.3 Other persons drawing up the crypto-asset white paper according to Article 19(1), second subparagraph, of Regulation (EU) 2023/1114\" or \"AA.3.1 Other persons drawing up the crypto-asset white paper according to Article 19(1), second subparagraph, of Regulation (EU) 2023/1114\" is provided with fact value, \"AA.4 Reason for drawing the white paper by persons referred to in Article 19(1), second subparagraph, of Regulation (EU) 2023/1114\" must also be provided with fact value."]
[{"$f":"IF(Table3!E61=\"\",\"/*\",\"\")","v":"/*"},"mica:OtherPersonsDrawingUpAssetreferencedTokenWhitePaperAnotherIdentifier",{"$f":"Table3!E61","v":""},"2025-01-01","2025-12-31",null,null,null,null,null,null,null,null,null,null,null,null,null,null,null,null,null,null,null,null,null,{"$f":"ROW(INDIRECT(MID(_xlfn.FORMULATEXT(C85),2,LEN(_xlfn.FORMULATEXT(C85)))))","v":61},"AA.3.1 Other persons drawing up the crypto-asset white paper according to Article 19(1), second subparagraph, of Regulation (EU) 2023/1114","Field to be filled in only if a legal entity identifier is not provided in field AA.3\r\nNational identifier based on the nationality of the person drawing up the crypto-asset white paper, if required under the applicable national law.\r\nThis field only applies to entities for which a national identifier is required in accordance with applicable national law.","text","error","If \"AA.4 Reason for drawing the white paper by persons referred to in Article 19(1), second subparagraph, of Regulation (EU) 2023/1114\" is provided with fact value and \"AA.3 Other persons drawing up the crypto-asset white paper according to Article 19(1), second subparagraph, of Regulation (EU) 2023/1114\" is not provided with a fact value, then \"AA.3.1 Other persons drawing up the crypto-asset white paper according to Article 19(1), second subparagraph, of Regulation (EU) 2023/1114\" must be provided with fact value."]
[{"$f":"IF(Table3!E62=\"\",\"/*\",\"\")","v":"/*"},"mica:ReasonForDrawingAssetreferencedTokenWhitePaperExplanatory",{"$f":"Table3!E62","v":""},"2025-01-01","2025-12-31",null,null,null,null,null,null,null,null,null,null,null,null,null,null,null,null,null,null,null,null,null,{"$f":"ROW(INDIRECT(MID(_xlfn.FORMULATEXT(C86),2,LEN(_xlfn.FORMULATEXT(C86)))))","v":62},"AA.4 Reason for drawing the white paper by persons referred to in Article 19(1), second subparagraph, of Regulation (EU) 2023/1114","Where the white paper is drawn up by a person different from the issuer, reason for drawing up the white paper","textBlock","",""]
[{"$f":"IF(Table3!E63=\"\",\"/*\",\"\")","v":"/*"},"mica:InformationAboutAssetreferencedTokenAbstract",{"$f":"Table3!E63","v":0},"2025-01-01","2025-12-31",null,null,null,null,null,null,null,null,null,null,null,null,null,null,null,null,null,null,null,null,null,{"$f":"ROW(INDIRECT(MID(_xlfn.FORMULATEXT(C87),2,LEN(_xlfn.FORMULATEXT(C87)))))","v":63},"Part B - Information about asset-referenced token","","","",""]
[{"$f":"IF(Table3!E64=\"\",\"/*\",\"\")","v":""},"mica:AssetreferencedTokenName",{"$f":"Table3!E64","v":" Ex: Here is a sample text... (text format)"},"2025-01-01","2025-12-31",null,null,null,null,null,null,null,null,null,null,null,null,null,null,null,null,null,null,null,null,null,{"$f":"ROW(INDIRECT(MID(_xlfn.FORMULATEXT(C88),2,LEN(_xlfn.FORMULATEXT(C88)))))","v":64},"B.1 Asset-referenced token name","Field to be filled in only if a DTI is not provided in field B.15\nName of the asset-referenced token","text","error","If \"B.15 Digital token identifier code used to uniquely identify the crypto-asset or each of the several crypto assets to which the white paper relates, where available\" is not provided with a fact value, then \"B.1 Asset-referenced token name\" must be reported."]
[{"$f":"IF(Table3!E65=\"\",\"/*\",\"\")","v":""},"mica:AssetreferencedTokenAbbreviation",{"$f":"Table3!E65","v":" Ex: Here is a sample text... (text format)"},"2025-01-01","2025-12-31",null,null,null,null,null,null,null,null,null,null,null,null,null,null,null,null,null,null,null,null,null,{"$f":"ROW(INDIRECT(MID(_xlfn.FORMULATEXT(C89),2,LEN(_xlfn.FORMULATEXT(C89)))))","v":65},"B.2 Token abbreviation","Field to be filled in only if a DTI is not provided in field B.15\r\nAbbreviation or ticker handler of the asset-referenced token","text","error","If \"B.15 Digital token identifier code used to uniquely identify the crypto-asset or each of the several crypto assets to which the white paper relates, where available\" is not provided with a fact value, then \"B.2 Token abbreviation\" must be reported."]
[{"$f":"IF(Table3!E66=\"\",\"/*\",\"\")","v":"/*"},"mica:DetailsOfAllNaturalOrLegalPersonsInvolvedInImplementationOfCryptoassetProjectForAssetreferencedTokenExplanatory",{"$f":"Table3!E66","v":0},null,null,null,null,null,null,null,null,null,null,null,null,null,null,null,null,null,null,null,null,null,null,null,{"$f":"ROW(INDIRECT(MID(_xlfn.FORMULATEXT(C90),2,LEN(_xlfn.FORMULATEXT(C90)))))","v":66},"B.3 Details of all natural or legal persons involved in the operationalisation of the asset-referenced token","Details of advisors, development team, CASPs and all other natural or legal persons involved in the implementation of the crypto-asset project, including business addresses or domicile of the company","","error\r\nerror\r\nerror\r\nerror","The value of \"B.3 Details of all natural or legal persons involved in operationalisation of asset-referenced token / Type of person\" must be provided.\r\nThe value of \"B.3 Details of all natural or legal persons involved in operationalisation of asset-referenced token / Name of person\" must be provided.\r\nThe value of \"B.3 Details of all natural or legal persons involved in operationalisation of asset-referenced token / Business address of person\" must be provided.\r\nThe value of \"B.3 Details of all natural or legal persons involved in operationalisation of asset-referenced token / Domicle of company\" must be provided."]
[{"$f":"IF(Table3!E68=\"\",\"/*\",\"\")","v":""},"mica:TypeOfPersonInvolvedInImplementationOfAssetreferencedToken",{"$f":"Table3!E68","v":"-- Select value --"},"2025-01-01","2025-12-31",null,null,null,"mica:LineIdentifierForPersonsInvolvedInOperationalisationOfAssetreferencedTokenTypedAxis",1,"/**Typed","mica:lineIdentifierForPersonsInvolvedInOperationalisationOfAssetreferencedToken",null,null,null,null,null,null,null,null,null,null,null,null,null,null,{"$f":"ROW(INDIRECT(MID(_xlfn.FORMULATEXT(C91),2,LEN(_xlfn.FORMULATEXT(C91)))))","v":68},"Type of person","","enumeration","",""]
[{"$f":"IF(Table3!E69=\"\",\"/*\",\"\")","v":""},"mica:NameOfPersonInvolvedInImplementationOfAssetreferencedToken",{"$f":"Table3!E69","v":" Ex: Here is a sample text... (text format)"},"2025-01-01","2025-12-31",null,null,null,"mica:LineIdentifierForPersonsInvolvedInOperationalisationOfAssetreferencedTokenTypedAxis",1,"/**Typed","mica:lineIdentifierForPersonsInvolvedInOperationalisationOfAssetreferencedToken",null,null,null,null,null,null,null,null,null,null,null,null,null,null,{"$f":"ROW(INDIRECT(MID(_xlfn.FORMULATEXT(C92),2,LEN(_xlfn.FORMULATEXT(C92)))))","v":69},"Name of person ","","text","",""]
[{"$f":"IF(Table3!E70=\"\",\"/*\",\"\")","v":""},"mica:BusinessAddressOfPersonInvolvedInImplementationOfAssetreferencedToken",{"$f":"Table3!E70","v":" Ex: Here is a sample text... (text format)"},"2025-01-01","2025-12-31",null,null,null,"mica:LineIdentifierForPersonsInvolvedInOperationalisationOfAssetreferencedTokenTypedAxis",1,"/**Typed","mica:lineIdentifierForPersonsInvolvedInOperationalisationOfAssetreferencedToken",null,null,null,null,null,null,null,null,null,null,null,null,null,null,{"$f":"ROW(INDIRECT(MID(_xlfn.FORMULATEXT(C93),2,LEN(_xlfn.FORMULATEXT(C93)))))","v":70},"Business address of person","","text","",""]
[{"$f":"IF(Table3!E71=\"\",\"/*\",\"\")","v":""},"mica:DomicileOfCompanyOfPersonInvolvedInImplementationOfAssetreferencedToken",{"$f":"Table3!E71","v":"-- Select value --"},"2025-01-01","2025-12-31",null,null,null,"mica:LineIdentifierForPersonsInvolvedInOperationalisationOfAssetreferencedTokenTypedAxis",1,"/**Typed","mica:lineIdentifierForPersonsInvolvedInOperationalisationOfAssetreferencedToken",null,null,null,null,null,null,null,null,null,null,null,null,null,null,{"$f":"ROW(INDIRECT(MID(_xlfn.FORMULATEXT(C94),2,LEN(_xlfn.FORMULATEXT(C94)))))","v":71},"Domicile of company","","enumeration","",""]
[{"$f":"IF(Table3!E72=\"\",\"/*\",\"\")","v":""},"mica:TypeOfPersonInvolvedInImplementationOfAssetreferencedToken",{"$f":"Table3!$E$73","v":"-- Select value --"},"2025-01-01","2025-12-31",null,null,null,"mica:LineIdentifierForPersonsInvolvedInOperationalisationOfAssetreferencedTokenTypedAxis",2,"/**Typed","mica:lineIdentifierForPersonsInvolvedInOperationalisationOfAssetreferencedToken",null,null,null,null,null,null,null,null,null,null,null,null,null,null,{"$f":"ROW(INDIRECT(MID(_xlfn.FORMULATEXT(C95),2,LEN(_xlfn.FORMULATEXT(C95)))))","v":73},"Type of person","","enumeration","",""]
[{"$f":"IF(Table3!E73=\"\",\"/*\",\"\")","v":""},"mica:NameOfPersonInvolvedInImplementationOfAssetreferencedToken",{"$f":"Table3!$E$74","v":" Ex: Here is a sample text... (text format)"},"2025-01-01","2025-12-31",null,null,null,"mica:LineIdentifierForPersonsInvolvedInOperationalisationOfAssetreferencedTokenTypedAxis",2,"/**Typed","mica:lineIdentifierForPersonsInvolvedInOperationalisationOfAssetreferencedToken",null,null,null,null,null,null,null,null,null,null,null,null,null,null,{"$f":"ROW(INDIRECT(MID(_xlfn.FORMULATEXT(C96),2,LEN(_xlfn.FORMULATEXT(C96)))))","v":74},"Name of person ","","text","",""]
[{"$f":"IF(Table3!E74=\"\",\"/*\",\"\")","v":""},"mica:BusinessAddressOfPersonInvolvedInImplementationOfAssetreferencedToken",{"$f":"Table3!$E$75","v":" Ex: Here is a sample text... (text format)"},"2025-01-01","2025-12-31",null,null,null,"mica:LineIdentifierForPersonsInvolvedInOperationalisationOfAssetreferencedTokenTypedAxis",2,"/**Typed","mica:lineIdentifierForPersonsInvolvedInOperationalisationOfAssetreferencedToken",null,null,null,null,null,null,null,null,null,null,null,null,null,null,{"$f":"ROW(INDIRECT(MID(_xlfn.FORMULATEXT(C97),2,LEN(_xlfn.FORMULATEXT(C97)))))","v":75},"Business address of person","","text","",""]
[{"$f":"IF(Table3!E75=\"\",\"/*\",\"\")","v":""},"mica:DomicileOfCompanyOfPersonInvolvedInImplementationOfAssetreferencedToken",{"$f":"Table3!$E$76","v":"-- Select value --"},"2025-01-01","2025-12-31",null,null,null,"mica:LineIdentifierForPersonsInvolvedInOperationalisationOfAssetreferencedTokenTypedAxis",2,"/**Typed","mica:lineIdentifierForPersonsInvolvedInOperationalisationOfAssetreferencedToken",null,null,null,null,null,null,null,null,null,null,null,null,null,null,{"$f":"ROW(INDIRECT(MID(_xlfn.FORMULATEXT(C98),2,LEN(_xlfn.FORMULATEXT(C98)))))","v":76},"Domicile of company","","enumeration","",""]
[{"$f":"IF(Table3!E77=\"\",\"/*\",\"\")","v":""},"mica:ThirdpartyRolesExplanatory",{"$f":"Table3!E77","v":" Ex: Here is a sample text... (textBlock format)"},"2025-01-01","2025-12-31",null,null,null,null,null,null,null,null,null,null,null,null,null,null,null,null,null,null,null,null,null,{"$f":"ROW(INDIRECT(MID(_xlfn.FORMULATEXT(C99),2,LEN(_xlfn.FORMULATEXT(C99)))))","v":77},"B.4 Third-party roles","A description of the role, responsibility and accountability of any third-party entities referred to in Article 34(5), first subparagraph, point (h), of Regulation (EU) 2023/1114","textBlock","error","The value of \"B.4 Third-party roles\" must be provided."]
[{"$f":"IF(Table3!E78=\"\",\"/*\",\"\")","v":"/*"},"mica:PlansForAssetreferencedTokenAbstract",{"$f":"Table3!E78","v":0},"2025-01-01","2025-12-31",null,null,null,null,null,null,null,null,null,null,null,null,null,null,null,null,null,null,null,null,null,{"$f":"ROW(INDIRECT(MID(_xlfn.FORMULATEXT(C100),2,LEN(_xlfn.FORMULATEXT(C100)))))","v":78},"B.5 Plans for the token","Information about the plans for the asset-referenced tokens, including description of past and expected future milestones","","warning\r\nwarning","The value of \"B.5 Plans for the token / Past milestones\" should be provided.\r\nThe value of \"B.5 Plans for the token / Future milestones\" should be provided."]
[{"$f":"IF(Table3!E79=\"\",\"/*\",\"\")","v":""},"mica:DescriptionOfPastMilestonesForAssetreferencedTokenExplanatory",{"$f":"Table3!E79","v":" Ex: Here is a sample text... (textBlock format)"},"2025-01-01","2025-12-31",null,null,null,null,null,null,null,null,null,null,null,null,null,null,null,null,null,null,null,null,null,{"$f":"ROW(INDIRECT(MID(_xlfn.FORMULATEXT(C101),2,LEN(_xlfn.FORMULATEXT(C101)))))","v":79},"Past milestones","","textBlock","",""]
[{"$f":"IF(Table3!E80=\"\",\"/*\",\"\")","v":""},"mica:DescriptionOfFutureMilestonesForAssetreferencedTokenExplanatory",{"$f":"Table3!E80","v":" Ex: Here is a sample text... (textBlock format)"},"2025-01-01","2025-12-31",null,null,null,null,null,null,null,null,null,null,null,null,null,null,null,null,null,null,null,null,null,{"$f":"ROW(INDIRECT(MID(_xlfn.FORMULATEXT(C102),2,LEN(_xlfn.FORMULATEXT(C102)))))","v":80},"Future milestones","","textBlock","",""]
[{"$f":"IF(Table3!E81=\"\",\"/*\",\"\")","v":""},"mica:ResourceAllocationForAssetreferencedTokenExplanatory",{"$f":"Table3!E81","v":" Ex: Here is a sample text... (text format)"},"2025-01-01","2025-12-31",null,null,null,null,null,null,null,null,null,null,null,null,null,null,null,null,null,null,null,null,null,{"$f":"ROW(INDIRECT(MID(_xlfn.FORMULATEXT(C103),2,LEN(_xlfn.FORMULATEXT(C103)))))","v":81},"B.6 Resource allocation","Where applicable, information about resources already allocated to the project","text","",""]
[{"$f":"IF(Table3!E82=\"\",\"/*\",\"\")","v":"/*"},"mica:AssetreferencedTokenCharacteristicsIncludingDataNecessaryForClassificationOfWhitePaperInRegisterAbstract",{"$f":"Table3!E82","v":0},"2025-01-01","2025-12-31",null,null,null,null,null,null,null,null,null,null,null,null,null,null,null,null,null,null,null,null,null,{"$f":"ROW(INDIRECT(MID(_xlfn.FORMULATEXT(C104),2,LEN(_xlfn.FORMULATEXT(C104)))))","v":82},"A description of the characteristics of the asset referenced token, including the data necessary for classification of the crypto-asset white paper in the register referred to in Article 109 of Regulation (EU) 2023/1114, as specified in accordance with paragraph 8 of that Article","","","",""]
[{"$f":"IF(Table3!E83=\"\",\"/*\",\"\")","v":""},"mica:AssetreferencedTokenTypeOfWhitePaper",{"$f":"Table3!E83","v":"-- Select value --"},"2025-01-01","2025-12-31",null,null,null,null,null,null,null,null,null,null,null,null,null,null,null,null,null,null,null,null,null,{"$f":"ROW(INDIRECT(MID(_xlfn.FORMULATEXT(C105),2,LEN(_xlfn.FORMULATEXT(C105)))))","v":83},"B.7 Type of white paper","The type of white paper notified","enumeration","error","The value of \"B.7 Type of white paper\" must be provided."]
[{"$f":"IF(Table3!E84=\"\",\"/*\",\"\")","v":""},"mica:AssetreferencedTokenTypeOfSubmission",{"$f":"Table3!E84","v":"-- Select value --"},"2025-01-01","2025-12-31",null,null,null,null,null,null,null,null,null,null,null,null,null,null,null,null,null,null,null,null,null,{"$f":"ROW(INDIRECT(MID(_xlfn.FORMULATEXT(C106),2,LEN(_xlfn.FORMULATEXT(C106)))))","v":84},"B.8 Type of submission","Type of submission","enumeration","error","The value of \"B.8 Type of submission\" must be provided."]
[{"$f":"IF(Table3!E85=\"\",\"/*\",\"\")","v":""},"mica:DescriptionOfAssetreferencedTokenCharacteristicsExplanatory",{"$f":"Table3!E85","v":" Ex: Here is a sample text... (textBlock format)"},"2025-01-01","2025-12-31",null,null,null,null,null,null,null,null,null,null,null,null,null,null,null,null,null,null,null,null,null,{"$f":"ROW(INDIRECT(MID(_xlfn.FORMULATEXT(C107),2,LEN(_xlfn.FORMULATEXT(C107)))))","v":85},"B.9 Crypto-asset characteristics","A description of the characteristics of the asset referenced token being offered or admitted to trading","textBlock","error","The value of \"B.9 Crypto-asset characteristics\" must be provided."]
[{"$f":"IF(Table3!E86=\"\",\"/*\",\"\")","v":""},"mica:AssetreferencedTokenIssuersWebsite",{"$f":"Table3!E86","v":" Ex: Here is a sample text... (text format)"},"2025-01-01","2025-12-31",null,null,null,null,null,null,null,null,null,null,null,null,null,null,null,null,null,null,null,null,null,{"$f":"ROW(INDIRECT(MID(_xlfn.FORMULATEXT(C108),2,LEN(_xlfn.FORMULATEXT(C108)))))","v":86},"B.10 Website of the issuer","Website of the issuer","text","error","The value of \"B.10 Website of the issuer\" must be provided."]
[{"$f":"IF(Table3!E87=\"\",\"/*\",\"\")","v":""},"mica:AssetreferencedTokenOfferStartingDate",{"$f":"Table3!E87","v":"YYYY-MM-DD"},null,"2025-12-31",null,null,null,null,null,null,null,null,null,null,null,null,null,null,null,null,null,null,null,null,null,{"$f":"ROW(INDIRECT(MID(_xlfn.FORMULATEXT(C109),2,LEN(_xlfn.FORMULATEXT(C109)))))","v":87},"B.11 Starting date of offer to the public or admission to trading","Starting date or, if not available at the time of the notification by the competent authority, the intended starting date of offer to the public or admission to trading","date","error","The value of \"B.11 Starting date of offert to the public or admission to trading\" must be provided."]
[{"$f":"IF(Table3!E88=\"\",\"/*\",\"\")","v":""},"mica:AssetreferencedTokenWhitePaperPublicationDate",{"$f":"Table3!E88","v":"YYYY-MM-DD"},null,"2025-12-31",null,null,null,null,null,null,null,null,null,null,null,null,null,null,null,null,null,null,null,null,null,{"$f":"ROW(INDIRECT(MID(_xlfn.FORMULATEXT(C110),2,LEN(_xlfn.FORMULATEXT(C110)))))","v":88},"B.12 Publication date","Effective or intended publication date of the white paper or of the modified white paper","date","error","The value of \"B.12 Publication date\" must be provided."]
[{"$f":"IF(Table3!E89=\"\",\"/*\",\"\")","v":""},"mica:InformationAboutOtherServicesProvidedByAssetreferencedTokenIssuerExplanatory",{"$f":"Table3!E89","v":" Ex: Here is a sample text... (textBlock format)"},"2025-01-01","2025-12-31",null,null,null,null,null,null,null,null,null,null,null,null,null,null,null,null,null,null,null,null,null,{"$f":"ROW(INDIRECT(MID(_xlfn.FORMULATEXT(C111),2,LEN(_xlfn.FORMULATEXT(C111)))))","v":89},"B.13 Any other services provided by issuer","Any other services provided by the issuer not covered by Regulation (EU) 2023/1114, with a reference to the applicable Union or national legal acts regulating those services","textBlock","error","The value of \"B.13 Any other services provided by issuer\" must be provided."]
[{"$f":"IF(Table3!E90=\"\",\"/*\",\"\")","v":""},"mica:InformationAboutLanguagesUsedInAssetreferencedTokenWhitePaper",{"$f":"Table3!E90","v":" Ex: Here is a sample text... (text format)"},"2025-01-01","2025-12-31",null,null,null,null,null,null,null,null,null,null,null,null,null,null,null,null,null,null,null,null,null,{"$f":"ROW(INDIRECT(MID(_xlfn.FORMULATEXT(C112),2,LEN(_xlfn.FORMULATEXT(C112)))))","v":90},"B.14 Language or languages of white paper","Language or languages in which the crypto-asset white paper is drafted\r\nWhen multiple languages have been used, this field shall be reported as many times as necessary","text","error","The value of \"B.14 Language or languages of white paper\" must be provided."]
[{"$f":"IF(Table3!E91=\"\",\"/*\",\"\")","v":""},"mica:AssetreferencedTokenDigitalTokenIdentifierCode",{"$f":"Table3!E91","v":" Ex: Here is a sample text... (text format)"},"2025-01-01","2025-12-31",null,null,null,null,null,null,null,null,null,null,null,null,null,null,null,null,null,null,null,null,null,{"$f":"ROW(INDIRECT(MID(_xlfn.FORMULATEXT(C113),2,LEN(_xlfn.FORMULATEXT(C113)))))","v":91},"B.15 Digital token identifier code used to uniquely identify the crypto-asset or each of the several crypto assets to which the white paper relates, where available","Code used to uniquely identify the crypto-asset or each of the several crypto assets to which the crypto-asset white paper relates, where available","text","error","The value of \"B.15 Digital token identifier code used to uniquely identify the crypto-asset or each of the several crypto assets to which the white paper relates, where availlable\" must be provided."]
[{"$f":"IF(Table3!E92=\"\",\"/*\",\"\")","v":""},"mica:AssetreferencedTokenFunctionallyFungibleGroupDigitalTokenIdentifier",{"$f":"Table3!E92","v":" Ex: Here is a sample text... (text format)"},"2025-01-01","2025-12-31",null,null,null,null,null,null,null,null,null,null,null,null,null,null,null,null,null,null,null,null,null,{"$f":"ROW(INDIRECT(MID(_xlfn.FORMULATEXT(C114),2,LEN(_xlfn.FORMULATEXT(C114)))))","v":92},"B.16 Functionally fungible group digital token identifier, where available","Code used to uniquely identify the functionally fungible group to which the digital asset belongs (i.e., common to each of the several assets to which the white paper relates, i.e. Code used to identify the white paper ISO 24165 DTI of type = 3 (i.e., functionally fungible group), where available","text","error","The value of \"B.16 Functionally fungible group digital token identifier, where available\" must be provided."]
[{"$f":"IF(Table3!E93=\"\",\"/*\",\"\")","v":""},"mica:AssetreferencedTokenPersonalDataFlagIndicator",{"$f":"Table3!E93","v":"true/false"},"2025-01-01","2025-12-31",null,null,null,null,null,null,null,null,null,null,null,null,null,null,null,null,null,null,null,null,null,{"$f":"ROW(INDIRECT(MID(_xlfn.FORMULATEXT(C115),2,LEN(_xlfn.FORMULATEXT(C115)))))","v":93},"B.17 Personal data flag","Flag indicating if the submitted white paper contains personal data","boolean","error","The value of \"B.17 Personal data flag\" must be provided."]
[{"$f":"IF(Table3!E94=\"\",\"/*\",\"\")","v":""},"mica:LEIEligibilityIndicatorForAssetreferencedToken",{"$f":"Table3!E94","v":"true/false"},"2025-01-01","2025-12-31",null,null,null,null,null,null,null,null,null,null,null,null,null,null,null,null,null,null,null,null,null,{"$f":"ROW(INDIRECT(MID(_xlfn.FORMULATEXT(C116),2,LEN(_xlfn.FORMULATEXT(C116)))))","v":94},"B.18 LEI eligibility","Indication that the issuer is eligible for a Legal Entity Identifier","boolean","error","The value of \"B.18 LEI eligibility\" must be provided."]
[{"$f":"IF(Table3!E95=\"\",\"/*\",\"\")","v":""},"mica:AssetreferencedTokenHomeMemberState",{"$f":"Table3!E95","v":"-- Select value --"},"2025-01-01","2025-12-31",null,null,null,null,null,null,null,null,null,null,null,null,null,null,null,null,null,null,null,null,null,{"$f":"ROW(INDIRECT(MID(_xlfn.FORMULATEXT(C117),2,LEN(_xlfn.FORMULATEXT(C117)))))","v":95},"B.19 Home member state","Home Member State as defined in Article 3(1), point (33), of Regulation (EU) 2023/1114","enumeration","error","The value of \"B.19 Home member state\" must be provided."]
[{"$f":"IF(Table3!E96=\"\",\"/*\",\"\")","v":""},"mica:AssetreferencedTokenHostMemberStates",{"$f":"Table3!E96","v":"Belgium"},"2025-01-01","2025-12-31",null,null,null,null,null,null,null,null,null,null,null,null,null,null,null,null,null,null,null,null,null,{"$f":"ROW(INDIRECT(MID(_xlfn.FORMULATEXT(C118),2,LEN(_xlfn.FORMULATEXT(C118)))))","v":96},"B.20 Host member states #1","Host Member State as defined in Article 3(1), point (34), of Regulation (EU) 2023/1114","enumerationSet","",""]
[{"$f":"IF(Table3!E97=\"\",\"/*\",\"\")","v":""},"mica:AssetreferencedTokenHostMemberStates",{"$f":"Table3!E97","v":"Bulgaria"},"2025-01-01","2025-12-31",null,null,null,null,null,null,null,null,null,null,null,null,null,null,null,null,null,null,null,null,null,{"$f":"ROW(INDIRECT(MID(_xlfn.FORMULATEXT(C119),2,LEN(_xlfn.FORMULATEXT(C119)))))","v":97},"B.20 Host member states #1","Host Member State as defined in Article 3(1), point (34), of Regulation (EU) 2023/1114","enumerationSet","",""]
[{"$f":"IF(Table3!E98=\"\",\"/*\",\"\")","v":"/*"},"mica:InformationAboutOfferToPublicOfAssetreferencedTokenOrItsAdmissionToTradingAbstract",{"$f":"Table3!E98","v":0},"2025-01-01","2025-12-31",null,null,null,null,null,null,null,null,null,null,null,null,null,null,null,null,null,null,null,null,null,{"$f":"ROW(INDIRECT(MID(_xlfn.FORMULATEXT(C120),2,LEN(_xlfn.FORMULATEXT(C120)))))","v":98},"Part C - Information about offer to public of asset-referenced token or its admission to trading","","","",""]
[{"$f":"IF(Table3!E99=\"\",\"/*\",\"\")","v":""},"mica:PublicOfferingOrAdmissionToTradingForAssetreferencedToken",{"$f":"Table3!E99","v":"-- Select value --"},"2025-01-01","2025-12-31",null,null,null,null,null,null,null,null,null,null,null,null,null,null,null,null,null,null,null,null,null,{"$f":"ROW(INDIRECT(MID(_xlfn.FORMULATEXT(C121),2,LEN(_xlfn.FORMULATEXT(C121)))))","v":99},"C.1 Public offering or admission to trading","Indication as to whether the crypto-asset white paper concerns an offer to the public of the asset-referenced token or its admission to trading","enumeration","error","The value of \"C.1 Public offering or admission to trading\" must be provided."]
[{"$f":"IF(Table3!E100=\"\",\"/*\",\"\")","v":"/*"},"mica:FundraisingTargetForAssetreferencedTokenDetailsAbstract",{"$f":"Table3!E100","v":0},"2025-01-01","2025-12-31",null,null,null,null,null,null,null,null,null,null,null,null,null,null,null,null,null,null,null,null,null,{"$f":"ROW(INDIRECT(MID(_xlfn.FORMULATEXT(C122),2,LEN(_xlfn.FORMULATEXT(C122)))))","v":100},"C.2 Fundraising target","Where applicable, the amount that the offer to the public of the asset-referenced token intends to raise in funds in an official currency or in any other crypto-asset","","warning\r\nerror\r\nerror","If \"C.1 Public offering or admission to trading\" is set with 'OTPC' value, then \"C.2 Fund raising target\" should be either expressed in currency or unit (and then provided with the DTI value).\r\nIf \"C.2 Fundraising target / Target expressed in digital token identifier\" is provided with a fact value, then \"C.2 Fundraising target / Target expressed in units\" must be provided with a fact value.\r\nIf \"C.2 Fundraising target / Target expressed in units\" is provided with a fact value, then \"C.2 Fundraising target / Target expressed in digital token identifier\" must be provided with a fact value."]
[{"$f":"IF(Table3!E101=\"\",\"/*\",\"\")","v":""},"mica:FundraisingTargetForAssetreferencedTokenExpressedInCurrency",{"$f":"Table3!E101","v":" Ex: 18.16"},"2025-01-01","2025-12-31",{"$f":"_xlfn.CONCAT(\"iso4217:\",Table3!F101)","v":"iso4217:EUR"},"INF","0",null,null,null,null,null,null,null,null,null,null,null,null,null,null,null,null,null,null,{"$f":"ROW(INDIRECT(MID(_xlfn.FORMULATEXT(C123),2,LEN(_xlfn.FORMULATEXT(C123)))))","v":101},"Target expressed in currency","","monetary","",""]
[{"$f":"IF(Table3!E102=\"\",\"/*\",\"\")","v":""},"mica:FundraisingTargetForAssetreferencedTokenExpressedInUnits",{"$f":"Table3!E102","v":" Ex: 27.1018"},"2025-01-01","2025-12-31","xbrli:pure","INF","0",null,null,null,null,null,null,null,null,null,null,null,null,null,null,null,null,null,null,{"$f":"ROW(INDIRECT(MID(_xlfn.FORMULATEXT(C124),2,LEN(_xlfn.FORMULATEXT(C124)))))","v":102},"Target expressed in units","","decimal","",""]
[{"$f":"IF(Table3!E103=\"\",\"/*\",\"\")","v":""},"mica:FundraisingTargetForAssetreferencedTokenExpressedInUnitsDigitalTokenIdentifier",{"$f":"Table3!E103","v":" Ex: Here is a sample text... (text format)"},"2025-01-01","2025-12-31",null,null,null,null,null,null,null,null,null,null,null,null,null,null,null,null,null,null,null,null,null,{"$f":"ROW(INDIRECT(MID(_xlfn.FORMULATEXT(C125),2,LEN(_xlfn.FORMULATEXT(C125)))))","v":103},"Target expressed in digital token identifier","","text","",""]
[{"$f":"IF(Table3!E104=\"\",\"/*\",\"\")","v":"/*"},"mica:MinimumSubscriptionGoalsForAssetReferencedTokenOfferDetailsAbstract",{"$f":"Table3!E104","v":0},"2025-01-01","2025-12-31",null,null,null,null,null,null,null,null,null,null,null,null,null,null,null,null,null,null,null,null,null,{"$f":"ROW(INDIRECT(MID(_xlfn.FORMULATEXT(C126),2,LEN(_xlfn.FORMULATEXT(C126)))))","v":104},"C.3 Minimum subscription goals","Where applicable, any minimum target subscription goals set for the offer to the public of the asset-referenced token in an official currency or any other crypto-assets","","error\r\nerror","If \"C.3 Minimum subscription goals / Goals expressed in digital token identifier\" is provided with a fact value, then \"C.3 Minimum subscription goals / Goals expressed in units\" must be provided with a fact value.\r\nIf \"C.3 Minimum subscription goals / Goals expressed in units\" is provided with a fact value, then \"C.3 Minimum subscription goals / Goals expressed in digital token identifier\" must be provided with a fact value."]
[{"$f":"IF(Table3!E105=\"\",\"/*\",\"\")","v":""},"mica:MinimumSubscriptionGoalsForAssetReferencedTokenOfferExpressedInCurrency",{"$f":"Table3!E105","v":" Ex: 18.16"},"2025-01-01","2025-12-31",{"$f":"_xlfn.CONCAT(\"iso4217:\",Table3!F105)","v":"iso4217:EUR"},"INF","0",null,null,null,null,null,null,null,null,null,null,null,null,null,null,null,null,null,null,{"$f":"ROW(INDIRECT(MID(_xlfn.FORMULATEXT(C127),2,LEN(_xlfn.FORMULATEXT(C127)))))","v":105},"Goals expressed in currency","","monetary","",""]
[{"$f":"IF(Table3!E106=\"\",\"/*\",\"\")","v":""},"mica:MinimumSubscriptionGoalsForAssetReferencedTokenOfferExpressedInUnits",{"$f":"Table3!E106","v":" Ex: 27.1018"},"2025-01-01","2025-12-31","xbrli:pure","INF","0",null,null,null,null,null,null,null,null,null,null,null,null,null,null,null,null,null,null,{"$f":"ROW(INDIRECT(MID(_xlfn.FORMULATEXT(C128),2,LEN(_xlfn.FORMULATEXT(C128)))))","v":106},"Goals expressed in units","","decimal","",""]
[{"$f":"IF(Table3!E107=\"\",\"/*\",\"\")","v":""},"mica:MinimumSubscriptionGoalsForAssetReferencedTokenOfferExpressedInUnitsDigitalTokenIdentifier",{"$f":"Table3!E107","v":" Ex: Here is a sample text... (text format)"},"2025-01-01","2025-12-31",null,null,null,null,null,null,null,null,null,null,null,null,null,null,null,null,null,null,null,null,null,{"$f":"ROW(INDIRECT(MID(_xlfn.FORMULATEXT(C129),2,LEN(_xlfn.FORMULATEXT(C129)))))","v":107},"Goals expressed in digital token identifier","","text","",""]
[{"$f":"IF(Table3!E108=\"\",\"/*\",\"\")","v":"/*"},"mica:MaximumSubscriptionGoalsForAssetreferencedTokenOfferDetailsAbstract",{"$f":"Table3!E108","v":0},"2025-01-01","2025-12-31",null,null,null,null,null,null,null,null,null,null,null,null,null,null,null,null,null,null,null,null,null,{"$f":"ROW(INDIRECT(MID(_xlfn.FORMULATEXT(C130),2,LEN(_xlfn.FORMULATEXT(C130)))))","v":108},"C.4 Maximum subscription goals","Where applicable, any maximum target subscription goals set for the offer to the public of the asset-referenced token in an official currency or any other crypto-assets","","error\r\nerror","If \"C.4 Maximum subscription goals / Goals expressed in digital token identifier\" is provided with a fact value, then \"C.4 Maximum subscription goals / Goals expressed in units\" must be provided with a fact value.\r\nIf \"C.4 Maximum subscription goals / Goals expressed in units\" is provided with a fact value, then \"C.4 Maximum subscription goals / Goals expressed in digital token identifier\" must be provided with a fact value."]
[{"$f":"IF(Table3!E109=\"\",\"/*\",\"\")","v":""},"mica:MaximumSubscriptionGoalsForAssetReferencedTokenOfferExpressedInCurrency",{"$f":"Table3!E109","v":" Ex: 18.16"},"2025-01-01","2025-12-31",{"$f":"_xlfn.CONCAT(\"iso4217:\",Table3!F109)","v":"iso4217:EUR"},"INF","0",null,null,null,null,null,null,null,null,null,null,null,null,null,null,null,null,null,null,{"$f":"ROW(INDIRECT(MID(_xlfn.FORMULATEXT(C131),2,LEN(_xlfn.FORMULATEXT(C131)))))","v":109},"Goals expressed in currency","","monetary","",""]
[{"$f":"IF(Table3!E110=\"\",\"/*\",\"\")","v":""},"mica:MaximumSubscriptionGoalsForAssetReferencedTokenOfferExpressedInUnits",{"$f":"Table3!E110","v":" Ex: 27.1018"},"2025-01-01","2025-12-31","xbrli:pure","INF","0",null,null,null,null,null,null,null,null,null,null,null,null,null,null,null,null,null,null,{"$f":"ROW(INDIRECT(MID(_xlfn.FORMULATEXT(C132),2,LEN(_xlfn.FORMULATEXT(C132)))))","v":110},"Goals expressed in units","","decimal","",""]
[{"$f":"IF(Table3!E111=\"\",\"/*\",\"\")","v":""},"mica:MaximumSubscriptionGoalsForAssetReferencedTokenOfferExpressedInUnitsDigitalTokenIdentifier",{"$f":"Table3!E111","v":" Ex: Here is a sample text... (text format)"},"2025-01-01","2025-12-31",null,null,null,null,null,null,null,null,null,null,null,null,null,null,null,null,null,null,null,null,null,{"$f":"ROW(INDIRECT(MID(_xlfn.FORMULATEXT(C133),2,LEN(_xlfn.FORMULATEXT(C133)))))","v":111},"Goals expressed in digital token identifier","","text","",""]
[{"$f":"IF(Table3!E112=\"\",\"/*\",\"\")","v":""},"mica:OversubscriptionAcceptanceForAssetreferencedTokenIndicator",{"$f":"Table3!E112","v":"true/false"},"2025-01-01","2025-12-31",null,null,null,null,null,null,null,null,null,null,null,null,null,null,null,null,null,null,null,null,null,{"$f":"ROW(INDIRECT(MID(_xlfn.FORMULATEXT(C134),2,LEN(_xlfn.FORMULATEXT(C134)))))","v":112},"C.5 Oversubscription acceptance","Indication whether oversubscriptions are accepted","boolean","error","If \"C.1 Public offering or admission to trading\" is set with 'OTPC' value, then \"C.5 Oversubscription acceptance\" must be provided with a fact value."]
[{"$f":"IF(Table3!E113=\"\",\"/*\",\"\")","v":""},"mica:OversubscriptionAllocationForAssetreferencedTokenExplanatory",{"$f":"Table3!E113","v":" Ex: Here is a sample text... (text format)"},"2025-01-01","2025-12-31",null,null,null,null,null,null,null,null,null,null,null,null,null,null,null,null,null,null,null,null,null,{"$f":"ROW(INDIRECT(MID(_xlfn.FORMULATEXT(C135),2,LEN(_xlfn.FORMULATEXT(C135)))))","v":113},"C.6 Oversubscription allocation","Where oversubscriptions are accepted, description of how they are allocated","text","error","If \"C.5 Oversubscription acceptance\" is set to true, then \"C.6 Oversubscription allocation\" must be provided with a fact value."]
[{"$f":"IF(Table3!E114=\"\",\"/*\",\"\")","v":""},"mica:AssetreferencedTokenOfferingOrTradingQuantity",{"$f":"Table3!E114","v":" Ex: 27"},"2025-01-01","2025-12-31","xbrli:pure","0","0",null,null,null,null,null,null,null,null,null,null,null,null,null,null,null,null,null,null,{"$f":"ROW(INDIRECT(MID(_xlfn.FORMULATEXT(C136),2,LEN(_xlfn.FORMULATEXT(C136)))))","v":114},"C.7 Token offering or trading quantity","Where applicable, the total number of units of the asset-referenced token to be offered or admitted to trading","integer","",""]
[{"$f":"IF(Table3!E115=\"\",\"/*\",\"\")","v":""},"mica:TargetedHoldersForAssetreferencedToken",{"$f":"Table3!E115","v":"-- Select value --"},"2025-01-01","2025-12-31",null,null,null,null,null,null,null,null,null,null,null,null,null,null,null,null,null,null,null,null,null,{"$f":"ROW(INDIRECT(MID(_xlfn.FORMULATEXT(C137),2,LEN(_xlfn.FORMULATEXT(C137)))))","v":115},"C.8 Targeted holders","Indication of the prospective holders targeted by the offer to the public of the asset-referenced token or admission of such asset-referenced token to trading","enumeration","error","If \"C.1 Public offering or admission to trading\" is set with 'OTPC' value, then \"C.8 Targeted holders\" must be provided with a fact value."]
[{"$f":"IF(Table3!E116=\"\",\"/*\",\"\")","v":""},"mica:HoldersRestrictionsForAssetreferencedTokenExplanatory",{"$f":"Table3!E116","v":" Ex: Here is a sample text... (text format)"},"2025-01-01","2025-12-31",null,null,null,null,null,null,null,null,null,null,null,null,null,null,null,null,null,null,null,null,null,{"$f":"ROW(INDIRECT(MID(_xlfn.FORMULATEXT(C138),2,LEN(_xlfn.FORMULATEXT(C138)))))","v":116},"C.9 Holders restrictions","Indication of any restriction as regards the type of holders for the asset-referenced token","text","error","If \"C.1 Public offering or admission to trading\" is set with 'OTPC' value, then \"C.9 Holder restrictions\" must be provided with a fact value."]
[{"$f":"IF(Table3!E117=\"\",\"/*\",\"\")","v":""},"mica:ReimbursementNoticeForAssetreferencedTokenOffer",{"$f":"Table3!E117","v":"Purchasers participating in the offer to the public of this asset-referenced token will be able to be reimbursed if the minimum target subscription goal is not reached at the end of the offer to the public, if they exercise the right to withdrawal provided for in Article 13 of Regulation (EU) 2023/1114 of the European Parliament and of the Council or if the offer is cancelled"},"2025-01-01","2025-12-31","true",null,null,null,null,null,null,null,null,null,null,null,null,null,null,null,null,null,null,null,null,{"$f":"ROW(INDIRECT(MID(_xlfn.FORMULATEXT(C139),2,LEN(_xlfn.FORMULATEXT(C139)))))","v":117},"C.10 Reimbursement notice","‘Purchasers participating in the offer to the public of this asset-referenced token will be able to be reimbursed if the minimum target subscription goal is not reached at the end of the offer to the public, if they exercise the right to withdrawal provided for in Article 13 of Regulation (EU) 2023/1114 of the European Parliament and of the Council or if the offer is cancelled’","boolean true","error","If \"C.1 Public offering or admission to trading\" is set with 'OTPC' value, then \"C.10 Reimbursement notice\" must be provided with a fact value."]
[{"$f":"IF(Table3!E118=\"\",\"/*\",\"\")","v":""},"mica:RefundTimelineForAssetreferencedTokenOfferExplanatory",{"$f":"Table3!E118","v":" Ex: Here is a sample text... (text format)"},"2025-01-01","2025-12-31",null,null,null,null,null,null,null,null,null,null,null,null,null,null,null,null,null,null,null,null,null,{"$f":"ROW(INDIRECT(MID(_xlfn.FORMULATEXT(C140),2,LEN(_xlfn.FORMULATEXT(C140)))))","v":118},"C.11 Refund timeline","Expected timeline of when such refunds will be completed","text","error","If \"C.1 Public offering or admission to trading\" is set with 'OTPC' value, then \"C.11 Refund timeline\" must be provided with a fact value."]
[{"$f":"IF(Table3!E119=\"\",\"/*\",\"\")","v":""},"mica:InformationAboutOfExplicitConsequencesExplanatory",{"$f":"Table3!E119","v":" Ex: Here is a sample text... (textBlock format)"},"2025-01-01","2025-12-31",null,null,null,null,null,null,null,null,null,null,null,null,null,null,null,null,null,null,null,null,null,{"$f":"ROW(INDIRECT(MID(_xlfn.FORMULATEXT(C141),2,LEN(_xlfn.FORMULATEXT(C141)))))","v":119},"C.12 Explicit consequences","Description of the consequences of exceeding a maximum target subscription goal","textBlock","error","If \"C.1 Public offering or admission to trading\" is set with 'OTPC' value, then \"C.12 Explicit consequences\" must be provided with a fact value."]
[{"$f":"IF(Table3!E120=\"\",\"/*\",\"\")","v":""},"mica:InformationAboutOfferPhasesExplanatory",{"$f":"Table3!E120","v":" Ex: Here is a sample text... (textBlock format)"},"2025-01-01","2025-12-31",null,null,null,null,null,null,null,null,null,null,null,null,null,null,null,null,null,null,null,null,null,{"$f":"ROW(INDIRECT(MID(_xlfn.FORMULATEXT(C142),2,LEN(_xlfn.FORMULATEXT(C142)))))","v":120},"C.13 Offer phases","Information about the various phases of the offer to the public of the asset-referenced token","textBlock","warning","If \"C.1 Public offering or admission to trading\" is set with 'OTPC' value, then \"C.13 Offer phases\" should be provided with a fact value."]
[{"$f":"IF(Table3!E121=\"\",\"/*\",\"\")","v":""},"mica:DisclosureOfEarlyPurchaseDiscountForAssetreferencedTokenOfferExplanatory",{"$f":"Table3!E121","v":" Ex: Here is a sample text... (textBlock format)"},"2025-01-01","2025-12-31",null,null,null,null,null,null,null,null,null,null,null,null,null,null,null,null,null,null,null,null,null,{"$f":"ROW(INDIRECT(MID(_xlfn.FORMULATEXT(C143),2,LEN(_xlfn.FORMULATEXT(C143)))))","v":121},"C.14 Early purchase discount","Information on discounted purchase price for early purchasers of the asset-referenced token (pre-public sales) and in the case of discounted purchase price for some purchasers, an explanation as to why the purchase prices may be different and a description of the impact on the other investors","textBlock","warning","If \"C.1 Public offering or admission to trading\" is set with 'OTPC' value, then \"C.14 Early purchase discount\" should be provided with a fact value."]
[{"$f":"IF(Table3!E122=\"\",\"/*\",\"\")","v":""},"mica:TimelimitedOfferForAssetreferencedTokenOfferIndicator",{"$f":"Table3!E122","v":"true/false"},null,"2025-12-31",null,null,null,null,null,null,null,null,null,null,null,null,null,null,null,null,null,null,null,null,null,{"$f":"ROW(INDIRECT(MID(_xlfn.FORMULATEXT(C144),2,LEN(_xlfn.FORMULATEXT(C144)))))","v":122},"C.15 Time-limited offer","Indication whether the offer is time-limited","boolean","warning","If \"C.1 Public offering or admission to trading\" is set with 'OTPC' value, then \"C.15 Time-limited offer\" should be provided with a fact value."]
[{"$f":"IF(Table3!E123=\"\",\"/*\",\"\")","v":""},"mica:SubscriptionPeriodBeginningForAssetreferencedTokenOffer",{"$f":"Table3!E123","v":"YYYY-MM-DD"},null,"2025-12-31",null,null,null,null,null,null,null,null,null,null,null,null,null,null,null,null,null,null,null,null,null,{"$f":"ROW(INDIRECT(MID(_xlfn.FORMULATEXT(C145),2,LEN(_xlfn.FORMULATEXT(C145)))))","v":123},"C.16 Subscription period beginning","For time-limited offers, the beginning of the subscription period during which the offer to the public is open","date","warning","If \"C.15 Time-limited offer\" is set to true, then \"C.16 Subscription period start\" should be provided with a fact value."]
[{"$f":"IF(Table3!E124=\"\",\"/*\",\"\")","v":""},"mica:SubscriptionPeriodEndForAssetreferencedTokenOffer",{"$f":"Table3!E124","v":"YYYY-MM-DD"},null,"2025-12-31",null,null,null,null,null,null,null,null,null,null,null,null,null,null,null,null,null,null,null,null,null,{"$f":"ROW(INDIRECT(MID(_xlfn.FORMULATEXT(C146),2,LEN(_xlfn.FORMULATEXT(C146)))))","v":124},"C.17 Subscription period end","For time-limited offers, the end of the subscription period during which the offer to the public is open","date","warning\r\nwarning","If \"C.15 Time-limited offer\" is set to true, then \"C.17 Subscription period end\" should be provided with a fact value.\r\nThe \"C.17 Subscription period end\" should be greater than the \"C.16 Subscription period beginning\""]
[{"$f":"IF(Table3!E125=\"\",\"/*\",\"\")","v":""},"mica:InformationAboutAssetreferencedTokenPurchaseOrRedemptionPaymentExplanatory",{"$f":"Table3!E125","v":" Ex: Here is a sample text... (textBlock format)"},"2025-01-01","2025-12-31",null,null,null,null,null,null,null,null,null,null,null,null,null,null,null,null,null,null,null,null,null,{"$f":"ROW(INDIRECT(MID(_xlfn.FORMULATEXT(C147),2,LEN(_xlfn.FORMULATEXT(C147)))))","v":125},"C.18 Token purchase or redemption payment","Methods of payment to purchase and to redeem the asset-referenced token offered","textBlock","error","If \"C.1 Public offering or admission to trading\" is set with 'OTPC' value, then \"C.18 Token purchase or redemption payment\" must be provided with a fact value."]
[{"$f":"IF(Table3!E126=\"\",\"/*\",\"\")","v":""},"mica:AssetreferencedTokenTransferExplanatory",{"$f":"Table3!E126","v":" Ex: Here is a sample text... (text format)"},"2025-01-01","2025-12-31",null,null,null,null,null,null,null,null,null,null,null,null,null,null,null,null,null,null,null,null,null,{"$f":"ROW(INDIRECT(MID(_xlfn.FORMULATEXT(C148),2,LEN(_xlfn.FORMULATEXT(C148)))))","v":126},"C.19 Token transfer","Information on the method and time schedule of transferring the purchased asset-referenced token to the holders","text","error","If \"C.1 Public offering or admission to trading\" is set with 'OTPC' value, then \"C.19 Token transfer\" must be provided with a fact value."]
[{"$f":"IF(Table3!E127=\"\",\"/*\",\"\")","v":""},"mica:AssetreferencedTokenPurchasersTechnicalRequirementsExplanatory",{"$f":"Table3!E127","v":" Ex: Here is a sample text... (textBlock format)"},"2025-01-01","2025-12-31",null,null,null,null,null,null,null,null,null,null,null,null,null,null,null,null,null,null,null,null,null,{"$f":"ROW(INDIRECT(MID(_xlfn.FORMULATEXT(C149),2,LEN(_xlfn.FORMULATEXT(C149)))))","v":127},"C.20 Purchasers technical requirements","Information about technical requirements that the purchaser is required to fulfil to hold the asset-referenced token","textBlock","error","If \"C.1 Public offering or admission to trading\" is set with 'OTPC' value, then \"C.20 Purchasers technical requirements\" must be provided with a fact value."]
[{"$f":"IF(Table3!E128=\"\",\"/*\",\"\")","v":"/*"},"mica:OtherTokenServiceProviderCharacteristicsForAssetreferencedTokenAbstract",{"$f":"Table3!E128","v":0},"2025-01-01","2025-12-31",null,null,null,null,null,null,null,null,null,null,null,null,null,null,null,null,null,null,null,null,null,{"$f":"ROW(INDIRECT(MID(_xlfn.FORMULATEXT(C150),2,LEN(_xlfn.FORMULATEXT(C150)))))","v":128},"Crypto-asset services provider characteristics","","","",""]
[{"$f":"IF(Table3!E129=\"\",\"/*\",\"\")","v":""},"mica:NameOfOtherTokenServiceProviderForAssetreferencedToken",{"$f":"Table3!E129","v":" Ex: Here is a sample text... (text format)"},"2025-01-01","2025-12-31",null,null,null,null,null,null,null,null,null,null,null,null,null,null,null,null,null,null,null,null,null,{"$f":"ROW(INDIRECT(MID(_xlfn.FORMULATEXT(C151),2,LEN(_xlfn.FORMULATEXT(C151)))))","v":129},"C.21 CASP name","Where applicable, the name of the crypto-asset service provider in charge of the placing of asset-referenced tokens","text","error","If \"C.1 Public offering or admission to trading\" is set with 'OTPC' value, then \"C.21 CASP name\" must be provided with a fact value."]
[{"$f":"IF(Table3!E130=\"\",\"/*\",\"\")","v":""},"mica:OtherTokenServiceProviderIdentifierForAssetreferencedToken",{"$f":"Table3!E130","v":" Ex: 999999A9AA99AAAAAA99"},"2025-01-01","2025-12-31",null,null,null,null,null,null,null,null,null,null,null,null,null,null,null,null,null,null,null,null,null,{"$f":"ROW(INDIRECT(MID(_xlfn.FORMULATEXT(C152),2,LEN(_xlfn.FORMULATEXT(C152)))))","v":130},"C.22 CASP identifier","The legal entity identifier of the crypto-asset service provider in charge of the placing of asset-referenced tokens","LEI","error","If \"C.1 Public offering or admission to trading\" is set with 'OTPC' value, then \"C.22 CASP identifier\" must be provided with a fact value."]
[{"$f":"IF(Table3!E131=\"\",\"/*\",\"\")","v":""},"mica:PlacementFormForAssetreferencedToken",{"$f":"Table3!E131","v":"-- Select value --"},"2025-01-01","2025-12-31",null,null,null,null,null,null,null,null,null,null,null,null,null,null,null,null,null,null,null,null,null,{"$f":"ROW(INDIRECT(MID(_xlfn.FORMULATEXT(C153),2,LEN(_xlfn.FORMULATEXT(C153)))))","v":131},"C.23 Placement form","Where applicable, the form of such placement (with or without a firm commitment basis)","enumeration","error","If \"C.1 Public offering or admission to trading\" is set with 'OTPC' value, then \"C.23 Placement form\" must be provided with a fact value."]
[{"$f":"IF(Table3!E132=\"\",\"/*\",\"\")","v":"/*"},"mica:TradingPlatformsCharacteristicsForAssetreferencedTokenAbstract",{"$f":"Table3!E132","v":0},"2025-01-01","2025-12-31",null,null,null,null,null,null,null,null,null,null,null,null,null,null,null,null,null,null,null,null,null,{"$f":"ROW(INDIRECT(MID(_xlfn.FORMULATEXT(C154),2,LEN(_xlfn.FORMULATEXT(C154)))))","v":132},"Trading platform's characteristics","","","",""]
[{"$f":"IF(Table3!E133=\"\",\"/*\",\"\")","v":""},"mica:TradingPlatformsNameForAssetreferencedToken",{"$f":"Table3!E133","v":" Ex: Here is a sample text... (text format)"},"2025-01-01","2025-12-31",null,null,null,null,null,null,null,null,null,null,null,null,null,null,null,null,null,null,null,null,null,{"$f":"ROW(INDIRECT(MID(_xlfn.FORMULATEXT(C155),2,LEN(_xlfn.FORMULATEXT(C155)))))","v":133},"C.24 Trading platforms name","Where applicable, the name of the trading platforms for crypto-assets where admission to trading is sought","text","error","If \"C.1 Public offering or admission to trading\" is set with 'ATTR' value, then \"C.24 Trading platforms name\" must be provided with a fact value."]
[{"$f":"IF(Table3!E134=\"\",\"/*\",\"\")","v":""},"mica:TradingPlatformsIdentifierCodeForAssetreferencedToken",{"$f":"Table3!E134","v":" Ex: Here is a sample text... (text format)"},"2025-01-01","2025-12-31",null,null,null,null,null,null,null,null,null,null,null,null,null,null,null,null,null,null,null,null,null,{"$f":"ROW(INDIRECT(MID(_xlfn.FORMULATEXT(C156),2,LEN(_xlfn.FORMULATEXT(C156)))))","v":134},"C.25 Trading platforms market identifier code (MIC)","Segment MIC for the trading platform operated by the CASP, where available, otherwise operating MIC.","text","error","If \"C.1 Public offering or admission to trading\" is set with 'ATTR' value, then \"C.25 Trading platforms identifier code (MIC)\" must be provided with a fact value."]
[{"$f":"IF(Table3!E135=\"\",\"/*\",\"\")","v":""},"mica:TradingPlatformsAccessForAssetreferencedTokenExplanatory",{"$f":"Table3!E135","v":" Ex: Here is a sample text... (text format)"},"2025-01-01","2025-12-31",null,null,null,null,null,null,null,null,null,null,null,null,null,null,null,null,null,null,null,null,null,{"$f":"ROW(INDIRECT(MID(_xlfn.FORMULATEXT(C157),2,LEN(_xlfn.FORMULATEXT(C157)))))","v":135},"C.26 Trading platforms access","Where applicable, information about how investors can access such trading platforms","text","warning","If \"C.1 Public offering or admission to trading\" is set with 'ATTR' value, then \"C.26 Trading platforms platforms access\" should be provided with a fact value."]
[{"$f":"IF(Table3!E136=\"\",\"/*\",\"\")","v":""},"mica:InvolvedCostsForAssetreferencedTokenExplanatory",{"$f":"Table3!E136","v":" Ex: Here is a sample text... (text format)"},"2025-01-01","2025-12-31",null,null,null,null,null,null,null,null,null,null,null,null,null,null,null,null,null,null,null,null,null,{"$f":"ROW(INDIRECT(MID(_xlfn.FORMULATEXT(C158),2,LEN(_xlfn.FORMULATEXT(C158)))))","v":136},"C.27 Involved costs","Where applicable, information about the costs involved for accessing the trading platform for investors","text","warning","If \"C.1 Public offering or admission to trading\" is set with 'ATTR' value, then \"C.27 Involved costs\" should be provided with a fact value."]
[{"$f":"IF(Table3!E137=\"\",\"/*\",\"\")","v":""},"mica:DescriptionOfOfferexpensesForAssetreferencedTokenExplanatory",{"$f":"Table3!E137","v":" Ex: Here is a sample text... (textBlock format)"},"2025-01-01","2025-12-31",null,null,null,null,null,null,null,null,null,null,null,null,null,null,null,null,null,null,null,null,null,{"$f":"ROW(INDIRECT(MID(_xlfn.FORMULATEXT(C159),2,LEN(_xlfn.FORMULATEXT(C159)))))","v":137},"C.28 Offer expenses","Expenses related to the offer to the public of the asset-referenced token, in an official currency or any other crypto-assets. If more than one type of expense, expenses should be presented in a tabular format.","textBlock","error","If \"C.1 Public offering or admission to trading\" is set with 'ATTR' value, then \"C.28 Offer expenses\" must be provided with a fact value."]
[{"$f":"IF(Table3!E138=\"\",\"/*\",\"\")","v":""},"mica:InformationAboutPotentialConflictsOfInterestForAssetreferencedTokenOfferExplanatory",{"$f":"Table3!E138","v":" Ex: Here is a sample text... (text format)"},"2025-01-01","2025-12-31",null,null,null,null,null,null,null,null,null,null,null,null,null,null,null,null,null,null,null,null,null,{"$f":"ROW(INDIRECT(MID(_xlfn.FORMULATEXT(C160),2,LEN(_xlfn.FORMULATEXT(C160)))))","v":138},"C.29 Conflicts of interest","Potential conflicts of interest of the persons involved in the offer to the public or admission to trading, arising in relation to the offer or admission to trading","text","error","If \"C.1 Public offering or admission to trading\" is set with 'ATTR' value, then \"C.29 Conflicts of interest\" must be provided with a fact value."]
[{"$f":"IF(Table3!E139=\"\",\"/*\",\"\")","v":""},"mica:ApplicableLawForAssetreferencedTokenOfferExplanatory",{"$f":"Table3!E139","v":" Ex: Here is a sample text... (textBlock format)"},"2025-01-01","2025-12-31",null,null,null,null,null,null,null,null,null,null,null,null,null,null,null,null,null,null,null,null,null,{"$f":"ROW(INDIRECT(MID(_xlfn.FORMULATEXT(C161),2,LEN(_xlfn.FORMULATEXT(C161)))))","v":139},"C.30 Applicable law","The law applicable to the offer to the public of the asset-referenced token","textBlock","error","If \"C.1 Public offering or admission to trading\" is set with 'ATTR' value, then \"C.30 Applicable law\" must be provided with a fact value."]
[{"$f":"IF(Table3!E140=\"\",\"/*\",\"\")","v":""},"mica:CompetentCourtForAssetreferencedTokenOfferExplanatory",{"$f":"Table3!E140","v":" Ex: Here is a sample text... (textBlock format)"},"2025-01-01","2025-12-31",null,null,null,null,null,null,null,null,null,null,null,null,null,null,null,null,null,null,null,null,null,{"$f":"ROW(INDIRECT(MID(_xlfn.FORMULATEXT(C162),2,LEN(_xlfn.FORMULATEXT(C162)))))","v":140},"C.31 Competent court","Competent court","textBlock","error","If \"C.1 Public offering or admission to trading\" is set with 'ATTR' value, then \"C.31 Competent court\" must be provided with a fact value."]
[{"$f":"IF(Table3!E141=\"\",\"/*\",\"\")","v":"/*"},"mica:InformationOnRightsAndObligationsAttachedToAssetreferencedTokenAbstract",{"$f":"Table3!E141","v":0},"2025-01-01","2025-12-31",null,null,null,null,null,null,null,null,null,null,null,null,null,null,null,null,null,null,null,null,null,{"$f":"ROW(INDIRECT(MID(_xlfn.FORMULATEXT(C163),2,LEN(_xlfn.FORMULATEXT(C163)))))","v":141},"Part D - Information on the rights and obligations attached to the asset-referenced token","","","",""]
[{"$f":"IF(Table3!E142=\"\",\"/*\",\"\")","v":""},"mica:DescriptionOfAssetreferencedTokenFunctionalitiesExplanatory",{"$f":"Table3!E142","v":" Ex: Here is a sample text... (textBlock format)"},"2025-01-01","2025-12-31",null,null,null,null,null,null,null,null,null,null,null,null,null,null,null,null,null,null,null,null,null,{"$f":"ROW(INDIRECT(MID(_xlfn.FORMULATEXT(C164),2,LEN(_xlfn.FORMULATEXT(C164)))))","v":142},"D.1 Token functionalities","A description of the functionality of the asset-referenced token being offered or admitted to trading","textBlock","error","The value of \"D.1 Token functionalities\" must be provided."]
[{"$f":"IF(Table3!E143=\"\",\"/*\",\"\")","v":""},"mica:PlannedFunctionalUse",{"$f":"Table3!E143","v":"YYYY-MM-DD"},null,"2025-12-31",null,null,null,null,null,null,null,null,null,null,null,null,null,null,null,null,null,null,null,null,null,{"$f":"ROW(INDIRECT(MID(_xlfn.FORMULATEXT(C165),2,LEN(_xlfn.FORMULATEXT(C165)))))","v":143},"D.2 Planned functional use","Information about when the functionalities are planned to apply","date","error","The value of \"D.2 Planned functional use\" must be provided."]
[{"$f":"IF(Table3!E144=\"\",\"/*\",\"\")","v":""},"mica:InformationAboutPurchasersRightsAndObligationsExplanatory",{"$f":"Table3!E144","v":" Ex: Here is a sample text... (textBlock format)"},"2025-01-01","2025-12-31",null,null,null,null,null,null,null,null,null,null,null,null,null,null,null,null,null,null,null,null,null,{"$f":"ROW(INDIRECT(MID(_xlfn.FORMULATEXT(C166),2,LEN(_xlfn.FORMULATEXT(C166)))))","v":144},"D.3 Purchaser rights and obligations","A description of the rights and obligations, if any, of the purchaser","textBlock","error","The value of \"D.3 Purchases rights and obligations\" must be provided."]
[{"$f":"IF(Table3!E145=\"\",\"/*\",\"\")","v":""},"mica:InformationAboutRightsExerciseProcedureExplanatory",{"$f":"Table3!E145","v":" Ex: Here is a sample text... (textBlock format)"},"2025-01-01","2025-12-31",null,null,null,null,null,null,null,null,null,null,null,null,null,null,null,null,null,null,null,null,null,{"$f":"ROW(INDIRECT(MID(_xlfn.FORMULATEXT(C167),2,LEN(_xlfn.FORMULATEXT(C167)))))","v":145},"D.4 Rights exercise procedure","A description of the procedure and conditions for the exercise of those rights","textBlock","error","The value of \"D.4 Rights exercise procedure\" must be provided."]
[{"$f":"IF(Table3!E146=\"\",\"/*\",\"\")","v":""},"mica:InformationAboutRightsAndObligationsModificationConditionsExplanatory",{"$f":"Table3!E146","v":" Ex: Here is a sample text... (textBlock format)"},"2025-01-01","2025-12-31",null,null,null,null,null,null,null,null,null,null,null,null,null,null,null,null,null,null,null,null,null,{"$f":"ROW(INDIRECT(MID(_xlfn.FORMULATEXT(C168),2,LEN(_xlfn.FORMULATEXT(C168)))))","v":146},"D.5 Conditions for modifications of rights and obligations","A description of the conditions under which the rights and obligations may be modified","textBlock","error","The value of \"D.5 Conditions for modifications of rights and obligations\" must be provided."]
[{"$f":"IF(Table3!E147=\"\",\"/*\",\"\")","v":""},"mica:InformationAboutFuturePublicOffersForAssetreferencedTokenExplanatory",{"$f":"Table3!E147","v":" Ex: Here is a sample text... (textBlock format)"},"2025-01-01","2025-12-31",null,null,null,null,null,null,null,null,null,null,null,null,null,null,null,null,null,null,null,null,null,{"$f":"ROW(INDIRECT(MID(_xlfn.FORMULATEXT(C169),2,LEN(_xlfn.FORMULATEXT(C169)))))","v":147},"D.6 Future public offers","Where applicable, information on the future offers to the public of the asset-referenced token by the issuer","textBlock","",""]
[{"$f":"IF(Table3!E148=\"\",\"/*\",\"\")","v":""},"mica:IssuerRetainedUnits",{"$f":"Table3!E148","v":" Ex: 27"},"2025-01-01","2025-12-31","xbrli:pure","0","0",null,null,null,null,null,null,null,null,null,null,null,null,null,null,null,null,null,null,{"$f":"ROW(INDIRECT(MID(_xlfn.FORMULATEXT(C170),2,LEN(_xlfn.FORMULATEXT(C170)))))","v":148},"D.7 Issuer retained units","Where applicable, information on the number of units of the asset-referenced token retained by the issuer itself","integer","",""]
[{"$f":"IF(Table3!E149=\"\",\"/*\",\"\")","v":""},"mica:NontradingRequestIndicatorRelatedToAssetreferencedToken",{"$f":"Table3!E149","v":"true/false"},"2025-01-01","2025-12-31",null,null,null,null,null,null,null,null,null,null,null,null,null,null,null,null,null,null,null,null,null,{"$f":"ROW(INDIRECT(MID(_xlfn.FORMULATEXT(C171),2,LEN(_xlfn.FORMULATEXT(C171)))))","v":149},"D.8 Non-trading request","Indication as to whether an admission to trading is sought","boolean","error","The value of \"D.8 Non-trading request\" must be provided."]
[{"$f":"IF(Table3!E150=\"\",\"/*\",\"\")","v":""},"mica:AssetreferencedTokenPurchaseOrSaleModalitiesExplanatory",{"$f":"Table3!E150","v":" Ex: Here is a sample text... (text format)"},"2025-01-01","2025-12-31",null,null,null,null,null,null,null,null,null,null,null,null,null,null,null,null,null,null,null,null,null,{"$f":"ROW(INDIRECT(MID(_xlfn.FORMULATEXT(C172),2,LEN(_xlfn.FORMULATEXT(C172)))))","v":150},"D.9 Token purchase or sale modalities","Where an admission to trading is not sought, information on how and where the asset-referenced token can be purchased or sold after the offer to the public","text","error","If \"D.8 Non-trading request\" is set to false, then \"D.9 Token purchase or sale modalities\" must be provided with a fact value."]
[{"$f":"IF(Table3!E151=\"\",\"/*\",\"\")","v":""},"mica:AssetreferencedTokenTransferRestrictionsExplanatory",{"$f":"Table3!E151","v":" Ex: Here is a sample text... (text format)"},"2025-01-01","2025-12-31",null,null,null,null,null,null,null,null,null,null,null,null,null,null,null,null,null,null,null,null,null,{"$f":"ROW(INDIRECT(MID(_xlfn.FORMULATEXT(C173),2,LEN(_xlfn.FORMULATEXT(C173)))))","v":151},"D.10 Token transfer restrictions","Any restrictions on the transferability of the asset-referenced token that is being offered or admitted to trading","text","error","The value of \"D.10 Token transfer restrictions\" must be provided."]
[{"$f":"IF(Table3!E152=\"\",\"/*\",\"\")","v":""},"mica:SupplyAdjustmentProtocolsIndicatorForAssetReferencedToken",{"$f":"Table3!E152","v":"true/false"},"2025-01-01","2025-12-31",null,null,null,null,null,null,null,null,null,null,null,null,null,null,null,null,null,null,null,null,null,{"$f":"ROW(INDIRECT(MID(_xlfn.FORMULATEXT(C174),2,LEN(_xlfn.FORMULATEXT(C174)))))","v":152},"D.11 Supply adjustment protocols","Indication as to whether the asset-referenced token has protocols for the increase or decrease of their supply in response to changes in demand","boolean","error","The value of \"D.11 Supply adjustment protocols\" must be provided."]
[{"$f":"IF(Table3!E153=\"\",\"/*\",\"\")","v":""},"mica:SupplyAdjustmentMechanismsForAssetreferencedTokenExplanatory",{"$f":"Table3!E153","v":" Ex: Here is a sample text... (text format)"},"2025-01-01","2025-12-31",null,null,null,null,null,null,null,null,null,null,null,null,null,null,null,null,null,null,null,null,null,{"$f":"ROW(INDIRECT(MID(_xlfn.FORMULATEXT(C175),2,LEN(_xlfn.FORMULATEXT(C175)))))","v":153},"D.12 Supply adjustment mechanisms","Where the asset-referenced token has protocols for the increase or decrease of their supply in response to changes in demand, a description of the functioning of such protocols","text","error","If \"D.11 Supply adjustments protocols\" is set to true, then \"D.12 Supply adjustment mechanisms\" must be provided with a fact value."]
[{"$f":"IF(Table3!E154=\"\",\"/*\",\"\")","v":"/*"},"mica:AssetreferencedTokenSchemesDetailsAbstract",{"$f":"Table3!E154","v":0},"2025-01-01","2025-12-31",null,null,null,null,null,null,null,null,null,null,null,null,null,null,null,null,null,null,null,null,null,{"$f":"ROW(INDIRECT(MID(_xlfn.FORMULATEXT(C176),2,LEN(_xlfn.FORMULATEXT(C176)))))","v":154},"Asset-referenced token schemes details","","","",""]
[{"$f":"IF(Table3!E155=\"\",\"/*\",\"\")","v":""},"mica:AssetreferencedTokenValuesProtectionSchemesIndicator",{"$f":"Table3!E155","v":"true/false"},"2025-01-01","2025-12-31",null,null,null,null,null,null,null,null,null,null,null,null,null,null,null,null,null,null,null,null,null,{"$f":"ROW(INDIRECT(MID(_xlfn.FORMULATEXT(C177),2,LEN(_xlfn.FORMULATEXT(C177)))))","v":155},"D.13 Token value protection schemes","Indication as to whether the asset-referenced token has a protection scheme protecting the value of the asset-referenced token","boolean","error","The value of \"D.13 Token value protection schemes\" must be provided."]
[{"$f":"IF(Table3!E156=\"\",\"/*\",\"\")","v":""},"mica:DescriptionOfAssetreferencedTokenValuesProtectionSchemesExplanatory",{"$f":"Table3!E156","v":" Ex: Here is a sample text... (textBlock format)"},"2025-01-01","2025-12-31",null,null,null,null,null,null,null,null,null,null,null,null,null,null,null,null,null,null,null,null,null,{"$f":"ROW(INDIRECT(MID(_xlfn.FORMULATEXT(C178),2,LEN(_xlfn.FORMULATEXT(C178)))))","v":156},"D.14 Token value protection schemes description","Where yes in the field D.13, a description of the protection schemes protecting the value of the asset-referenced token","textBlock","error","If \"D.13 Token value protection schemes\" is set to true, then \"D.14 Token value protection schemes description\" must be provided with a fact value."]
[{"$f":"IF(Table3!E157=\"\",\"/*\",\"\")","v":""},"mica:AssetreferencedTokenCompensationSchemesIndicator",{"$f":"Table3!E157","v":"true/false"},"2025-01-01","2025-12-31",null,null,null,null,null,null,null,null,null,null,null,null,null,null,null,null,null,null,null,null,null,{"$f":"ROW(INDIRECT(MID(_xlfn.FORMULATEXT(C179),2,LEN(_xlfn.FORMULATEXT(C179)))))","v":157},"D.15 Compensation schemes","Indication as to whether the asset-referenced token has a compensation scheme","boolean","error","The value of \"D.15 Token compensation schemes\" must be provided."]
[{"$f":"IF(Table3!E158=\"\",\"/*\",\"\")","v":""},"mica:DescriptionOfAssetreferencedTokenCompensationSchemesExplanatory",{"$f":"Table3!E158","v":" Ex: Here is a sample text... (textBlock format)"},"2025-01-01","2025-12-31",null,null,null,null,null,null,null,null,null,null,null,null,null,null,null,null,null,null,null,null,null,{"$f":"ROW(INDIRECT(MID(_xlfn.FORMULATEXT(C180),2,LEN(_xlfn.FORMULATEXT(C180)))))","v":158},"D.16 Compensation schemes description","Where yes in the field D.15, a description of compensation schemes","textBlock","error","If \"D.15 Compensation schemes\" is set to true, then \"D.16 Compensation schemes description\" must be provided with a fact value."]
[{"$f":"IF(Table3!E159=\"\",\"/*\",\"\")","v":""},"mica:NatureAndEnforceabilityOfRightsExplanatory",{"$f":"Table3!E159","v":" Ex: Here is a sample text... (textBlock format)"},"2025-01-01","2025-12-31",null,null,null,null,null,null,null,null,null,null,null,null,null,null,null,null,null,null,null,null,null,{"$f":"ROW(INDIRECT(MID(_xlfn.FORMULATEXT(C181),2,LEN(_xlfn.FORMULATEXT(C181)))))","v":159},"D.17 Nature and enforceability of rights","Information on the nature and enforceability of rights, including permanent rights of redemption and any claims that holders and any legal or natural person as referred to in Article 39(2) of Regulation (EU) 2023/1114, may have against the issuer, including information on how such rights will be treated in the case of insolvency procedures and whether different rights are allocated to different holders and the non-discriminatory reasons for such different treatment","textBlock","error","The value of \"D.17 Nature and enforceability of rights\" must be provided."]
[{"$f":"IF(Table3!E160=\"\",\"/*\",\"\")","v":""},"mica:ReferencedAssetsDescriptionExplanatory",{"$f":"Table3!E160","v":" Ex: Here is a sample text... (textBlock format)"},"2025-01-01","2025-12-31",null,null,null,null,null,null,null,null,null,null,null,null,null,null,null,null,null,null,null,null,null,{"$f":"ROW(INDIRECT(MID(_xlfn.FORMULATEXT(C182),2,LEN(_xlfn.FORMULATEXT(C182)))))","v":160},"D.18 Referenced assets description","Detailed description of the claim that the asset-referenced token represents for holders, including a description of each referenced asset including the ISIN code where available and specified proportions of each of those assets","textBlock","error","The value of \"D.18 Referenced assets description\" must be provided."]
[{"$f":"IF(Table3!E161=\"\",\"/*\",\"\")","v":""},"mica:ReferencedAssetsProportionsExplanatory",{"$f":"Table3!E161","v":" Ex: Here is a sample text... (text format)"},"2025-01-01","2025-12-31",null,null,null,null,null,null,null,null,null,null,null,null,null,null,null,null,null,null,null,null,null,{"$f":"ROW(INDIRECT(MID(_xlfn.FORMULATEXT(C183),2,LEN(_xlfn.FORMULATEXT(C183)))))","v":161},"D.19 Referenced assets proportions","Description of the amount of the claim and the reserve of asset","text","error","The value of \"D.19 Referenced assets proportions\" must be provided."]
[{"$f":"IF(Table3!E162=\"\",\"/*\",\"\")","v":""},"mica:ValueclaimreserveInterrelationExplanatory",{"$f":"Table3!E162","v":" Ex: Here is a sample text... (text format)"},"2025-01-01","2025-12-31",null,null,null,null,null,null,null,null,null,null,null,null,null,null,null,null,null,null,null,null,null,{"$f":"ROW(INDIRECT(MID(_xlfn.FORMULATEXT(C184),2,LEN(_xlfn.FORMULATEXT(C184)))))","v":162},"D.20 Value-claim-reserve interrelation","Relation between the value of the referenced assets and the amount of the claim and the reserve of assets","text","error","The value of \"D.20 Value-claim-reserve interrelation\" must be provided."]
[{"$f":"IF(Table3!E163=\"\",\"/*\",\"\")","v":""},"mica:TransparentClaimValuationExplanatory",{"$f":"Table3!E163","v":" Ex: Here is a sample text... (text format)"},"2025-01-01","2025-12-31",null,null,null,null,null,null,null,null,null,null,null,null,null,null,null,null,null,null,null,null,null,{"$f":"ROW(INDIRECT(MID(_xlfn.FORMULATEXT(C185),2,LEN(_xlfn.FORMULATEXT(C185)))))","v":163},"D.21 Transparent claim valuation","Description how a fair and transparent valuation of components of the claim is undertaken, which identifies, where relevant, independent parties","text","error","The value of \"D.21 Transparent claim valuation\" must be provided."]
[{"$f":"IF(Table3!E164=\"\",\"/*\",\"\")","v":""},"mica:OtherDetailsAboutClaimAssetReferencedTokenRepresentsOverReferencedAssetsExplanatory",{"$f":"Table3!E164","v":" Ex: Here is a sample text... (textBlock format)"},"2025-01-01","2025-12-31",null,null,null,null,null,null,null,null,null,null,null,null,null,null,null,null,null,null,null,null,null,{"$f":"ROW(INDIRECT(MID(_xlfn.FORMULATEXT(C186),2,LEN(_xlfn.FORMULATEXT(C186)))))","v":164},"D.22 Other details about the claim the asset referenced token represents over referenced assets","Additional details describing the claim that the asset-referenced token represents for the holders","textBlock","",""]
[{"$f":"IF(Table3!E165=\"\",\"/*\",\"\")","v":""},"mica:InformationAboutLiquidityArrangementsExplanatory",{"$f":"Table3!E165","v":" Ex: Here is a sample text... (text format)"},"2025-01-01","2025-12-31",null,null,null,null,null,null,null,null,null,null,null,null,null,null,null,null,null,null,null,null,null,{"$f":"ROW(INDIRECT(MID(_xlfn.FORMULATEXT(C187),2,LEN(_xlfn.FORMULATEXT(C187)))))","v":165},"D.23 Liquidity arrangements","Where applicable, information on the arrangements put in place by the issuer to ensure the liquidity of the asset-referenced token","text","error","If \"D.23 Liquidity arrangements\" is provided with fact value, \"D.24 Liquidity providers\" must also be provided with fact value."]
[{"$f":"IF(Table3!E166=\"\",\"/*\",\"\")","v":""},"mica:InformationAboutLiquidityProvidersExplanatory",{"$f":"Table3!E166","v":" Ex: Here is a sample text... (text format)"},"2025-01-01","2025-12-31",null,null,null,null,null,null,null,null,null,null,null,null,null,null,null,null,null,null,null,null,null,{"$f":"ROW(INDIRECT(MID(_xlfn.FORMULATEXT(C188),2,LEN(_xlfn.FORMULATEXT(C188)))))","v":166},"D.24 Liquidity providers","Where applicable, the name of the entities in charge of ensuring liquidity","text","",""]
[{"$f":"IF(Table3!E167=\"\",\"/*\",\"\")","v":""},"mica:ComplaintSubmissionContactForAssetreferencedToken",{"$f":"Table3!E167","v":" Ex: Here is a sample text... (text format)"},"2025-01-01","2025-12-31",null,null,null,null,null,null,null,null,null,null,null,null,null,null,null,null,null,null,null,null,null,{"$f":"ROW(INDIRECT(MID(_xlfn.FORMULATEXT(C189),2,LEN(_xlfn.FORMULATEXT(C189)))))","v":167},"D.25 Complaint submission contact","Contact details for submitting complaints","text","error","The value of \"D.25 Complaint submission contact\" must be provided."]
[{"$f":"IF(Table3!E168=\"\",\"/*\",\"\")","v":""},"mica:InformationAboutComplaintsHandlingProceduresForAssetreferencedTokenExplanatory",{"$f":"Table3!E168","v":" Ex: Here is a sample text... (textBlock format)"},"2025-01-01","2025-12-31",null,null,null,null,null,null,null,null,null,null,null,null,null,null,null,null,null,null,null,null,null,{"$f":"ROW(INDIRECT(MID(_xlfn.FORMULATEXT(C190),2,LEN(_xlfn.FORMULATEXT(C190)))))","v":168},"D.26 Complaints handling procedures","Description of the complaints-handling procedures","textBlock","error","The value of \"D.26 Complaints handling procedures\" must be provided."]
[{"$f":"IF(Table3!E169=\"\",\"/*\",\"\")","v":""},"mica:InformationAboutDisputeResolutionMechanismForAssetreferencedTokenExplanatory",{"$f":"Table3!E169","v":" Ex: Here is a sample text... (textBlock format)"},"2025-01-01","2025-12-31",null,null,null,null,null,null,null,null,null,null,null,null,null,null,null,null,null,null,null,null,null,{"$f":"ROW(INDIRECT(MID(_xlfn.FORMULATEXT(C191),2,LEN(_xlfn.FORMULATEXT(C191)))))","v":169},"D.27 Dispute resolution mechanism","Description of any dispute resolution mechanism or redress procedure established by the issuer of the asset-referenced token","textBlock","error","The value of \"D.27 Dispute resolution mechanism\" must be provided."]
[{"$f":"IF(Table3!E170=\"\",\"/*\",\"\")","v":""},"mica:InformationAboutHolderRightsInDefaultOrInsolvencyExplanatory",{"$f":"Table3!E170","v":" Ex: Here is a sample text... (textBlock format)"},"2025-01-01","2025-12-31",null,null,null,null,null,null,null,null,null,null,null,null,null,null,null,null,null,null,null,null,null,{"$f":"ROW(INDIRECT(MID(_xlfn.FORMULATEXT(C192),2,LEN(_xlfn.FORMULATEXT(C192)))))","v":170},"D.28 Holder rights in default or insolvency","A description of the rights of the holders when the issuer is not able to fulfil its obligations, including in insolvency","textBlock","error","The value of \"D.28 Holder rights in default or insolvency\" must be provided."]
[{"$f":"IF(Table3!E171=\"\",\"/*\",\"\")","v":""},"mica:InformationAboutRightsInRecoveryPlanImplementationExplanatory",{"$f":"Table3!E171","v":" Ex: Here is a sample text... (textBlock format)"},"2025-01-01","2025-12-31",null,null,null,null,null,null,null,null,null,null,null,null,null,null,null,null,null,null,null,null,null,{"$f":"ROW(INDIRECT(MID(_xlfn.FORMULATEXT(C193),2,LEN(_xlfn.FORMULATEXT(C193)))))","v":171},"D.29 Rights in recovery plan implementation","A description of the rights in the context of the implementation of the recovery plan","textBlock","error","The value of \"D.29 Rights in recovery plan implementation\" must be provided."]
[{"$f":"IF(Table3!E172=\"\",\"/*\",\"\")","v":""},"mica:InformationAboutRightsInRedemptionPlanImplementationExplanatory",{"$f":"Table3!E172","v":" Ex: Here is a sample text... (textBlock format)"},"2025-01-01","2025-12-31",null,null,null,null,null,null,null,null,null,null,null,null,null,null,null,null,null,null,null,null,null,{"$f":"ROW(INDIRECT(MID(_xlfn.FORMULATEXT(C194),2,LEN(_xlfn.FORMULATEXT(C194)))))","v":172},"D.30 Rights in redemption plan implementation","A description of the rights in the context of the implementation of the redemption plan","textBlock","error","The value of \"D.30 Rights in redemption plan implementation\" must be provided."]
[{"$f":"IF(Table3!E173=\"\",\"/*\",\"\")","v":""},"mica:InformationAboutRedemptionFormExplanatory",{"$f":"Table3!E173","v":" Ex: Here is a sample text... (textBlock format)"},"2025-01-01","2025-12-31",null,null,null,null,null,null,null,null,null,null,null,null,null,null,null,null,null,null,null,null,null,{"$f":"ROW(INDIRECT(MID(_xlfn.FORMULATEXT(C195),2,LEN(_xlfn.FORMULATEXT(C195)))))","v":173},"D.31 Redemption form","Detailed information on how the asset-referenced token is redeemed","textBlock","error","The value of \"D.31 Redemption form\" must be provided."]
[{"$f":"IF(Table3!E174=\"\",\"/*\",\"\")","v":""},"mica:RedemptionFormOptionsIndicator",{"$f":"Table3!E174","v":"true/false"},null,"2025-12-31",null,null,null,null,null,null,null,null,null,null,null,null,null,null,null,null,null,null,null,null,null,{"$f":"ROW(INDIRECT(MID(_xlfn.FORMULATEXT(C196),2,LEN(_xlfn.FORMULATEXT(C196)))))","v":174},"D.32 Redemption form options","Indication whether the holder will be able to choose the form of redemption","boolean","error","The value of \"D.32 Redemption form options\" must be provided."]
[{"$f":"IF(Table3!E175=\"\",\"/*\",\"\")","v":""},"mica:TransferenceFormOptionsIndicator",{"$f":"Table3!E175","v":"true/false"},"2025-01-01","2025-12-31",null,null,null,null,null,null,null,null,null,null,null,null,null,null,null,null,null,null,null,null,null,{"$f":"ROW(INDIRECT(MID(_xlfn.FORMULATEXT(C197),2,LEN(_xlfn.FORMULATEXT(C197)))))","v":175},"D.33 Transference form options","Indication as to whether the holder will be able to choose the form of transference","boolean","error","The value of \"D.33 Transference form options\" must be provided."]
[{"$f":"IF(Table3!E176=\"\",\"/*\",\"\")","v":""},"mica:InformationAboutFormOfTransferenceExplanatory",{"$f":"Table3!E176","v":" Ex: Here is a sample text... (text format)"},"2025-01-01","2025-12-31",null,null,null,null,null,null,null,null,null,null,null,null,null,null,null,null,null,null,null,null,null,{"$f":"ROW(INDIRECT(MID(_xlfn.FORMULATEXT(C198),2,LEN(_xlfn.FORMULATEXT(C198)))))","v":176},"D.34 Form of transference","Form of transference","text","error","If \"D.33 Transference form options\" is set to true, then \"D.34 Form of transference\" must be provided with a fact value."]
[{"$f":"IF(Table3!E177=\"\",\"/*\",\"\")","v":""},"mica:RedemptionCurrency",{"$f":"Table3!E177","v":"-- Select value --"},null,"2025-12-31",null,null,null,null,null,null,null,null,null,null,null,null,null,null,null,null,null,null,null,null,null,{"$f":"ROW(INDIRECT(MID(_xlfn.FORMULATEXT(C199),2,LEN(_xlfn.FORMULATEXT(C199)))))","v":177},"D.35 Redemption currency","The official currency of redemption","enumeration","error","The value of \"D.35 Redemption currency\" must be provided."]
[{"$f":"IF(Table3!E178=\"\",\"/*\",\"\")","v":""},"mica:ApplicableLawForAssetreferencedTokenExplanatory",{"$f":"Table3!E178","v":" Ex: Here is a sample text... (textBlock format)"},"2025-01-01","2025-12-31",null,null,null,null,null,null,null,null,null,null,null,null,null,null,null,null,null,null,null,null,null,{"$f":"ROW(INDIRECT(MID(_xlfn.FORMULATEXT(C200),2,LEN(_xlfn.FORMULATEXT(C200)))))","v":178},"D.36 Applicable law","The law applicable to the asset-referenced token","textBlock","error","The value of \"D.36 Applicable law\" must be provided."]
[{"$f":"IF(Table3!E179=\"\",\"/*\",\"\")","v":""},"mica:CompetentCourtForAssetreferencedTokenExplanatory",{"$f":"Table3!E179","v":" Ex: Here is a sample text... (textBlock format)"},"2025-01-01","2025-12-31",null,null,null,null,null,null,null,null,null,null,null,null,null,null,null,null,null,null,null,null,null,{"$f":"ROW(INDIRECT(MID(_xlfn.FORMULATEXT(C201),2,LEN(_xlfn.FORMULATEXT(C201)))))","v":179},"D.37 Competent court","Competent court","textBlock","error","The value of \"D.37 Competent court\" must be provided."]
[{"$f":"IF(Table3!E180=\"\",\"/*\",\"\")","v":"/*"},"mica:InformationOnUnderlyingTechnologyAbstract",{"$f":"Table3!E180","v":0},"2025-01-01","2025-12-31",null,null,null,null,null,null,null,null,null,null,null,null,null,null,null,null,null,null,null,null,null,{"$f":"ROW(INDIRECT(MID(_xlfn.FORMULATEXT(C202),2,LEN(_xlfn.FORMULATEXT(C202)))))","v":180},"Part E - Information on the underlying technology","","","",""]
[{"$f":"IF(Table3!E181=\"\",\"/*\",\"\")","v":""},"mica:DistributedLedgerTechnologyForAssetreferencedTokenExplanatory",{"$f":"Table3!E181","v":" Ex: Here is a sample text... (text format)"},"2025-01-01","2025-12-31",null,null,null,null,null,null,null,null,null,null,null,null,null,null,null,null,null,null,null,null,null,{"$f":"ROW(INDIRECT(MID(_xlfn.FORMULATEXT(C203),2,LEN(_xlfn.FORMULATEXT(C203)))))","v":181},"E.1 Distributed ledger technology","Fill in the field only if a DTI is not provided in field B.15\r\nInformation on the distributed ledger technology","text","error","If \"B.15 Digital token identifier code used to uniquely identify the crypto-asset or each of the several crypto assets to which the white paper relates, where available\" is not provided with a fact value, then \"E.1 Distributed ledger technology\" must be reported."]
[{"$f":"IF(Table3!E182=\"\",\"/*\",\"\")","v":""},"mica:ProtocolsAndTechnicalStandardsForAssetreferencedTokenExplanatory",{"$f":"Table3!E182","v":" Ex: Here is a sample text... (textBlock format)"},"2025-01-01","2025-12-31",null,null,null,null,null,null,null,null,null,null,null,null,null,null,null,null,null,null,null,null,null,{"$f":"ROW(INDIRECT(MID(_xlfn.FORMULATEXT(C204),2,LEN(_xlfn.FORMULATEXT(C204)))))","v":182},"E.2 Protocols and technical standards","Information on the protocols and technical standards used, allowing for the holding, storing and transfer of the asset-referenced token","textBlock","error","The value of \"E.2 Protocols and technical standards\" must be provided."]
[{"$f":"IF(Table3!E183=\"\",\"/*\",\"\")","v":""},"mica:InformationAboutTechnologyUsedForAssetreferencedTokenExplanatory",{"$f":"Table3!E183","v":" Ex: Here is a sample text... (textBlock format)"},"2025-01-01","2025-12-31",null,null,null,null,null,null,null,null,null,null,null,null,null,null,null,null,null,null,null,null,null,{"$f":"ROW(INDIRECT(MID(_xlfn.FORMULATEXT(C205),2,LEN(_xlfn.FORMULATEXT(C205)))))","v":183},"E.3 Technology used","Other information on the technology used allowing for the holding, storing and transfer of asset-referenced tokens, if relevant","textBlock","error","The value of \"E.3 Technology used\" must be provided."]
[{"$f":"IF(Table3!E184=\"\",\"/*\",\"\")","v":""},"mica:ConsensusMechanismForAssetreferencedTokenExplanatory",{"$f":"Table3!E184","v":" Ex: Here is a sample text... (text format)"},"2025-01-01","2025-12-31",null,null,null,null,null,null,null,null,null,null,null,null,null,null,null,null,null,null,null,null,null,{"$f":"ROW(INDIRECT(MID(_xlfn.FORMULATEXT(C206),2,LEN(_xlfn.FORMULATEXT(C206)))))","v":184},"E.4 Consensus mechanism","The consensus mechanism, where applicable","text","",""]
[{"$f":"IF(Table3!E185=\"\",\"/*\",\"\")","v":""},"mica:IncentiveMechanismsAndApplicableFeesForAssetreferencedTokenExplanatory",{"$f":"Table3!E185","v":" Ex: Here is a sample text... (text format)"},"2025-01-01","2025-12-31",null,null,null,null,null,null,null,null,null,null,null,null,null,null,null,null,null,null,null,null,null,{"$f":"ROW(INDIRECT(MID(_xlfn.FORMULATEXT(C207),2,LEN(_xlfn.FORMULATEXT(C207)))))","v":185},"E.5 Incentive mechanisms and applicable fees","Incentive mechanisms to secure transactions and any fees applicable","text","error","The value of \"E.5 Incentive mechanisms and applicable fees\" must be provided."]
[{"$f":"IF(Table3!E186=\"\",\"/*\",\"\")","v":""},"mica:UseOfDistributedLedgerTechnologyForAssetreferencedTokenIndicator",{"$f":"Table3!E186","v":"true/false"},"2025-01-01","2025-12-31",null,null,null,null,null,null,null,null,null,null,null,null,null,null,null,null,null,null,null,null,null,{"$f":"ROW(INDIRECT(MID(_xlfn.FORMULATEXT(C208),2,LEN(_xlfn.FORMULATEXT(C208)))))","v":186},"E.6 Use of distributed ledger technology","Indication as to whether the asset-referenced tokens are issued, transferred and stored using distributed ledger technology that is operated by the issuer or a third-party acting on the issuer’s behalf","boolean","error","The value of \"E.6 Use of distributed ledger technology\" must be provided."]
[{"$f":"IF(Table3!E187=\"\",\"/*\",\"\")","v":""},"mica:DescriptionOfDLTFunctionalityForAssetreferencedTokenExplanatory",{"$f":"Table3!E187","v":" Ex: Here is a sample text... (textBlock format)"},"2025-01-01","2025-12-31",null,null,null,null,null,null,null,null,null,null,null,null,null,null,null,null,null,null,null,null,null,{"$f":"ROW(INDIRECT(MID(_xlfn.FORMULATEXT(C209),2,LEN(_xlfn.FORMULATEXT(C209)))))","v":187},"E.7 DLT functionality description","If the DLT is operated by the issuer or a third party acting on the issuer’s behalf, a detailed description of the functioning of such distributed ledger technology","textBlock","error","If \"E.6 Use of distributed ledger technology\" is set to true, then \"E.7 DLT functionality description\" must be provided with a fact value."]
[{"$f":"IF(Table3!E188=\"\",\"/*\",\"\")","v":"/*"},"mica:AssetreferencedTokensAuditDetailsAbstract",{"$f":"Table3!E188","v":0},"2025-01-01","2025-12-31",null,null,null,null,null,null,null,null,null,null,null,null,null,null,null,null,null,null,null,null,null,{"$f":"ROW(INDIRECT(MID(_xlfn.FORMULATEXT(C210),2,LEN(_xlfn.FORMULATEXT(C210)))))","v":188},"Asset-referenced token's audit details","","","",""]
[{"$f":"IF(Table3!E189=\"\",\"/*\",\"\")","v":""},"mica:AuditIndicatorForAssetreferencedToken",{"$f":"Table3!E189","v":"true/false"},"2025-01-01","2025-12-31",null,null,null,null,null,null,null,null,null,null,null,null,null,null,null,null,null,null,null,null,null,{"$f":"ROW(INDIRECT(MID(_xlfn.FORMULATEXT(C211),2,LEN(_xlfn.FORMULATEXT(C211)))))","v":189},"E.8 Audit","Indication as to whether an audit of the technology used was conducted","boolean","error","The value of \"E.8 Audit\" must be provided."]
[{"$f":"IF(Table3!E190=\"\",\"/*\",\"\")","v":""},"mica:AuditOutcomeForAssetreferencedTokenExplanatory",{"$f":"Table3!E190","v":" Ex: Here is a sample text... (textBlock format)"},"2025-01-01","2025-12-31",null,null,null,null,null,null,null,null,null,null,null,null,null,null,null,null,null,null,null,null,null,{"$f":"ROW(INDIRECT(MID(_xlfn.FORMULATEXT(C212),2,LEN(_xlfn.FORMULATEXT(C212)))))","v":190},"E.9 Audit outcome","If an audit was conducted, information on the outcome of the audit of the technology used","textBlock","error","If \"E.8 Audit\" is set to true, then \"E.9 Audit outcome\" must be provided with a fact value."]
[{"$f":"IF(Table3!E192=\"\",\"/*\",\"\")","v":""},"mica:DescriptionOfRisksRelatedToAssetReserveExplanatory",{"$f":"Table3!E192","v":" Ex: Here is a sample text... (textBlock format)"},"2025-01-01","2025-12-31",null,null,null,null,null,null,null,null,null,null,null,null,null,null,null,null,null,null,null,null,null,{"$f":"ROW(INDIRECT(MID(_xlfn.FORMULATEXT(C213),2,LEN(_xlfn.FORMULATEXT(C213)))))","v":192},"F.1 Risks related to asset reserve","The risks related to the reserve of assets, when the issuer is not able to fulfil its obligations","textBlock","error","The value of \"F.1 Risks related to asset reserve\" must be provided."]
[{"$f":"IF(Table3!E193=\"\",\"/*\",\"\")","v":""},"mica:DescriptionOfIssuerrelatedRisksExplanatory",{"$f":"Table3!E193","v":" Ex: Here is a sample text... (textBlock format)"},"2025-01-01","2025-12-31",null,null,null,null,null,null,null,null,null,null,null,null,null,null,null,null,null,null,null,null,null,{"$f":"ROW(INDIRECT(MID(_xlfn.FORMULATEXT(C214),2,LEN(_xlfn.FORMULATEXT(C214)))))","v":193},"F.2 Issuer-related risks","A description of the risks associated with the issuer of the asset-referenced token","textBlock","error","The value of \"F.2 Issuer-related risks\" must be provided."]
[{"$f":"IF(Table3!E194=\"\",\"/*\",\"\")","v":""},"mica:DescriptionOfOfferrelatedRisksExplanatory",{"$f":"Table3!E194","v":" Ex: Here is a sample text... (textBlock format)"},"2025-01-01","2025-12-31",null,null,null,null,null,null,null,null,null,null,null,null,null,null,null,null,null,null,null,null,null,{"$f":"ROW(INDIRECT(MID(_xlfn.FORMULATEXT(C215),2,LEN(_xlfn.FORMULATEXT(C215)))))","v":194},"F.3 Offer-related risks","A description of the risks associated with the offer to the public of the asset-referenced token or its admission to trading","textBlock","error","The value of \"F.3 Offer-related risks\" must be provided."]
[{"$f":"IF(Table3!E195=\"\",\"/*\",\"\")","v":""},"mica:DescriptionOfTokenrelatedRisksExplanatory",{"$f":"Table3!E195","v":" Ex: Here is a sample text... (textBlock format)"},"2025-01-01","2025-12-31",null,null,null,null,null,null,null,null,null,null,null,null,null,null,null,null,null,null,null,null,null,{"$f":"ROW(INDIRECT(MID(_xlfn.FORMULATEXT(C216),2,LEN(_xlfn.FORMULATEXT(C216)))))","v":195},"F.4 Token-related risks","Description of the risks associated with the asset-referenced token, in particular with regard to the asset referenced","textBlock","error","The value of \"F.4 Token-related risks\" must be provided."]
[{"$f":"IF(Table3!E196=\"\",\"/*\",\"\")","v":""},"mica:DescriptionOfRisksRelatedToOperationalisationOfAssetreferencedTokenProjectExplanatory",{"$f":"Table3!E196","v":" Ex: Here is a sample text... (textBlock format)"},"2025-01-01","2025-12-31",null,null,null,null,null,null,null,null,null,null,null,null,null,null,null,null,null,null,null,null,null,{"$f":"ROW(INDIRECT(MID(_xlfn.FORMULATEXT(C217),2,LEN(_xlfn.FORMULATEXT(C217)))))","v":196},"F.5 Risks related to operationalisation of the asset-referenced token project","A description of the risks associated with the operationalisation of the asset-referenced token project","textBlock","error","The value of \"F.5 Risks related to operationalisation of asset-referenced token project\" must be provided."]
[{"$f":"IF(Table3!E197=\"\",\"/*\",\"\")","v":""},"mica:DescriptionOfTechnologyrelatedRisksExplanatory",{"$f":"Table3!E197","v":" Ex: Here is a sample text... (textBlock format)"},"2025-01-01","2025-12-31",null,null,null,null,null,null,null,null,null,null,null,null,null,null,null,null,null,null,null,null,null,{"$f":"ROW(INDIRECT(MID(_xlfn.FORMULATEXT(C218),2,LEN(_xlfn.FORMULATEXT(C218)))))","v":197},"F.6 Technology-related risks","Description of the risks associated with the technology used","textBlock","error","The value of \"F.6 Technology-related risks\" must be provided."]
[{"$f":"IF(Table3!E198=\"\",\"/*\",\"\")","v":""},"mica:MitigationMeasuresForTechnologyRiskForAssetreferencedTokenExplanatory",{"$f":"Table3!E198","v":" Ex: Here is a sample text... (text format)"},"2025-01-01","2025-12-31",null,null,null,null,null,null,null,null,null,null,null,null,null,null,null,null,null,null,null,null,null,{"$f":"ROW(INDIRECT(MID(_xlfn.FORMULATEXT(C219),2,LEN(_xlfn.FORMULATEXT(C219)))))","v":198},"F.7 Mitigation measures","Mitigation measures of the risks associated with the technology used, if any","text","",""]
[{"$f":"IF(Table3!E199=\"\",\"/*\",\"\")","v":"/*"},"mica:InformationOnReserveOfAssetsAbstract",{"$f":"Table3!E199","v":0},"2025-01-01","2025-12-31",null,null,null,null,null,null,null,null,null,null,null,null,null,null,null,null,null,null,null,null,null,{"$f":"ROW(INDIRECT(MID(_xlfn.FORMULATEXT(C220),2,LEN(_xlfn.FORMULATEXT(C220)))))","v":199},"Part G - Information on the reserve of assets","","","",""]
[{"$f":"IF(Table3!E200=\"\",\"/*\",\"\")","v":""},"mica:ValueAlignmentMechanismExplanatory",{"$f":"Table3!E200","v":" Ex: Here is a sample text... (textBlock format)"},"2025-01-01","2025-12-31",null,null,null,null,null,null,null,null,null,null,null,null,null,null,null,null,null,null,null,null,null,{"$f":"ROW(INDIRECT(MID(_xlfn.FORMULATEXT(C221),2,LEN(_xlfn.FORMULATEXT(C221)))))","v":200},"G.1 Value alignment mechanism","Detailed description of the mechanism aimed at aligning the value of the reserve of assets with the claim associated with the asset-referenced token, including legal and technical aspects","textBlock","error","The value of \"G.1 Value alignment mechanism\" must be provided."]
[{"$f":"IF(Table3!E201=\"\",\"/*\",\"\")","v":""},"mica:AssetReserveDescriptionExplanatory",{"$f":"Table3!E201","v":" Ex: Here is a sample text... (textBlock format)"},"2025-01-01","2025-12-31",null,null,null,null,null,null,null,null,null,null,null,null,null,null,null,null,null,null,null,null,null,{"$f":"ROW(INDIRECT(MID(_xlfn.FORMULATEXT(C222),2,LEN(_xlfn.FORMULATEXT(C222)))))","v":201},"G.2 Asset reserve description","Detailed description of the reserve of assets and their composition","textBlock","error","The value of \"G.2 Asset reserve description\" must be provided."]
[{"$f":"IF(Table3!E202=\"\",\"/*\",\"\")","v":""},"mica:TokenIssuanceAndRedemptionMechanismsExplanatory",{"$f":"Table3!E202","v":" Ex: Here is a sample text... (textBlock format)"},"2025-01-01","2025-12-31",null,null,null,null,null,null,null,null,null,null,null,null,null,null,null,null,null,null,null,null,null,{"$f":"ROW(INDIRECT(MID(_xlfn.FORMULATEXT(C223),2,LEN(_xlfn.FORMULATEXT(C223)))))","v":202},"G.3 Token issuance and redemption mechanisms","A description of the mechanisms through which asset-referenced tokens are issued and redeemed","textBlock","error","The value of \"G.3 Token issuance and redemption mechanisms\" must be provided."]
[{"$f":"IF(Table3!E203=\"\",\"/*\",\"\")","v":""},"mica:InvestmentOfReserveOfAssetsIndicator",{"$f":"Table3!E203","v":"true/false"},"2025-01-01","2025-12-31",null,null,null,null,null,null,null,null,null,null,null,null,null,null,null,null,null,null,null,null,null,{"$f":"ROW(INDIRECT(MID(_xlfn.FORMULATEXT(C224),2,LEN(_xlfn.FORMULATEXT(C224)))))","v":203},"G.4 Investment of reserve of assets","Information on whether a part of the reserve assets are invested","boolean","error","The value of \"G.4 Investment of reserve of assets\" must be provided."]
[{"$f":"IF(Table3!E204=\"\",\"/*\",\"\")","v":""},"mica:DescriptionOfReserveAssetInvestmentPolicyExplanatory",{"$f":"Table3!E204","v":" Ex: Here is a sample text... (textBlock format)"},"2025-01-01","2025-12-31",null,null,null,null,null,null,null,null,null,null,null,null,null,null,null,null,null,null,null,null,null,{"$f":"ROW(INDIRECT(MID(_xlfn.FORMULATEXT(C225),2,LEN(_xlfn.FORMULATEXT(C225)))))","v":204},"G.5 Reserve asset investment policy","If a part of the reserve assets are invested, a description of the investment policy for the reserve assets","textBlock","error","If \"G.4 Investment of reserve of assets\" is set to true, then \"G.5 Reserve asset investment policy\" must be provided with a fact value."]
[{"$f":"IF(Table3!E205=\"\",\"/*\",\"\")","v":""},"mica:DescriptionOfReserveAssetCustodyArrangementsExplanatory",{"$f":"Table3!E205","v":" Ex: Here is a sample text... (textBlock format)"},"2025-01-01","2025-12-31",null,null,null,null,null,null,null,null,null,null,null,null,null,null,null,null,null,null,null,null,null,{"$f":"ROW(INDIRECT(MID(_xlfn.FORMULATEXT(C226),2,LEN(_xlfn.FORMULATEXT(C226)))))","v":205},"G.6 Reserve asset custody arrangements","Description of the custody arrangements for the reserve assets, including their segregation","textBlock","error","The value of \"G.6 Reserve asset custody arrangements\" must be provided."]
[{"$f":"IF(Table3!E206=\"\",\"/*\",\"\")","v":"/*"},"mica:CustodianServiceProvidersCharacteristicsAbstract",{"$f":"Table3!E206","v":0},"2025-01-01","2025-12-31",null,null,null,null,null,null,null,null,null,null,null,null,null,null,null,null,null,null,null,null,null,{"$f":"ROW(INDIRECT(MID(_xlfn.FORMULATEXT(C227),2,LEN(_xlfn.FORMULATEXT(C227)))))","v":206},"Custodian service providers characteristics","","","",""]
[{"$f":"IF(Table3!E207=\"\",\"/*\",\"\")","v":""},"mica:CustodianServiceProvidersExplanatory",{"$f":"Table3!E207","v":" Ex: Here is a sample text... (textBlock format)"},"2025-01-01","2025-12-31",null,null,null,null,null,null,null,null,null,null,null,null,null,null,null,null,null,null,null,null,null,{"$f":"ROW(INDIRECT(MID(_xlfn.FORMULATEXT(C228),2,LEN(_xlfn.FORMULATEXT(C228)))))","v":207},"G.7 Custodian service providers","Name of crypto-asset service providers providing custody and administration of crypto-assets on behalf of clients, credit institutions, or investment firms appointed as custodians of the reserve assets","textBlock","error","The value of \"G.7 Custodian service providers\" must be provided."]
[{"$f":"IF(Table3!E208=\"\",\"/*\",\"\")","v":""},"mica:CustodianServiceProvidersIdentification",{"$f":"Table3!E208","v":" Ex: 999999A9AA99AAAAAA99"},"2025-01-01","2025-12-31",null,null,null,null,null,null,null,null,null,null,null,null,null,null,null,null,null,null,null,null,null,{"$f":"ROW(INDIRECT(MID(_xlfn.FORMULATEXT(C229),2,LEN(_xlfn.FORMULATEXT(C229)))))","v":208},"G.8 Custodian service providers","LEI of the CASP providing custody and administration of crypto-assets on behalf of clients, credit institutions, or investment firms appointed as custodians of the reserve assets","LEI","error","The value of \"G.8 Custodian service providers\" must be provided."]
[{"$f":"IF(Table3!E209=\"\",\"/*\",\"\")","v":"/*"},"mica:InformationOnSustainabilityIndicatorsInRelationToAdverseImpactOnClimateAndOtherEnvironmentrelatedAdverseImpactsForAssetreferencedTokenAbstract",{"$f":"Table3!E209","v":0},"2025-01-01","2025-12-31",null,null,null,null,null,null,null,null,null,null,null,null,null,null,null,null,null,null,null,null,null,{"$f":"ROW(INDIRECT(MID(_xlfn.FORMULATEXT(C230),2,LEN(_xlfn.FORMULATEXT(C230)))))","v":209},"Part H - Information on the sustainability indicators in relation to adverse impact on the climate and other environment-related adverse impacts","","","",""]
[{"$f":"IF(Table3!E210=\"\",\"/*\",\"\")","v":""},"mica:InformationOnAdverseImpactsOnClimateAndOtherEnvironmentrelatedAdverseImpactsForAssetreferencedTokenExplanatory",{"$f":"Table3!E210","v":" Ex: Here is a sample text... (textBlock format)"},"2025-01-01","2025-12-31",null,null,null,null,null,null,null,null,null,null,null,null,null,null,null,null,null,null,null,null,null,{"$f":"ROW(INDIRECT(MID(_xlfn.FORMULATEXT(C231),2,LEN(_xlfn.FORMULATEXT(C231)))))","v":210},"H.1 Adverse impacts on climate and other environment-related adverse impacts","Include information referred to Commission Delegated Regulation establishing technical standards adopted pursuant to Article 6(12), fourth subparagraph, Article 19(11), fourth subparagraph, Article 51(15), fourth subparagraph, and Article 66(6), fourth subparagraph of Regulation (EU) 2023/1114 of the European Parliament and of the Council","textBlock","",""]
[{"$f":"IF(Table3!E211=\"\",\"/*\",\"\")","v":"/*"},"mica:MandatoryInformationOnPrincipalAdverseImpactsOnClimateAndOtherEnvironmentrelatedAdverseImpactsOfConsensusMechanismAbstract",{"$f":"Table3!E211","v":0},"2025-01-01","2025-12-31",null,null,null,null,null,null,null,null,null,null,null,null,null,null,null,null,null,null,null,null,null,{"$f":"ROW(INDIRECT(MID(_xlfn.FORMULATEXT(C232),2,LEN(_xlfn.FORMULATEXT(C232)))))","v":211},"Mandatory information on principal adverse impacts on the climate and other environment-related adverse impacts of the consensus mechanism","","","",""]
[{"$f":"IF(Table3!E212=\"\",\"/*\",\"\")","v":"/*"},"mica:GeneralInformationAboutAdverseImpactsAbstract",{"$f":"Table3!E212","v":0},"2025-01-01","2025-12-31",null,null,null,null,null,null,null,null,null,null,null,null,null,null,null,null,null,null,null,null,null,{"$f":"ROW(INDIRECT(MID(_xlfn.FORMULATEXT(C233),2,LEN(_xlfn.FORMULATEXT(C233)))))","v":212},"General information about adverse impacts","","","",""]
[{"$f":"IF(Table3!E213=\"\",\"/*\",\"\")","v":""},"mica:Name",{"$f":"Table3!E213","v":" Ex: Here is a sample text... (text format)"},"2025-01-01","2025-12-31",null,null,null,null,null,null,null,null,null,null,null,null,null,null,null,null,null,null,null,null,null,{"$f":"ROW(INDIRECT(MID(_xlfn.FORMULATEXT(C234),2,LEN(_xlfn.FORMULATEXT(C234)))))","v":213},"S.1 Name","Name reported in Annex II to Commission Implementing Regulation (EU) 2024/2984 (1), Table 2, fields A.1, B.2 or C.1, Table 3, field A.1, or Table 4, or name of the crypto-asset service provider","text","error","The value of \"S.1 Name\" must be provided."]
[{"$f":"IF(Table3!E214=\"\",\"/*\",\"\")","v":""},"mica:RelevantLegalEntityIdentifier",{"$f":"Table3!E214","v":" Ex: Here is a sample text... (text format)"},"2025-01-01","2025-12-31",null,null,null,null,null,null,null,null,null,null,null,null,null,null,null,null,null,null,null,null,null,{"$f":"ROW(INDIRECT(MID(_xlfn.FORMULATEXT(C235),2,LEN(_xlfn.FORMULATEXT(C235)))))","v":214},"S.2 Relevant legal entity identifier","Identifier referred to in Annex II to Implementing Regulation (EU) 2024/2984, Table 2, fields A.6 or A.7, B.7 or B.8 or C.6 or C.7, Table 3, fields A.7 and A.8 or Table 4, fields A.7 and A.8 or identifier of the crypto-asset service provider referred to in Article 1 of Commission Delegated Regulation (EU) 2025/305 (2)","text","error","The value of \"S.2 Relevant legal entity identifier\" must be provided."]
[{"$f":"IF(Table3!E215=\"\",\"/*\",\"\")","v":""},"mica:NameOfCryptoAssetSustainability",{"$f":"Table3!E215","v":" Ex: Here is a sample text... (text format)"},"2025-01-01","2025-12-31",null,null,null,null,null,null,null,null,null,null,null,null,null,null,null,null,null,null,null,null,null,{"$f":"ROW(INDIRECT(MID(_xlfn.FORMULATEXT(C236),2,LEN(_xlfn.FORMULATEXT(C236)))))","v":215},"S.3 Name of the crypto-asset","Name of the crypto-asset, as reported in Annex II to Implementing Regulation (EU) 2024/2984, Table 2, field D.2, Table 3, field B.1, or Table 4, field B.1 where relevant","text","error","The value of \"S.3 \"Name of crypto-asset\" must be provided."]
[{"$f":"IF(Table3!E216=\"\",\"/*\",\"\")","v":""},"mica:ConsensusMechanismSustainabilityExplanatory",{"$f":"Table3!E216","v":" Ex: Here is a sample text... (text format)"},"2025-01-01","2025-12-31",null,null,null,null,null,null,null,null,null,null,null,null,null,null,null,null,null,null,null,null,null,{"$f":"ROW(INDIRECT(MID(_xlfn.FORMULATEXT(C237),2,LEN(_xlfn.FORMULATEXT(C237)))))","v":216},"S.4 Consensus mechanism","The consensus mechanism, as reported in Annex II to Implementing Regulation (EU) 2024/2984, Table 2, field H.4, Table 3, field E.4, or Table 4, field E.5, where relevant, including the information referred to in Article 6(1), point (b), of this Regulation.","text","error","The value of \"S.4 Consensus mechanism\" must be provided."]
[{"$f":"IF(Table3!E217=\"\",\"/*\",\"\")","v":""},"mica:IncentiveMechanismsAndApplicableFeesSustainabilityExplanatory",{"$f":"Table3!E217","v":" Ex: Here is a sample text... (text format)"},"2025-01-01","2025-12-31",null,null,null,null,null,null,null,null,null,null,null,null,null,null,null,null,null,null,null,null,null,{"$f":"ROW(INDIRECT(MID(_xlfn.FORMULATEXT(C238),2,LEN(_xlfn.FORMULATEXT(C238)))))","v":217},"S.5 Incentive mechanisms and applicable fees","Incentive mechanisms to secure transactions and any fees applicable, as reported in Annex II to Implementing Regulation (EU) 2024/2984, Table 2, field H.5, Table 3, field E.5 or Table 4, field E.6, where relevant.\r\nFor persons drawing up a crypto-asset white paper pursuant to Articles 6, 19 or 51 of Regulation (EU) 2023/1114, the information may be provided by including a cross-reference to the aforementioned fields.","text","error","The value of \"S.5 Incentive mechanisms and applicable fees\" must be provided."]
[{"$f":"IF(Table3!E218=\"\",\"/*\",\"\")","v":""},"mica:BeginningOfPeriodToWhichDisclosedInformationRelates",{"$f":"Table3!E218","v":"YYYY-MM-DD"},null,"2025-12-31",null,null,null,null,null,null,null,null,null,null,null,null,null,null,null,null,null,null,null,null,null,{"$f":"ROW(INDIRECT(MID(_xlfn.FORMULATEXT(C239),2,LEN(_xlfn.FORMULATEXT(C239)))))","v":218},"S.6 Beginning of period to which disclosed information relates","Start date of the period covered by the disclosed information","date","error","The value of \"S.6 Beginning of period to which disclosure relates\" must be provided."]
[{"$f":"IF(Table3!E219=\"\",\"/*\",\"\")","v":""},"mica:EndOfPeriodToWhichDisclosedInformationRelates",{"$f":"Table3!E219","v":"YYYY-MM-DD"},null,"2025-12-31",null,null,null,null,null,null,null,null,null,null,null,null,null,null,null,null,null,null,null,null,null,{"$f":"ROW(INDIRECT(MID(_xlfn.FORMULATEXT(C240),2,LEN(_xlfn.FORMULATEXT(C240)))))","v":219},"S.7 End of period to which disclosed information relates","End date of the period covered by the disclosed information","date","error","The value of \"S.7 End of period to which disclosure relates\" must be provided."]
[{"$f":"IF(Table3!E220=\"\",\"/*\",\"\")","v":"/*"},"mica:MandatoryKeyIndicatorOnEnergyConsumptionAbstract",{"$f":"Table3!E220","v":0},"2025-01-01","2025-12-31",null,null,null,null,null,null,null,null,null,null,null,null,null,null,null,null,null,null,null,null,null,{"$f":"ROW(INDIRECT(MID(_xlfn.FORMULATEXT(C241),2,LEN(_xlfn.FORMULATEXT(C241)))))","v":220},"Mandatory key indicator","","","",""]
[{"$f":"IF(Table3!E221=\"\",\"/*\",\"\")","v":""},"mica:EnergyConsumption",{"$f":"Table3!E221","v":" Ex: 27.04"},"2025-01-01","2025-12-31","utr:kWh",2,3,null,null,null,null,null,null,null,null,null,null,null,null,null,null,null,null,null,null,{"$f":"ROW(INDIRECT(MID(_xlfn.FORMULATEXT(C242),2,LEN(_xlfn.FORMULATEXT(C242)))))","v":221},"S.8 Energy consumption","Total amount of energy used for the validation of transactions and the maintenance of the integrity of the distributed ledger, expressed in kilowatt-hours per calendar year","energy (kWh) ","error","The value of \"S.8 Energy consumption\" must be provided."]
[{"$f":"IF(Table3!E222=\"\",\"/*\",\"\")","v":"/*"},"mica:SourcesAndMethodologiesOnEnergyConsumptionsAbstract",{"$f":"Table3!E222","v":0},"2025-01-01","2025-12-31",null,null,null,null,null,null,null,null,null,null,null,null,null,null,null,null,null,null,null,null,null,{"$f":"ROW(INDIRECT(MID(_xlfn.FORMULATEXT(C243),2,LEN(_xlfn.FORMULATEXT(C243)))))","v":222},"Sources and methodologies","","","",""]
[{"$f":"IF(Table3!E223=\"\",\"/*\",\"\")","v":""},"mica:DescriptionOfEnergyConsumptionSourcesAndMethodologiesExplanatory",{"$f":"Table3!E223","v":" Ex: Here is a sample text... (textBlock format)"},"2025-01-01","2025-12-31",null,null,null,null,null,null,null,null,null,null,null,null,null,null,null,null,null,null,null,null,null,{"$f":"ROW(INDIRECT(MID(_xlfn.FORMULATEXT(C244),2,LEN(_xlfn.FORMULATEXT(C244)))))","v":223},"S.9 Energy consumption sources and methodologies","Sources and methodologies used in relation to the information reported in field S.8","textBlock","error","The value of \"S.9 Energy consumption sources and methodologies\" must be provided."]
[{"$f":"IF(Table3!E224=\"\",\"/*\",\"\")","v":"/*"},"mica:SupplementaryInformationOnPrincipalAdverseImpactsOnClimateAndOtherEnvironmentrelatedAdverseImpactsOfConsensusMechanismAbstract",{"$f":"Table3!E224","v":0},"2025-01-01","2025-12-31",null,null,null,null,null,null,null,null,null,null,null,null,null,null,null,null,null,null,null,null,null,{"$f":"ROW(INDIRECT(MID(_xlfn.FORMULATEXT(C245),2,LEN(_xlfn.FORMULATEXT(C245)))))","v":224},"Supplementary information on principal adverse impacts on climate and other environment-related adverse impacts of consensus mechanism","","","",""]
[{"$f":"IF(Table3!E225=\"\",\"/*\",\"\")","v":"/*"},"mica:SupplementaryKeyIndicatorsOnEnergyAndGHGEmissionsAbstract",{"$f":"Table3!E225","v":0},"2025-01-01","2025-12-31",null,null,null,null,null,null,null,null,null,null,null,null,null,null,null,null,null,null,null,null,null,{"$f":"ROW(INDIRECT(MID(_xlfn.FORMULATEXT(C246),2,LEN(_xlfn.FORMULATEXT(C246)))))","v":225},"Supplementary key indicators","","","",""]
[{"$f":"IF(Table3!E226=\"\",\"/*\",\"\")","v":""},"mica:RenewableEnergyConsumptionPercentage",{"$f":"Table3!E226","v":" Ex: 27.1018%"},"2025-01-01","2025-12-31","xbrli:pure",4,-2,null,null,null,null,null,null,null,null,null,null,null,null,null,null,null,null,null,null,{"$f":"ROW(INDIRECT(MID(_xlfn.FORMULATEXT(C247),2,LEN(_xlfn.FORMULATEXT(C247)))))","v":226},"S.10 Renewable energy consumption","Share of energy from renewable sources, used for the validation of transactions and the maintenance of the integrity of the distributed ledger, expressed as a percentage of the total amount of energy used per calendar year","percent","",""]
[{"$f":"IF(Table3!E227=\"\",\"/*\",\"\")","v":""},"mica:EnergyIntensity",{"$f":"Table3!E227","v":" Ex: 27.04"},"2025-01-01","2025-12-31","utr:kWh",2,3,null,null,null,null,null,null,null,null,null,null,null,null,null,null,null,null,null,null,{"$f":"ROW(INDIRECT(MID(_xlfn.FORMULATEXT(C248),2,LEN(_xlfn.FORMULATEXT(C248)))))","v":227},"S.11 Energy intensity","Average amount of energy used per validated transaction","energy (kWh)","",""]
[{"$f":"IF(Table3!E228=\"\",\"/*\",\"\")","v":""},"mica:Scope1DLTGHGEmissionsControlled",{"$f":"Table3!E228","v":" Ex: 27.04"},"2025-01-01","2025-12-31","utr:tCO2e",0,0,null,null,null,null,null,null,null,null,null,null,null,null,null,null,null,null,null,null,{"$f":"ROW(INDIRECT(MID(_xlfn.FORMULATEXT(C249),2,LEN(_xlfn.FORMULATEXT(C249)))))","v":228},"S.12 Scope 1 DLT GHG emissions - controlled","Scope 1 GHG emissions per calendar year for the validation of transactions and the maintenance of the integrity of the distributed ledger","GHG emissions (tCO2e)","",""]
[{"$f":"IF(Table3!E229=\"\",\"/*\",\"\")","v":""},"mica:Scope2DLTGHGEmissionsPurchased",{"$f":"Table3!E229","v":" Ex: 27.04"},"2025-01-01","2025-12-31","utr:tCO2e",0,0,null,null,null,null,null,null,null,null,null,null,null,null,null,null,null,null,null,null,{"$f":"ROW(INDIRECT(MID(_xlfn.FORMULATEXT(C250),2,LEN(_xlfn.FORMULATEXT(C250)))))","v":229},"S.13 Scope 2 DLT GHG emissions - purchased","Scope 2 GHG emissions, expressed in tCO2e per calendar year for the validation of transactions and the maintenance of the integrity of the distributed ledger","GHG emissions (tCO2e)","",""]
[{"$f":"IF(Table3!E230=\"\",\"/*\",\"\")","v":""},"mica:GHGIntensity",{"$f":"Table3!E230","v":" Ex: 27.04"},"2025-01-01","2025-12-31","utr:tCO2e",0,0,null,null,null,null,null,null,null,null,null,null,null,null,null,null,null,null,null,null,{"$f":"ROW(INDIRECT(MID(_xlfn.FORMULATEXT(C251),2,LEN(_xlfn.FORMULATEXT(C251)))))","v":230},"S.14 GHG intensity","Average GHG emissions (scope 1 and scope 2) per validated transaction","GHG emissions (tCO2e)","",""]
[{"$f":"IF(Table3!E231=\"\",\"/*\",\"\")","v":"/*"},"mica:KeySourcesAndMethodologiesAbstract",{"$f":"Table3!E231","v":0},"2025-01-01","2025-12-31",null,null,null,null,null,null,null,null,null,null,null,null,null,null,null,null,null,null,null,null,null,{"$f":"ROW(INDIRECT(MID(_xlfn.FORMULATEXT(C252),2,LEN(_xlfn.FORMULATEXT(C252)))))","v":231},"Sources and methodologies","","","",""]
[{"$f":"IF(Table3!E232=\"\",\"/*\",\"\")","v":""},"mica:DescriptionOfKeyEnergySourcesAndMethodologiesExplanatory",{"$f":"Table3!E232","v":" Ex: Here is a sample text... (textBlock format)"},"2025-01-01","2025-12-31",null,null,null,null,null,null,null,null,null,null,null,null,null,null,null,null,null,null,null,null,null,{"$f":"ROW(INDIRECT(MID(_xlfn.FORMULATEXT(C253),2,LEN(_xlfn.FORMULATEXT(C253)))))","v":232},"S.15 Key energy sources and methodologies","Sources and methodologies used in relation to the information reported in fields S.10 and S.11","textBlock","",""]
[{"$f":"IF(Table3!E233=\"\",\"/*\",\"\")","v":""},"mica:DescriptionOfKeyGHGSourcesAndMethodologiesExplanatory",{"$f":"Table3!E233","v":" Ex: Here is a sample text... (textBlock format)"},"2025-01-01","2025-12-31",null,null,null,null,null,null,null,null,null,null,null,null,null,null,null,null,null,null,null,null,null,{"$f":"ROW(INDIRECT(MID(_xlfn.FORMULATEXT(C254),2,LEN(_xlfn.FORMULATEXT(C254)))))","v":233},"S.16 Key GHG sources and methodologies","Sources and methodologies used in relation to the information reported in fields S.12, S.13 and S.14","textBlock","",""]
[{"$f":"IF(Table3!E234=\"\",\"/*\",\"\")","v":"/*"},"mica:OptionalInformationOnPrincipalAdverseImpactsOnClimateAndOnOtherEnvironmentrelatedAdverseImpactsOfConsensusMechanismAbstract",{"$f":"Table3!E234","v":0},"2025-01-01","2025-12-31",null,null,null,null,null,null,null,null,null,null,null,null,null,null,null,null,null,null,null,null,null,{"$f":"ROW(INDIRECT(MID(_xlfn.FORMULATEXT(C255),2,LEN(_xlfn.FORMULATEXT(C255)))))","v":234},"Optional information on principal adverse impacts on the climate and on other environment-related adverse impacts of the consensus mechanism","","","",""]
[{"$f":"IF(Table3!E235=\"\",\"/*\",\"\")","v":"/*"},"mica:OptionalIndicatorsAbstract",{"$f":"Table3!E235","v":0},"2025-01-01","2025-12-31",null,null,null,null,null,null,null,null,null,null,null,null,null,null,null,null,null,null,null,null,null,{"$f":"ROW(INDIRECT(MID(_xlfn.FORMULATEXT(C256),2,LEN(_xlfn.FORMULATEXT(C256)))))","v":235},"Optional indicators","","","",""]
[{"$f":"IF(Table3!E236=\"\",\"/*\",\"\")","v":""},"mica:EnergyMixPercentage",{"$f":"Table3!E236","v":" Ex: 27.1018%"},"2025-01-01","2025-12-31","xbrli:pure",4,-2,null,null,null,null,null,null,null,null,null,null,null,null,null,null,null,null,null,null,{"$f":"ROW(INDIRECT(MID(_xlfn.FORMULATEXT(C257),2,LEN(_xlfn.FORMULATEXT(C257)))))","v":236},"S. 17 Energy mix","Description of the relative contributions of each different primary energy source used for the validation of transactions and the maintenance of the integrity of the distributed ledger, expressed as percentages","percent","",""]
[{"$f":"IF(Table3!E237=\"\",\"/*\",\"\")","v":"/*"},"mica:EnergyUseReductionDetailsAbstract",{"$f":"Table3!E237","v":0},"2025-01-01","2025-12-31",null,null,null,null,null,null,null,null,null,null,null,null,null,null,null,null,null,null,null,null,null,{"$f":"ROW(INDIRECT(MID(_xlfn.FORMULATEXT(C258),2,LEN(_xlfn.FORMULATEXT(C258)))))","v":237},"S.18 Energy use reduction","Energy use reduction targets or commitments, expressed in absolute or relative reduction of energy use over one calendar year","","",""]
[{"$f":"IF(Table3!E238=\"\",\"/*\",\"\")","v":""},"mica:EnergyUseReductionTargetAbsoluteValue",{"$f":"Table3!E238","v":" Ex: 27.04"},"2025-01-01","2025-12-31","utr:kWh",2,3,null,null,null,null,null,null,null,null,null,null,null,null,null,null,null,null,null,null,{"$f":"ROW(INDIRECT(MID(_xlfn.FORMULATEXT(C259),2,LEN(_xlfn.FORMULATEXT(C259)))))","v":238},"Energy use reduction target (absolute value)","","energy (kWh)","",""]
[{"$f":"IF(Table3!E239=\"\",\"/*\",\"\")","v":""},"mica:EnergyUseReductionTargetPercentage",{"$f":"Table3!E239","v":" Ex: 27.1018%"},"2025-01-01","2025-12-31","xbrli:pure",4,-2,null,null,null,null,null,null,null,null,null,null,null,null,null,null,null,null,null,null,{"$f":"ROW(INDIRECT(MID(_xlfn.FORMULATEXT(C260),2,LEN(_xlfn.FORMULATEXT(C260)))))","v":239},"Energy use reduction target (percentage)","","percent","",""]
[{"$f":"IF(Table3!E240=\"\",\"/*\",\"\")","v":""},"mica:CarbonIntensity",{"$f":"Table3!E240","v":" Ex: 27.1018"},"2025-01-01","2025-12-31","xbrli:pure","INF",0,null,null,null,null,null,null,null,null,null,null,null,null,null,null,null,null,null,null,{"$f":"ROW(INDIRECT(MID(_xlfn.FORMULATEXT(C261),2,LEN(_xlfn.FORMULATEXT(C261)))))","v":240},"S.19 Carbon intensity","Carbon intensity of the energy used for the validation of transactions and the maintenance of the integrity of the distributed ledger","decimal","",""]
[{"$f":"IF(Table3!E241=\"\",\"/*\",\"\")","v":""},"mica:Scope3DLTGHGEmissionsValueChain",{"$f":"Table3!E241","v":" Ex: 27.04"},"2025-01-01","2025-12-31","utr:tCO2e",0,0,null,null,null,null,null,null,null,null,null,null,null,null,null,null,null,null,null,null,{"$f":"ROW(INDIRECT(MID(_xlfn.FORMULATEXT(C262),2,LEN(_xlfn.FORMULATEXT(C262)))))","v":241},"S.20 Scope 3 DLT GHG emissions - value chain","Scope 3 GHG emissions for the validation of transactions and the maintenance of the integrity of the distributed ledger per calendar year","GHG emissions (tCO2e)","",""]
[{"$f":"IF(Table3!E242=\"\",\"/*\",\"\")","v":""},"mica:GHGEmissionsReductionTargetsOrCommitmentsExplanatory",{"$f":"Table3!E242","v":" Ex: Here is a sample text... (textBlock format)"},"2025-01-01","2025-12-31",null,null,null,null,null,null,null,null,null,null,null,null,null,null,null,null,null,null,null,null,null,{"$f":"ROW(INDIRECT(MID(_xlfn.FORMULATEXT(C263),2,LEN(_xlfn.FORMULATEXT(C263)))))","v":242},"S.21 GHG emissions reduction targets or commitments","GHG emissions reduction targets or commitments, expressed in terms of absolute or relative reduction in GHG emissions over one calendar year","textBlock","",""]
[{"$f":"IF(Table3!E243=\"\",\"/*\",\"\")","v":""},"mica:GenerationOfWasteElectricalAndElectronicEquipmentWEEE",{"$f":"Table3!E243","v":" Ex: 27.04"},"2025-01-01","2025-12-31","utr:t",2,0,null,null,null,null,null,null,null,null,null,null,null,null,null,null,null,null,null,null,{"$f":"ROW(INDIRECT(MID(_xlfn.FORMULATEXT(C264),2,LEN(_xlfn.FORMULATEXT(C264)))))","v":243},"S.22 Generation of waste electrical and electronic equipment (WEEE)","Total amount of WEEE generated for the validation of transactions and the maintenance of the integrity of the distributed ledger per calendar year","mass (tonnes)","",""]
[{"$f":"IF(Table3!E244=\"\",\"/*\",\"\")","v":""},"mica:NonrecycledWEEEratio",{"$f":"Table3!E244","v":" Ex: 27.1018%"},"2025-01-01","2025-12-31","xbrli:pure",4,-2,null,null,null,null,null,null,null,null,null,null,null,null,null,null,null,null,null,null,{"$f":"ROW(INDIRECT(MID(_xlfn.FORMULATEXT(C265),2,LEN(_xlfn.FORMULATEXT(C265)))))","v":244},"S.23 Non-recycled WEEE ratio","Share of the total amount of WEEE generated for the validation of transactions and the maintenance of the integrity of the distributed ledger, not recycled per calendar year","percent","",""]
[{"$f":"IF(Table3!E245=\"\",\"/*\",\"\")","v":""},"mica:GenerationOfHazardousWaste",{"$f":"Table3!E245","v":" Ex: 27.04"},"2025-01-01","2025-12-31","utr:t",2,0,null,null,null,null,null,null,null,null,null,null,null,null,null,null,null,null,null,null,{"$f":"ROW(INDIRECT(MID(_xlfn.FORMULATEXT(C266),2,LEN(_xlfn.FORMULATEXT(C266)))))","v":245},"S.24 Generation of hazardous waste","Total amount of hazardous waste generated for the validation of transactions and the maintenance of the integrity of the distributed ledger per calendar year","mass (tonnes)","",""]
[{"$f":"IF(Table3!E246=\"\",\"/*\",\"\")","v":""},"mica:GenerationOfWasteAllTypes",{"$f":"Table3!E246","v":" Ex: 27.04"},"2025-01-01","2025-12-31","utr:t",2,0,null,null,null,null,null,null,null,null,null,null,null,null,null,null,null,null,null,null,{"$f":"ROW(INDIRECT(MID(_xlfn.FORMULATEXT(C267),2,LEN(_xlfn.FORMULATEXT(C267)))))","v":246},"S.25 Generation of waste (all types)","Total amount of waste generated by the validation of transactions and the maintenance of the integrity of the distributed ledger","mass (tonnes)","",""]
[{"$f":"IF(Table3!E247=\"\",\"/*\",\"\")","v":""},"mica:NonrecycledWasteRatioAllTypes",{"$f":"Table3!E247","v":" Ex: 27.1018%"},"2025-01-01","2025-12-31","xbrli:pure",4,-2,null,null,null,null,null,null,null,null,null,null,null,null,null,null,null,null,null,null,{"$f":"ROW(INDIRECT(MID(_xlfn.FORMULATEXT(C268),2,LEN(_xlfn.FORMULATEXT(C268)))))","v":247},"S.26 Non-recycled waste ratio (all types)","Share of the total amount of waste generated for the validation of transactions and the maintenance of the integrity of the distributed ledger not recycled per calendar year","percent","",""]
[{"$f":"IF(Table3!E248=\"\",\"/*\",\"\")","v":""},"mica:WasteIntensityAllTypes",{"$f":"Table3!E248","v":" Ex: 27.04"},"2025-01-01","2025-12-31","utr:t",2,0,null,null,null,null,null,null,null,null,null,null,null,null,null,null,null,null,null,null,{"$f":"ROW(INDIRECT(MID(_xlfn.FORMULATEXT(C269),2,LEN(_xlfn.FORMULATEXT(C269)))))","v":248},"S.27 Waste intensity (all types)","Total amount of waste generated per transaction validated","mass (tonnes)","",""]
[{"$f":"IF(Table3!E249=\"\",\"/*\",\"\")","v":""},"mica:WasteReductionTargetsOrCommitmentsAllTypesExplanatory",{"$f":"Table3!E249","v":" Ex: Here is a sample text... (textBlock format)"},"2025-01-01","2025-12-31",null,null,null,null,null,null,null,null,null,null,null,null,null,null,null,null,null,null,null,null,null,{"$f":"ROW(INDIRECT(MID(_xlfn.FORMULATEXT(C270),2,LEN(_xlfn.FORMULATEXT(C270)))))","v":249},"S.28 Waste reduction targets or commitments (all types)","Waste reduction targets or commitments, expressed in absolute or relative reduction in waste generation over one calendar year","textBlock","",""]
[{"$f":"IF(Table3!E250=\"\",\"/*\",\"\")","v":""},"mica:ImpactOfUseOfEquipmentOnNaturalResourcesExplanatory",{"$f":"Table3!E250","v":" Ex: Here is a sample text... (textBlock format)"},"2025-01-01","2025-12-31",null,null,null,null,null,null,null,null,null,null,null,null,null,null,null,null,null,null,null,null,null,{"$f":"ROW(INDIRECT(MID(_xlfn.FORMULATEXT(C271),2,LEN(_xlfn.FORMULATEXT(C271)))))","v":250},"S.29 Impact of use of equipment on natural resources","Description of the impact on natural resources of the production, the use and the disposal of the devices of the DLT network nodes","textBlock","",""]
[{"$f":"IF(Table3!E251=\"\",\"/*\",\"\")","v":""},"mica:NaturalResourcesUseReductionTargetsOrCommitmentsExplanatory",{"$f":"Table3!E251","v":" Ex: Here is a sample text... (textBlock format)"},"2025-01-01","2025-12-31",null,null,null,null,null,null,null,null,null,null,null,null,null,null,null,null,null,null,null,null,null,{"$f":"ROW(INDIRECT(MID(_xlfn.FORMULATEXT(C272),2,LEN(_xlfn.FORMULATEXT(C272)))))","v":251},"S.30 Natural resources use reduction targets or commitments","Natural resources use reduction targets or commitments, expressed in absolute or relative reduction in use of natural resources over one calendar year","textBlock","",""]
[{"$f":"IF(Table3!E252=\"\",\"/*\",\"\")","v":""},"mica:WaterUse",{"$f":"Table3!E252","v":" Ex: 27.04"},"2025-01-01","2025-12-31","utr:m3",4,0,null,null,null,null,null,null,null,null,null,null,null,null,null,null,null,null,null,null,{"$f":"ROW(INDIRECT(MID(_xlfn.FORMULATEXT(C273),2,LEN(_xlfn.FORMULATEXT(C273)))))","v":252},"S.31 Water use","Total water consumption linked to the validation of transactions and the maintenance of the integrity of the distributed ledger, expressed in cubic meters","volume (m3)","",""]
[{"$f":"IF(Table3!E253=\"\",\"/*\",\"\")","v":""},"mica:NonRecycledWaterRatio",{"$f":"Table3!E253","v":" Ex: 27.1018%"},"2025-01-01","2025-12-31","xbrli:pure",4,-2,null,null,null,null,null,null,null,null,null,null,null,null,null,null,null,null,null,null,{"$f":"ROW(INDIRECT(MID(_xlfn.FORMULATEXT(C274),2,LEN(_xlfn.FORMULATEXT(C274)))))","v":253},"S.32 Non recycled water ratio","Share of the total water consumed not recycled and not reused linked to the validation of transactions and the maintenance of the integrity of the distributed ledger per calendar year, expressed as a percentage","percent","",""]
[{"$f":"IF(Table3!E254=\"\",\"/*\",\"\")","v":"/*"},"mica:OtherSourcesAndMethodologiesAbstract",{"$f":"Table3!E254","v":0},"2025-01-01","2025-12-31",null,null,null,null,null,null,null,null,null,null,null,null,null,null,null,null,null,null,null,null,null,{"$f":"ROW(INDIRECT(MID(_xlfn.FORMULATEXT(C275),2,LEN(_xlfn.FORMULATEXT(C275)))))","v":254},"Sources and methodologies","","","",""]
[{"$f":"IF(Table3!E255=\"\",\"/*\",\"\")","v":""},"mica:OtherEnergySourcesAndMethodologiesExplanatory",{"$f":"Table3!E255","v":" Ex: Here is a sample text... (textBlock format)"},"2025-01-01","2025-12-31",null,null,null,null,null,null,null,null,null,null,null,null,null,null,null,null,null,null,null,null,null,{"$f":"ROW(INDIRECT(MID(_xlfn.FORMULATEXT(C276),2,LEN(_xlfn.FORMULATEXT(C276)))))","v":255},"S.33 Other energy sources and methodologies","Sources and methodologies used in relation to the information reported in fields S.17 and S.18","textBlock","",""]
[{"$f":"IF(Table3!E256=\"\",\"/*\",\"\")","v":""},"mica:OtherGHGSourcesAndMethodologiesExplanatory",{"$f":"Table3!E256","v":" Ex: Here is a sample text... (textBlock format)"},"2025-01-01","2025-12-31",null,null,null,null,null,null,null,null,null,null,null,null,null,null,null,null,null,null,null,null,null,{"$f":"ROW(INDIRECT(MID(_xlfn.FORMULATEXT(C277),2,LEN(_xlfn.FORMULATEXT(C277)))))","v":256},"S.34 Other GHG sources and methodologies","Sources and methodologies used in relation to the information reported in fields S.19, S.20 and S.21","textBlock","",""]
[{"$f":"IF(Table3!E257=\"\",\"/*\",\"\")","v":""},"mica:WasteSourcesAndMethodologiesExplanatory",{"$f":"Table3!E257","v":" Ex: Here is a sample text... (textBlock format)"},"2025-01-01","2025-12-31",null,null,null,null,null,null,null,null,null,null,null,null,null,null,null,null,null,null,null,null,null,{"$f":"ROW(INDIRECT(MID(_xlfn.FORMULATEXT(C278),2,LEN(_xlfn.FORMULATEXT(C278)))))","v":257},"S.35 Waste sources and methodologies","Sources and methodologies used in relation to the information reported in fields S.22, S.23, S.24, S.25, S.26, S.27 and S.28","textBlock","",""]
[{"$f":"IF(Table3!E258=\"\",\"/*\",\"\")","v":""},"mica:NaturalResourcesSourcesAndMethodologiesExplanatory",{"$f":"Table3!E258","v":" Ex: Here is a sample text... (textBlock format)"},"2025-01-01","2025-12-31",null,null,null,null,null,null,null,null,null,null,null,null,null,null,null,null,null,null,null,null,null,{"$f":"ROW(INDIRECT(MID(_xlfn.FORMULATEXT(C279),2,LEN(_xlfn.FORMULATEXT(C279)))))","v":258},"S.36 Natural resources sources and methodologies","Sources and methodologies used in relation to the information reported in fields S.29, S.30, S.31 and S.32","textBlock","",""]

{"sheet":"data_T4","index":27,"n_rows":231,"n_cols":32,"rows_kept":231,"cut":false,"hidden":true,"merged":[[27,30,27,31]]}
[]
[]
[]
[]
[]
["Skip","Qname","Fact","PeriodInit","PeriodEnd","UnitRef","Decimals","Scale","Dimension","DimensionMember","Dimension","DimensionMember","Dimension","DimensionMember","Dimension","DimensionMember","Dimension","DimensionMember","Dimension","DimensionMember","Dimension","DimensionMember","DimensionMember"]
["/*"]
["/**Entity",null,"999999A9AA99AAAAAA99"]
["/**Schema",null,"http://standards.iso.org/iso/17442"]
["/* "]
["/**Xmlns",null,"xmlns=\"http://www.w3.org/1999/xhtml\""]
["/**Xmlns",null,"xmlns:xbrli=\"http://www.xbrl.org/2003/instance\""]
["/**Xmlns",null,"xmlns:iso4217=\"http://www.xbrl.org/2003/iso4217\""]
["/**Xmlns",null,"xmlns:xbrldi=\"http://xbrl.org/2006/xbrldi\""]
["/**Xmlns",null,"xmlns:link=\"http://www.xbrl.org/2003/linkbase\""]
["/**Xmlns",null,"xmlns:xlink=\"http://www.w3.org/1999/xlink\""]
["/**Xmlns",null,"xmlns:ix=\"http://www.xbrl.org/2013/inlineXBRL\""]
["/**Xmlns",null,"xmlns:mica=\"https://www.esma.europa.eu/taxonomy/2025-03-31/mica/\""]
["/**Xmlns",null,"xmlns:ixt4=\"http://www.xbrl.org/inlineXBRL/transformation/2020-02-12\""]
["/**Xmlns",null,"xmlns:utr=\"http://www.xbrl.org/2009/utr\""]
["/**Xmlns",null,"xml:lang=\"en\""]
["/**Href",null,"https://www.esma.europa.eu/taxonomy/mica/2025-03-31/mica_entry_table_4.xsd"]
["/**Options",null,"iXBRL"]
["/**ClearArea",null,"Index!$E$1:$G$12"]
[{"$f":"IF(C25=\"\",\"/*\",\"\")","v":"/*"}]
[{"$f":"IF(C26=\"\",\"/*\",\"\")","v":"/*"}]
[{"$f":"IF(C27=\"\",\"/*\",\"\")","v":"/*"}]
["/*","QNAME","FACT","PeriodInit","PeriodEnd","UnitRef","Decimals","Scale","Dimension 1","Dimension member 1","Dimension 2","Dimension member 2","Dimension 3","Dimension member 3",null,null,null,null,null,null,null,null,null,null,null,null,null,null,null,null,"DATA CHECKS \n(Taxonomy)"]
["/*","Table 4",null,null,null,null,null,null,null,null,null,null,null,null,null,null,null,null,null,null,null,null,null,null,null,null,"Line in Table sheet","No FIELD","CONTENT TO BE REPORTED","FIELD FORMAT\n(Taxo)","Severity","Formula"]
[{"$f":"IF(Table4!E5=\"\",\"/*\",\"\")","v":"/*"},"mica:DisclosureTemplateForWhitePapersForEmoneyTokensAbstract",{"$f":"Table4!E5","v":0},"2025-01-01","2025-12-31",null,null,null,null,null,null,null,null,null,null,null,null,null,null,null,null,null,null,null,null,null,{"$f":"ROW(INDIRECT(MID(_xlfn.FORMULATEXT(C30),2,LEN(_xlfn.FORMULATEXT(C30)))))","v":5},"Template for white papers for e-money tokens [abstract]","","","",""]
[{"$f":"IF(Table4!E6=\"\",\"/*\",\"\")","v":"/*"},"mica:GeneralInformationAboutEmoneyTokensAbstract",{"$f":"Table4!E6","v":0},"2025-01-01","2025-12-31",null,null,null,null,null,null,null,null,null,null,null,null,null,null,null,null,null,null,null,null,null,{"$f":"ROW(INDIRECT(MID(_xlfn.FORMULATEXT(C31),2,LEN(_xlfn.FORMULATEXT(C31)))))","v":6},"General information","","","",""]
[{"$f":"IF(Table4!E7=\"\",\"/*\",\"\")","v":""},"mica:TableOfContentForEmoneyTokenWhitePaper",{"$f":"Table4!E7","v":"true"},"2025-01-01","2025-12-31","true",null,null,null,null,null,null,null,null,null,null,null,null,null,null,null,null,null,null,null,null,{"$f":"ROW(INDIRECT(MID(_xlfn.FORMULATEXT(C32),2,LEN(_xlfn.FORMULATEXT(C32)))))","v":7},"I.00 Table of content","Table of contents","boolean true","error","The value of \"I.00 Table of content\" must be provided."]
[{"$f":"IF(Table4!E8=\"\",\"/*\",\"\")","v":"/*"},"mica:DateOfNotificationForEmoneyTokenWhitePaper",{"$f":"Table4!E8","v":""},null,"2025-12-31",null,null,null,null,null,null,null,null,null,null,null,null,null,null,null,null,null,null,null,null,null,{"$f":"ROW(INDIRECT(MID(_xlfn.FORMULATEXT(C33),2,LEN(_xlfn.FORMULATEXT(C33)))))","v":8},"I.01 Date of notification","Date of notification","date","error","The value of \"I.01 Date of notification\" must be provided."]
[{"$f":"IF(Table4!E9=\"\",\"/*\",\"\")","v":""},"mica:StatementOnIssuerResponsibilityForWhitePaperContent",{"$f":"Table4!E9","v":"This crypto-asset white paper has not been approved by any competent authority in any Member State of the European Union. The issuer of the crypto-asset is solely responsible for the content of this crypto-asset white paper."},"2025-01-01","2025-12-31","true",null,null,null,null,null,null,null,null,null,null,null,null,null,null,null,null,null,null,null,null,{"$f":"ROW(INDIRECT(MID(_xlfn.FORMULATEXT(C34),2,LEN(_xlfn.FORMULATEXT(C34)))))","v":9},"I.02 Statement in accordance with Article 51(3) of Regulation (EU) 2023/1114","‘This crypto-asset white paper has not been approved by any competent authority in any Member State of the European Union. The issuer of the crypto-asset is solely responsible for the content of this crypto-asset white paper.’","boolean true","error","The value of \"I.02 Statement in accordance with Article 51(3) of Regulation (EU) 2023/1114\" must be provided."]
[{"$f":"IF(Table4!E10=\"\",\"/*\",\"\")","v":""},"mica:ComplianceStatementOnInformationAccuracy",{"$f":"Table4!E10","v":"This crypto-asset white paper complies with Title IV of Regulation (EU) 2023/1114 of the European Parliament and of the Council and to the best of the knowledge of the management body, the information presented in this crypto-asset white paper is fair, clear and not misleading and the crypto-asset white paper makes no omission likely to affect its import."},"2025-01-01","2025-12-31","true",null,null,null,null,null,null,null,null,null,null,null,null,null,null,null,null,null,null,null,null,{"$f":"ROW(INDIRECT(MID(_xlfn.FORMULATEXT(C35),2,LEN(_xlfn.FORMULATEXT(C35)))))","v":10},"I.03 Compliance statement in accordance with Article 51(5) of Regulation (EU) 2023/1114","‘This crypto-asset white paper complies with Title IV of Regulation (EU) 2023/1114 of the European Parliament and of the Council and to the best of the knowledge of the management body, the information presented in this crypto-asset white paper is fair, clear and not misleading and the crypto-asset white paper makes no omission likely to affect its import.’","boolean true","error","The value of \"I.03 Compliance statement in accordance with Article 51(5) of Regulation (EU) 2023/1114\" must be provided."]
[{"$f":"IF(Table4!E11=\"\",\"/*\",\"\")","v":""},"mica:WarningOnSummaryLimitationsAndOfferConditionsForEmoneyTokenWhitePaper",{"$f":"Table4!E11","v":"This e-money token is not covered by the investor compensation schemes under Directive 97/9/EC of the European Parliament and of the Council or the deposit guarantee schemes under Directive 2014/49/EU of the European Parliament and of the Council."},"2025-01-01","2025-12-31","true",null,null,null,null,null,null,null,null,null,null,null,null,null,null,null,null,null,null,null,null,{"$f":"ROW(INDIRECT(MID(_xlfn.FORMULATEXT(C36),2,LEN(_xlfn.FORMULATEXT(C36)))))","v":11},"I.04 Warning in accordance with Article 51(4), points (a) and (b), of Regulation (EU) 2023/1114","‘This e-money token is not covered by the investor compensation schemes under Directive 97/9/EC of the European Parliament and of the Council or the deposit guarantee schemes under Directive 2014/49/EU of the European Parliament and of the Council.’","boolean true","error","The value of \"I.04 Warning in accordance with Article 51(4), points (a) and (b), of Regulation (EU) 2023/1114\" must be provided."]
[{"$f":"IF(Table4!E12=\"\",\"/*\",\"\")","v":"/*"},"mica:EmoneyTokenOfferSummaryAbstract",{"$f":"Table4!E12","v":0},"2025-01-01","2025-12-31",null,null,null,null,null,null,null,null,null,null,null,null,null,null,null,null,null,null,null,null,null,{"$f":"ROW(INDIRECT(MID(_xlfn.FORMULATEXT(C37),2,LEN(_xlfn.FORMULATEXT(C37)))))","v":12},"SUMMARY","","","",""]
[{"$f":"IF(Table4!E13=\"\",\"/*\",\"\")","v":""},"mica:ClarificationRegardingEmoneyTokenOfferTerms",{"$f":"Table4!E13","v":"Warning\n\nThis summary should be read as an introduction to the crypto-asset white paper.\n\nThe prospective holder should base any decision to purchase this e-money token on the content of the crypto-asset white paper as a whole and not on the summary alone.\n\nThe offer to the public of this crypto-asset does not constitute an offer or solicitation to purchase financial instruments and that any such offer or solicitation can be made only by means of a prospectus or other offer documents pursuant to the applicable national law.\n\nThis crypto-asset white paper does not constitute a prospectus as referred to in Regulation (EU) 2017/1129 of the European Parliament and of the Council or any other offer document pursuant to Union or national law."},"2025-01-01","2025-12-31","true",null,null,null,null,null,null,null,null,null,null,null,null,null,null,null,null,null,null,null,null,{"$f":"ROW(INDIRECT(MID(_xlfn.FORMULATEXT(C38),2,LEN(_xlfn.FORMULATEXT(C38)))))","v":13},"I.05 Warning in accordance with Article 51(6), second subparagraph of Regulation (EU) 2023/1114","‘Warning\r\nThis summary should be read as an introduction to the crypto-asset white paper.\r\nThe prospective holder should base any decision to purchase this e-money token on the content of the crypto-asset white paper as a whole and not on the summary alone.\r\nThe offer to the public of this crypto-asset does not constitute an offer or solicitation to purchase financial instruments and that any such offer or solicitation can be made only by means of a prospectus or other offer documents pursuant to the applicable national law.\r\nThis crypto-asset white paper does not constitute a prospectus as referred to in Regulation (EU) 2017/1129 of the European Parliament and of the Council or any other offer document pursuant to Union or national law.’","boolean true","error","The value of \"I.05 Warning in accordance with Article 51(6), second subparagraph of Regulation (EU) 2023/1114\" must be provided."]
[{"$f":"IF(Table4!E14=\"\",\"/*\",\"\")","v":"/*"},"mica:CharacteristicsOfEmoneyTokenExplanatory",{"$f":"Table4!E14","v":""},"2025-01-01","2025-12-31",null,null,null,null,null,null,null,null,null,null,null,null,null,null,null,null,null,null,null,null,null,{"$f":"ROW(INDIRECT(MID(_xlfn.FORMULATEXT(C39),2,LEN(_xlfn.FORMULATEXT(C39)))))","v":14},"I.06 Characteristics of the crypto-asset","A brief, clear and non-technical description of the characteristics of the crypto-assets concerned in order to help prospective holders of the crypto-asset make an informed decision","textBlock","error","The value of \"I.06 Characteristics of the crypto-asset\" must be provided."]
[{"$f":"IF(Table4!E15=\"\",\"/*\",\"\")","v":"/*"},"mica:RightOfRedemptionForEmoneyTokenWhitePaperExplanatory",{"$f":"Table4!E15","v":""},"2025-01-01","2025-12-31",null,null,null,null,null,null,null,null,null,null,null,null,null,null,null,null,null,null,null,null,null,{"$f":"ROW(INDIRECT(MID(_xlfn.FORMULATEXT(C40),2,LEN(_xlfn.FORMULATEXT(C40)))))","v":15},"I.07 Right of redemption","‘The holders of this e-money token have a right of redemption at any time and at par value.’\r\nDescription of the conditions for such redemption.","textBlock","error","The value of \"I.07 Right of redemption\" must be provided."]
[{"$f":"IF(Table4!E16=\"\",\"/*\",\"\")","v":"/*"},"mica:KeyInformationAboutOfferToPublicAndOrAdmissionToTradingForEmoneyTokenWhitePaperExplanatory",{"$f":"Table4!E16","v":""},"2025-01-01","2025-12-31",null,null,null,null,null,null,null,null,null,null,null,null,null,null,null,null,null,null,null,null,null,{"$f":"ROW(INDIRECT(MID(_xlfn.FORMULATEXT(C41),2,LEN(_xlfn.FORMULATEXT(C41)))))","v":16},"I.08 Key information about the offer and/ or admission to trading","Key information about the offer to the public of the e-money token or the intended admission to trading of such e-money token.","textBlock","error","The value of \"I.08 Key information about offer to public and or admission to trading\" must be provided."]
[{"$f":"IF(Table4!E156=\"\",\"/*\",\"\")","v":"/*"},"mica:InformationOnRisksForEmoneyTokenAbstract",{"$f":"Table4!E156","v":0},"2025-01-01","2025-12-31",null,null,null,null,null,null,null,null,null,null,null,null,null,null,null,null,null,null,null,null,null,{"$f":"ROW(INDIRECT(MID(_xlfn.FORMULATEXT(C42),2,LEN(_xlfn.FORMULATEXT(C42)))))","v":156},"Part F - Information on the risks","","","",""]
[{"$f":"IF(Table4!E157=\"\",\"/*\",\"\")","v":"/*"},"mica:InformationAboutIssuerrelatedRisksExplanatory",{"$f":"Table4!E157","v":""},"2025-01-01","2025-12-31",null,null,null,null,null,null,null,null,null,null,null,null,null,null,null,null,null,null,null,null,null,{"$f":"ROW(INDIRECT(MID(_xlfn.FORMULATEXT(C43),2,LEN(_xlfn.FORMULATEXT(C43)))))","v":157},"F.1 Issuer-related risks","A description of the risks associated with the issuer of the e-money token","textBlock","error","The value of \"F.1 Issuer-related risks\" must be provided."]
[{"$f":"IF(Table4!E158=\"\",\"/*\",\"\")","v":"/*"},"mica:InformationAboutTokenrelatedRisksExplanatory",{"$f":"Table4!E158","v":""},"2025-01-01","2025-12-31",null,null,null,null,null,null,null,null,null,null,null,null,null,null,null,null,null,null,null,null,null,{"$f":"ROW(INDIRECT(MID(_xlfn.FORMULATEXT(C44),2,LEN(_xlfn.FORMULATEXT(C44)))))","v":158},"F.2 Token-related risks","A description of the risks associated with the e-money token","textBlock","error","The value of \"F.2 Token-related risks\" must be provided."]
[{"$f":"IF(Table4!E159=\"\",\"/*\",\"\")","v":"/*"},"mica:InformationAboutTechnologyrelatedRisksExplanatory",{"$f":"Table4!E159","v":""},"2025-01-01","2025-12-31",null,null,null,null,null,null,null,null,null,null,null,null,null,null,null,null,null,null,null,null,null,{"$f":"ROW(INDIRECT(MID(_xlfn.FORMULATEXT(C45),2,LEN(_xlfn.FORMULATEXT(C45)))))","v":159},"F.3 Technology-related risks","Description of the risks associated with the technology used","textBlock","error","The value of \"F.3 Technology-related risks\" must be provided."]
[{"$f":"IF(Table4!E160=\"\",\"/*\",\"\")","v":"/*"},"mica:InformationAboutMitigationMeasuresForTechnologyRiskForEmoneyTokenExplanatory",{"$f":"Table4!E160","v":""},"2025-01-01","2025-12-31",null,null,null,null,null,null,null,null,null,null,null,null,null,null,null,null,null,null,null,null,null,{"$f":"ROW(INDIRECT(MID(_xlfn.FORMULATEXT(C46),2,LEN(_xlfn.FORMULATEXT(C46)))))","v":160},"F.4 Mitigation measures","Mitigation measures of the risks associated with the technology used, if any","textBlock","",""]
[{"$f":"IF(Table4!E17=\"\",\"/*\",\"\")","v":"/*"},"mica:InformationAboutIssuerOfEmoneyTokenAbstract",{"$f":"Table4!E17","v":0},"2025-01-01","2025-12-31",null,null,null,null,null,null,null,null,null,null,null,null,null,null,null,null,null,null,null,null,null,{"$f":"ROW(INDIRECT(MID(_xlfn.FORMULATEXT(C47),2,LEN(_xlfn.FORMULATEXT(C47)))))","v":17},"Part A - Information about the issuer of the e-money token","","","",""]
[{"$f":"IF(Table4!E18=\"\",\"/*\",\"\")","v":"/*"},"mica:EmoneyTokenIssuersStatutoryName",{"$f":"Table4!E18","v":""},"2025-01-01","2025-12-31",null,null,null,null,null,null,null,null,null,null,null,null,null,null,null,null,null,null,null,null,null,{"$f":"ROW(INDIRECT(MID(_xlfn.FORMULATEXT(C48),2,LEN(_xlfn.FORMULATEXT(C48)))))","v":18},"A.1 Statutory name","Statutory Name","text","error","The value of \"A.1 Statutory name\" must be provided."]
[{"$f":"IF(Table4!E19=\"\",\"/*\",\"\")","v":"/*"},"mica:EmoneyTokenIssuersTradingName",{"$f":"Table4!E19","v":""},"2025-01-01","2025-12-31",null,null,null,null,null,null,null,null,null,null,null,null,null,null,null,null,null,null,null,null,null,{"$f":"ROW(INDIRECT(MID(_xlfn.FORMULATEXT(C49),2,LEN(_xlfn.FORMULATEXT(C49)))))","v":19},"A.2 Trading name","Trading Name","text","error","The value of \"A.2 Trading name\" must be provided."]
[{"$f":"IF(Table4!E20=\"\",\"/*\",\"\")","v":"/*"},"mica:EmoneyTokenIssuersLegalForm",{"$f":"Table4!E20","v":""},"2025-01-01","2025-12-31",null,null,null,null,null,null,null,null,null,null,null,null,null,null,null,null,null,null,null,null,null,{"$f":"ROW(INDIRECT(MID(_xlfn.FORMULATEXT(C50),2,LEN(_xlfn.FORMULATEXT(C50)))))","v":20},"A.3 Legal form","Fill in the field only if LEI is not provided in field A.7. Legal form","text","error","If \"A.7 Legal entity identifier\" is not provided with a fact value, then \"A.3 Legal form\" must be reported."]
[{"$f":"IF(Table4!E21=\"\",\"/*\",\"\")","v":"/*"},"mica:EmoneyTokenIssuersRegisteredAddressDetailsAbstract",{"$f":"Table4!E21","v":0},"2025-01-01","2025-12-31",null,null,null,null,null,null,null,null,null,null,null,null,null,null,null,null,null,null,null,null,null,{"$f":"ROW(INDIRECT(MID(_xlfn.FORMULATEXT(C51),2,LEN(_xlfn.FORMULATEXT(C51)))))","v":21},"A.4 Registered address","Fill in the field only if LEI is not provided in field A.7. Address and country of registration","","error\r\nerror\r\nerror","If \"A.7 Legal entity identifier\" is not provided with a fact value, then \"A.4 Registered address\" must be reported.\r\nIf \"A.7 Legal entity identifier\" is not provided with a fact value, then \"A.4 Registered address country\" must be reported.\r\nIf \"A.7 Legal entity identifier\" is not provided with a fact value, then \"A.4 Registered address sub-division\" must be reported."]
[{"$f":"IF(Table4!E22=\"\",\"/*\",\"\")","v":"/*"},"mica:EmoneyTokenIssuersRegisteredAddress",{"$f":"Table4!E22","v":""},"2025-01-01","2025-12-31",null,null,null,null,null,null,null,null,null,null,null,null,null,null,null,null,null,null,null,null,null,{"$f":"ROW(INDIRECT(MID(_xlfn.FORMULATEXT(C52),2,LEN(_xlfn.FORMULATEXT(C52)))))","v":22},"Registered addess","","text","",""]
[{"$f":"IF(Table4!E23=\"\",\"/*\",\"\")","v":"/*"},"mica:EmoneyTokenIssuersRegisteredCountry",{"$f":"Table4!E23","v":0},"2025-01-01","2025-12-31",null,null,null,null,null,null,null,null,null,null,null,null,null,null,null,null,null,null,null,null,null,{"$f":"ROW(INDIRECT(MID(_xlfn.FORMULATEXT(C53),2,LEN(_xlfn.FORMULATEXT(C53)))))","v":23},"Country","","enumeration","",""]
[{"$f":"IF(Table4!E24=\"\",\"/*\",\"\")","v":"/*"},"mica:EmoneyTokenIssuersRegisteredCountrySubdivision",{"$f":"Table4!E24","v":""},"2025-01-01","2025-12-31",null,null,null,null,null,null,null,null,null,null,null,null,null,null,null,null,null,null,null,null,null,{"$f":"ROW(INDIRECT(MID(_xlfn.FORMULATEXT(C54),2,LEN(_xlfn.FORMULATEXT(C54)))))","v":24},"Sub-division","","text","",""]
[{"$f":"IF(Table4!E25=\"\",\"/*\",\"\")","v":"/*"},"mica:EmoneyTokenIssuersHeadOfficeDetailsAbstract",{"$f":"Table4!E25","v":0},"2025-01-01","2025-12-31",null,null,null,null,null,null,null,null,null,null,null,null,null,null,null,null,null,null,null,null,null,{"$f":"ROW(INDIRECT(MID(_xlfn.FORMULATEXT(C55),2,LEN(_xlfn.FORMULATEXT(C55)))))","v":25},"A.5 Head office","Fill in the field only if LEI is not provided in field A.7. Address and country of the Head office, where different than registered address","","error\r\nerror\r\nerror","If \"A.7 Legal entity identifier\" is not provided with a fact value, then \"A.5 Head office\" must be reported.\r\nIf \"A.7 Legal entity identifier\" is not provided with a fact value, then \"A.5 Head office country\" must be reported.\r\nIf \"A.7 Legal entity identifier\" is not provided with a fact value, then \"A.5 Head office sub-division\" must be reported."]
[{"$f":"IF(Table4!E26=\"\",\"/*\",\"\")","v":"/*"},"mica:EmoneyTokenIssuersHeadOffice",{"$f":"Table4!E26","v":""},"2025-01-01","2025-12-31",null,null,null,null,null,null,null,null,null,null,null,null,null,null,null,null,null,null,null,null,null,{"$f":"ROW(INDIRECT(MID(_xlfn.FORMULATEXT(C56),2,LEN(_xlfn.FORMULATEXT(C56)))))","v":26},"Head office","","text","",""]
[{"$f":"IF(Table4!E27=\"\",\"/*\",\"\")","v":"/*"},"mica:EmoneyTokenIssuersHeadOfficeCountry",{"$f":"Table4!E27","v":0},"2025-01-01","2025-12-31",null,null,null,null,null,null,null,null,null,null,null,null,null,null,null,null,null,null,null,null,null,{"$f":"ROW(INDIRECT(MID(_xlfn.FORMULATEXT(C57),2,LEN(_xlfn.FORMULATEXT(C57)))))","v":27},"Country","","enumeration","",""]
[{"$f":"IF(Table4!E28=\"\",\"/*\",\"\")","v":"/*"},"mica:EmoneyTokenIssuersHeadOfficeCountrySubdivision",{"$f":"Table4!E28","v":""},"2025-01-01","2025-12-31",null,null,null,null,null,null,null,null,null,null,null,null,null,null,null,null,null,null,null,null,null,{"$f":"ROW(INDIRECT(MID(_xlfn.FORMULATEXT(C58),2,LEN(_xlfn.FORMULATEXT(C58)))))","v":28},"Sub-division","","text","",""]
[{"$f":"IF(Table4!E29=\"\",\"/*\",\"\")","v":"/*"},"mica:EmoneyTokenIssuersRegistrationDate",{"$f":"Table4!E29","v":""},"2025-01-01","2025-12-31",null,null,null,null,null,null,null,null,null,null,null,null,null,null,null,null,null,null,null,null,null,{"$f":"ROW(INDIRECT(MID(_xlfn.FORMULATEXT(C59),2,LEN(_xlfn.FORMULATEXT(C59)))))","v":29},"A.6 Registration date","Date of the registration","date","error","The value of \"A.6 Registration date\" must be provided."]
[{"$f":"IF(Table4!E30=\"\",\"/*\",\"\")","v":"/*"},"mica:EmoneyTokenIssuersLegalEntityIdentifier",{"$f":"Table4!E30","v":0},"2025-01-01","2025-12-31",null,null,null,null,null,null,null,null,null,null,null,null,null,null,null,null,null,null,null,null,null,{"$f":"ROW(INDIRECT(MID(_xlfn.FORMULATEXT(C60),2,LEN(_xlfn.FORMULATEXT(C60)))))","v":30},"A.7 Legal entity identifier","Legal entity identifier of the issuer, where available","LEI","error","If \"A.8 Other identifier required pursuant to applicable national law\" is not provided with a fact value, then \"A.7 Legal entity identifier\" must be reported."]
[{"$f":"IF(Table4!E31=\"\",\"/*\",\"\")","v":"/*"},"mica:EmoneyTokenIssuersAnotherIdentifierRequiredPursuantToApplicableLaw",{"$f":"Table4!E31","v":""},"2025-01-01","2025-12-31",null,null,null,null,null,null,null,null,null,null,null,null,null,null,null,null,null,null,null,null,null,{"$f":"ROW(INDIRECT(MID(_xlfn.FORMULATEXT(C61),2,LEN(_xlfn.FORMULATEXT(C61)))))","v":31},"A.8 Another identifier required pursuant to applicable law","National identifier based on the nationality of the issuer, if required under the applicable national law.\r\nThis field only applies to entities for which a national identifier is required under applicable national law.","text","error","If \"A.7 Legal entity identifier\" is not provided with a fact value, then \"A.8 Other identifier required pursuant to applicable national law\" must be reported."]
[{"$f":"IF(Table4!E32=\"\",\"/*\",\"\")","v":"/*"},"mica:EmoneyTokenIssuersContactNumber",{"$f":"Table4!E32","v":""},"2025-01-01","2025-12-31",null,null,null,null,null,null,null,null,null,null,null,null,null,null,null,null,null,null,null,null,null,{"$f":"ROW(INDIRECT(MID(_xlfn.FORMULATEXT(C62),2,LEN(_xlfn.FORMULATEXT(C62)))))","v":32},"A.9 Contact telephone number","Contact telephone number of the issuer","text","warning","The value of \"A.9 Contact telephone number\" should be reported."]
[{"$f":"IF(Table4!E33=\"\",\"/*\",\"\")","v":"/*"},"mica:EmoneyTokenIssuersEmailAddress",{"$f":"Table4!E33","v":""},"2025-01-01","2025-12-31",null,null,null,null,null,null,null,null,null,null,null,null,null,null,null,null,null,null,null,null,null,{"$f":"ROW(INDIRECT(MID(_xlfn.FORMULATEXT(C63),2,LEN(_xlfn.FORMULATEXT(C63)))))","v":33},"A.10 E-mail address","E-mail address of the issuer","text","warning","The value of \"A.10 E-mail address\" should be reported."]
[{"$f":"IF(Table4!E34=\"\",\"/*\",\"\")","v":"/*"},"mica:EmoneyTokenIssuersResponseTimeDays",{"$f":"Table4!E34","v":""},"2025-01-01","2025-12-31","xbrli:pure","0","0",null,null,null,null,null,null,null,null,null,null,null,null,null,null,null,null,null,null,{"$f":"ROW(INDIRECT(MID(_xlfn.FORMULATEXT(C64),2,LEN(_xlfn.FORMULATEXT(C64)))))","v":34},"A.11 Response time (days)","Period of days within which an investor via that telephone number or email address will receive an answer","integer","error\r\nerror","The value of \"A.11 Response time (days)\" must be provided.\r\nThe fact value of \"A.11 Response time (days)\" must be an integer number bewteen 0 and 999."]
[{"$f":"IF(Table4!E35=\"\",\"/*\",\"\")","v":"/*"},"mica:IdentificationOfEmoneyTokenIssuersParentCompany",{"$f":"Table4!E35","v":""},"2025-01-01","2025-12-31",null,null,null,null,null,null,null,null,null,null,null,null,null,null,null,null,null,null,null,null,null,{"$f":"ROW(INDIRECT(MID(_xlfn.FORMULATEXT(C65),2,LEN(_xlfn.FORMULATEXT(C65)))))","v":35},"A.12 Parent company","Fill in the field only if an LEI is not provided in field A.7. Where applicable, the name of the parent company","text","error\r\nwarning","If \"A.7 Legal entity identifier\" is not provided with a fact value, then \"A.12 Parent company\" must be reported.\r\nIf \"A.12 Parent company\" is provided with fact value, \"A.15 Parent company business activity\" should also be provided with fact value."]
[{"$f":"IF(Table4!E36=\"\",\"/*\",\"\")","v":"/*"},"mica:MembersOfEmoneyTokenIssuersManagementBodyExplanatory",{"$f":"Table4!E36","v":0},"2025-01-01","2025-12-31",null,null,null,null,null,null,null,null,null,null,null,null,null,null,null,null,null,null,null,null,null,{"$f":"ROW(INDIRECT(MID(_xlfn.FORMULATEXT(C66),2,LEN(_xlfn.FORMULATEXT(C66)))))","v":36},"A.13 Members of the management body","Identity, business address and functions of persons (names or other identifiers) within the management body, as defined in Article 3(1), point (27), of Regulation (EU) 2023/1114, of the issuer","","error\nerror\nerror","The value of \"A.13 Members of management body / Identity\" must be provided.\nThe value of \"A13 Members of management body / Business address\" must be provided.\nThe value of \"A.13 Members of management body / Function\" must be provided."]
[{"$f":"IF(Table4!E38=\"\",\"/*\",\"\")","v":"/*"},"mica:IdentityOfIssuersManagementBodyMemberForEmoneyToken",{"$f":"Table4!E38","v":""},"2025-01-01","2025-12-31",null,null,null,"mica:LineIdentifierForIssuersManagementBodyMembersForEmoneyTokenTypedAxis",1,"/**Typed","mica:lineIdentifierForIssuersManagementBodyMemberForEmoneyToken",null,null,null,null,null,null,null,null,null,null,null,null,null,null,{"$f":"ROW(INDIRECT(MID(_xlfn.FORMULATEXT(C67),2,LEN(_xlfn.FORMULATEXT(C67)))))","v":38},"Identity","","text","",""]
[{"$f":"IF(Table4!E39=\"\",\"/*\",\"\")","v":"/*"},"mica:BusinessAddressOfIssuersManagementBodyMemberForEmoneyToken",{"$f":"Table4!E39","v":""},"2025-01-01","2025-12-31",null,null,null,"mica:LineIdentifierForIssuersManagementBodyMembersForEmoneyTokenTypedAxis",1,"/**Typed","mica:lineIdentifierForIssuersManagementBodyMemberForEmoneyToken",null,null,null,null,null,null,null,null,null,null,null,null,null,null,{"$f":"ROW(INDIRECT(MID(_xlfn.FORMULATEXT(C68),2,LEN(_xlfn.FORMULATEXT(C68)))))","v":39},"Business address","","text","",""]
[{"$f":"IF(Table4!E40=\"\",\"/*\",\"\")","v":"/*"},"mica:FunctionOfIssuersManagementBodyMemberForEmoneyToken",{"$f":"Table4!E40","v":""},"2025-01-01","2025-12-31",null,null,null,"mica:LineIdentifierForIssuersManagementBodyMembersForEmoneyTokenTypedAxis",1,"/**Typed","mica:lineIdentifierForIssuersManagementBodyMemberForEmoneyToken",null,null,null,null,null,null,null,null,null,null,null,null,null,null,{"$f":"ROW(INDIRECT(MID(_xlfn.FORMULATEXT(C69),2,LEN(_xlfn.FORMULATEXT(C69)))))","v":40},"Function","","text","",""]
[{"$f":"IF(Table4!E41=\"\",\"/*\",\"\")","v":""},"mica:IdentityOfIssuersManagementBodyMemberForEmoneyToken",{"$f":"Table4!$E$42","v":""},"2025-01-01","2025-12-31",null,null,null,"mica:LineIdentifierForIssuersManagementBodyMembersForEmoneyTokenTypedAxis",2,"/**Typed","mica:lineIdentifierForIssuersManagementBodyMemberForEmoneyToken",null,null,null,null,null,null,null,null,null,null,null,null,null,null,{"$f":"ROW(INDIRECT(MID(_xlfn.FORMULATEXT(C70),2,LEN(_xlfn.FORMULATEXT(C70)))))","v":42},"Identity","","text","",""]
[{"$f":"IF(Table4!E42=\"\",\"/*\",\"\")","v":"/*"},"mica:BusinessAddressOfIssuersManagementBodyMemberForEmoneyToken",{"$f":"Table4!$E$43","v":""},"2025-01-01","2025-12-31",null,null,null,"mica:LineIdentifierForIssuersManagementBodyMembersForEmoneyTokenTypedAxis",2,"/**Typed","mica:lineIdentifierForIssuersManagementBodyMemberForEmoneyToken",null,null,null,null,null,null,null,null,null,null,null,null,null,null,{"$f":"ROW(INDIRECT(MID(_xlfn.FORMULATEXT(C71),2,LEN(_xlfn.FORMULATEXT(C71)))))","v":43},"Business address","","text","",""]
[{"$f":"IF(Table4!E43=\"\",\"/*\",\"\")","v":"/*"},"mica:FunctionOfIssuersManagementBodyMemberForEmoneyToken",{"$f":"Table4!$E$44","v":""},"2025-01-01","2025-12-31",null,null,null,"mica:LineIdentifierForIssuersManagementBodyMembersForEmoneyTokenTypedAxis",2,"/**Typed","mica:lineIdentifierForIssuersManagementBodyMemberForEmoneyToken",null,null,null,null,null,null,null,null,null,null,null,null,null,null,{"$f":"ROW(INDIRECT(MID(_xlfn.FORMULATEXT(C72),2,LEN(_xlfn.FORMULATEXT(C72)))))","v":44},"Function","","text","",""]
[{"$f":"IF(Table4!E45=\"\",\"/*\",\"\")","v":"/*"},"mica:EmoneyTokenIssuersBusinessActivityExplanatory",{"$f":"Table4!E45","v":""},"2025-01-01","2025-12-31",null,null,null,null,null,null,null,null,null,null,null,null,null,null,null,null,null,null,null,null,null,{"$f":"ROW(INDIRECT(MID(_xlfn.FORMULATEXT(C73),2,LEN(_xlfn.FORMULATEXT(C73)))))","v":45},"A.14 Business activity","Business or professional activity of the issuer, including principal activities and principal markets","textBlock","error","The value of \"A.14 Business activity\" must be provided."]
[{"$f":"IF(Table4!E46=\"\",\"/*\",\"\")","v":"/*"},"mica:ParentCompanyBusinessActivityOfEmoneyTokenIssuerSideExplanatory",{"$f":"Table4!E46","v":""},"2025-01-01","2025-12-31",null,null,null,null,null,null,null,null,null,null,null,null,null,null,null,null,null,null,null,null,null,{"$f":"ROW(INDIRECT(MID(_xlfn.FORMULATEXT(C74),2,LEN(_xlfn.FORMULATEXT(C74)))))","v":46},"A.15 Parent company business activity","Business or professional activity of the parent company (if applicable), including principal activities and principal markets","textBlock","",""]
[{"$f":"IF(Table4!E47=\"\",\"/*\",\"\")","v":"/*"},"mica:InformationAboutPotentialConflictsOfInterestForEmoneyTokenExplanatory",{"$f":"Table4!E47","v":""},"2025-01-01","2025-12-31",null,null,null,null,null,null,null,null,null,null,null,null,null,null,null,null,null,null,null,null,null,{"$f":"ROW(INDIRECT(MID(_xlfn.FORMULATEXT(C75),2,LEN(_xlfn.FORMULATEXT(C75)))))","v":47},"A.16 Conflicts of interest","Potential conflicts of interest","text","error","The value of \"A.16 Conflicts of interest\" must be provided."]
[{"$f":"IF(Table4!E48=\"\",\"/*\",\"\")","v":"/*"},"mica:IssuanceOfOtherTokenForEmoneyTokenIssuerIndicator",{"$f":"Table4!E48","v":""},"2025-01-01","2025-12-31",null,null,null,null,null,null,null,null,null,null,null,null,null,null,null,null,null,null,null,null,null,{"$f":"ROW(INDIRECT(MID(_xlfn.FORMULATEXT(C76),2,LEN(_xlfn.FORMULATEXT(C76)))))","v":48},"A.17 Issuance of other crypto-assets","Indication of whether the issuer of the e-money token also issues other crypto-assets","boolean","error","The value of \"A.17 Issuance of other crypto-assets\" must be provided."]
[{"$f":"IF(Table4!E49=\"\",\"/*\",\"\")","v":"/*"},"mica:ActivitiesRelatedToOtherCryptoassetsIndicatorForEmoneyTokenIssuer",{"$f":"Table4!E49","v":""},"2025-01-01","2025-12-31",null,null,null,null,null,null,null,null,null,null,null,null,null,null,null,null,null,null,null,null,null,{"$f":"ROW(INDIRECT(MID(_xlfn.FORMULATEXT(C77),2,LEN(_xlfn.FORMULATEXT(C77)))))","v":49},"A.18 Activities related to other crypto-assets","Indication of whether the issuer of the e-money token also has activities related to other crypto-assets.","boolean","error","The value of \"A.18 Activities related to other crypto-assets\" must be provided."]
[{"$f":"IF(Table4!E50=\"\",\"/*\",\"\")","v":"/*"},"mica:EmoneyTokenIssuerAndDLTBusinessAssociationAbstract",{"$f":"Table4!E50","v":0},"2025-01-01","2025-12-31",null,null,null,null,null,null,null,null,null,null,null,null,null,null,null,null,null,null,null,null,null,{"$f":"ROW(INDIRECT(MID(_xlfn.FORMULATEXT(C78),2,LEN(_xlfn.FORMULATEXT(C78)))))","v":50},"E-money token issuer and DLT business association","","","",""]
[{"$f":"IF(Table4!E51=\"\",\"/*\",\"\")","v":"/*"},"mica:ConnectionBetweenEmoneyTokenIssuerAndEntityRunningDLTIndicator",{"$f":"Table4!E51","v":""},"2025-01-01","2025-12-31",null,null,null,null,null,null,null,null,null,null,null,null,null,null,null,null,null,null,null,null,null,{"$f":"ROW(INDIRECT(MID(_xlfn.FORMULATEXT(C79),2,LEN(_xlfn.FORMULATEXT(C79)))))","v":51},"A.19 Connection between the issuer and the entity running the DLT","Indication of whether there is any connection between the issuer and the entity running the distributed ledger technology used to issue the crypto-asset, including if the protocols are run or controlled by a person closely connected to the project participants","boolean","error","The value of \"A.19 Connection between the issuer and entity running DLT\" must be provided."]
[{"$f":"IF(Table4!E52=\"\",\"/*\",\"\")","v":"/*"},"mica:DescriptionOfConnectionBetweenEmoneyTokenIssuerAndEntityRunningDLTExplanatory",{"$f":"Table4!E52","v":""},"2025-01-01","2025-12-31",null,null,null,null,null,null,null,null,null,null,null,null,null,null,null,null,null,null,null,null,null,{"$f":"ROW(INDIRECT(MID(_xlfn.FORMULATEXT(C80),2,LEN(_xlfn.FORMULATEXT(C80)))))","v":52},"A.20 Description of the connection between the issuer and the entity running the DLT","Description of the connection between the issuer and entity running the distributed ledger technology used to issue the crypto-asset, including if the protocols are run or controlled by a person closely connected to the project participants","textBlock","error","The value of \"A.20 Description of connection between the issuer and entity running DLT\" must be provided."]
[{"$f":"IF(Table4!E53=\"\",\"/*\",\"\")","v":"/*"},"mica:NewlyEstablishedEmoneyTokenIssuersIndicator",{"$f":"Table4!E53","v":""},"2025-01-01","2025-12-31",null,null,null,null,null,null,null,null,null,null,null,null,null,null,null,null,null,null,null,null,null,{"$f":"ROW(INDIRECT(MID(_xlfn.FORMULATEXT(C81),2,LEN(_xlfn.FORMULATEXT(C81)))))","v":53},"A.21 Newly established","Indication as to whether the issuer has been established for the past three years","boolean","error","The value of \"A.21 Newly established\" must be provided."]
[{"$f":"IF(Table4!E54=\"\",\"/*\",\"\")","v":"/*"},"mica:InformationAboutEmoneyTokenIssuersFinancialConditionForPastThreeYearsExplanatory",{"$f":"Table4!E54","v":""},"2025-01-01","2025-12-31",null,null,null,null,null,null,null,null,null,null,null,null,null,null,null,null,null,null,null,null,null,{"$f":"ROW(INDIRECT(MID(_xlfn.FORMULATEXT(C82),2,LEN(_xlfn.FORMULATEXT(C82)))))","v":54},"A.22 Financial condition for the past three years","Financial condition of the issuer over the past three years.\r\nThis shall be assessed based on a fair review of the development and performance of the business of the issuer and of its position for each year and interim period for which historical financial information is required, including the causes of material changes.\r\nThe review shall be a balanced and comprehensive analysis of the development and performance of the business of the issuer and of its position, consistent with the size and complexity of the business.\r\nThe analysis shall include both financial and, where appropriate, non-financial Key Performance Indicators relevant to the particular business.\r\nThe analysis shall, where appropriate, include references to, and additional explanations of, amounts reported in the annual financial statements (when available), information regarding unusual or infrequent events or new developments, materially affecting the income from operations and indicate the extent to which income was so affected, information concerning capital resources (both short term and long term) and an explanation of the sources and amounts of and a narrative description of the cash flows.","textBlock","error","If \"A.21 Newly established\" is set to true, then \"A.22 Financial condition for past three years\" must be provided with a fact value."]
[{"$f":"IF(Table4!E55=\"\",\"/*\",\"\")","v":"/*"},"mica:InformationAboutEmoneyTokenIssuersFinancialConditionSinceRegistrationExplanatory",{"$f":"Table4!E55","v":""},"2025-01-01","2025-12-31",null,null,null,null,null,null,null,null,null,null,null,null,null,null,null,null,null,null,null,null,null,{"$f":"ROW(INDIRECT(MID(_xlfn.FORMULATEXT(C83),2,LEN(_xlfn.FORMULATEXT(C83)))))","v":55},"A.23 Financial condition since registration","Where the issuer has not been established for the past three years, its financial condition since the date of its registration.\r\nThis shall be assessed based on a fair review of the development and performance of the business of the issuer and of its position for each year and interim period for which historical financial information is required, including the causes of material changes.\r\nThe review shall be a balanced and comprehensive analysis of the development and performance of the business of the issuer and of its position, consistent with the size and complexity of the business.\r\nThe analysis shall include both financial and, where appropriate, non-financial Key Performance Indicators relevant to the particular business.\r\nThe analysis shall, where appropriate, include references to, and additional explanations of, amounts reported in the annual financial statements (when available), information regarding unusual or infrequent events or new developments, materially affecting the income from operations and indicate the extent to which income was so affected, information concerning capital resources (both short term and long term) and an explanation of the sources and amounts of and a narrative description of the cash flows.","textBlock","error","If \"A.21 Newly established\" is set to false, then \"A.23 Financial condition since registration\" must be provided with a fact value."]
[{"$f":"IF(Table4!E56=\"\",\"/*\",\"\")","v":"/*"},"mica:ExemptionFromAuthorisationIndicatorForEmoneyTokenIssuer",{"$f":"Table4!E56","v":""},"2025-01-01","2025-12-31",null,null,null,null,null,null,null,null,null,null,null,null,null,null,null,null,null,null,null,null,null,{"$f":"ROW(INDIRECT(MID(_xlfn.FORMULATEXT(C84),2,LEN(_xlfn.FORMULATEXT(C84)))))","v":56},"A.24 Exemption from authorisation","Indication of whether the issuer of e-money token is exempted from authorisation in accordance with Article 48(4) and (5) of Regulation (EU) 2023/1114","boolean","error","The value of \"A.24 Exemption from authorisation\" must be provided."]
[{"$f":"IF(Table4!E57=\"\",\"/*\",\"\")","v":"/*"},"mica:EmoneyTokenAuthorisationExplanatory",{"$f":"Table4!E57","v":""},"2025-01-01","2025-12-31",null,null,null,null,null,null,null,null,null,null,null,null,null,null,null,null,null,null,null,null,null,{"$f":"ROW(INDIRECT(MID(_xlfn.FORMULATEXT(C85),2,LEN(_xlfn.FORMULATEXT(C85)))))","v":57},"A.25 E-money token authorisation","If not exempted from authorisation in accordance with Article 48(4) and (5) of Regulation (EU) 2023/1114, details about the authorisation as an issuer of an e-money token","text","error","If \"A.24 Exemption from authorisation\" is set to false, then \"A.25 E-money token authorisation\" must be provided with a fact value."]
[{"$f":"IF(Table4!E58=\"\",\"/*\",\"\")","v":"/*"},"mica:AuthorisationAuthorityForEmoneyTokenIssuer",{"$f":"Table4!E58","v":0},"2025-01-01","2025-12-31",null,null,null,null,null,null,null,null,null,null,null,null,null,null,null,null,null,null,null,null,null,{"$f":"ROW(INDIRECT(MID(_xlfn.FORMULATEXT(C86),2,LEN(_xlfn.FORMULATEXT(C86)))))","v":58},"A.26 Authorisation authority","Name of the competent authority that granted the authorisation","enumeration","error","If \"A.24 Exemption from authorisation\" is set to false, then \"A.26 Authorisation authority\" must be provided with a fact value."]
[{"$f":"IF(Table4!E59=\"\",\"/*\",\"\")","v":"/*"},"mica:InformationOnWhetherPersonsOtherThanIssuerAreInvolvedAbstract",{"$f":"Table4!E59","v":0},"2025-01-01","2025-12-31",null,null,null,null,null,null,null,null,null,null,null,null,null,null,null,null,null,null,null,null,null,{"$f":"ROW(INDIRECT(MID(_xlfn.FORMULATEXT(C87),2,LEN(_xlfn.FORMULATEXT(C87)))))","v":59},"Information on whether persons other than issuer are involved","","","",""]
[{"$f":"IF(Table4!E60=\"\",\"/*\",\"\")","v":"/*"},"mica:InformationAboutPersonsOtherThanEmoneyTokenIssuerOfferingToPublicOrSeekingAdmissionToTradingOfEmoneyToken",{"$f":"Table4!E60","v":0},"2025-01-01","2025-12-31",null,null,null,null,null,null,null,null,null,null,null,null,null,null,null,null,null,null,null,null,null,{"$f":"ROW(INDIRECT(MID(_xlfn.FORMULATEXT(C88),2,LEN(_xlfn.FORMULATEXT(C88)))))","v":60},"A.27 Persons other than the issuer offering to the public or seeking admission to trading of the e-money token in accordance with Article 51(1), second subparagraph, of Regulation (EU) 2023/1114","Where different from the issuer, indication of the identity of the person offering to the public or seeking admission to trading of the e-money token","LEI","error","If \"A.29 Reason for offering to the public or seeking admission to trading of the e-money token\" is provided with fact value and \"A.28 Persons other than the issuer offering to the public or seeking admission to trading of the e-money token in accordance with Article 51(1), second subparagraph, of Regulation (EU) 2023/1114\" is not provided with a fact value, then \"A.27 Persons other than the issuer offering to the public or seeking admission to trading of the e-money token in accordance with Article 51(1), second subparagraph, of Regulation (EU) 2023/1114\" must be provided with fact value."]
[{"$f":"IF(Table4!E61=\"\",\"/*\",\"\")","v":"/*"},"mica:InformationAboutPersonsOtherThanEmoneyTokenIssuerOfferingToPublicOrSeekingAdmissionToTradingOfEmoneyTokenAnotherIdentifier",{"$f":"Table4!E61","v":""},"2025-01-01","2025-12-31",null,null,null,null,null,null,null,null,null,null,null,null,null,null,null,null,null,null,null,null,null,{"$f":"ROW(INDIRECT(MID(_xlfn.FORMULATEXT(C89),2,LEN(_xlfn.FORMULATEXT(C89)))))","v":61},"A.28 Persons other than the issuer offering to the public or seeking admission to trading of the e-money token in accordance with Article 51(1), second subparagraph, of Regulation (EU) 2023/1114","Field to be filled in only if a legal entity identifier is not provided in field A.27\r\nNational identifier based on the nationality of the person other than the issuer offering to the public or seeking admission to trading of the e-money token, if required under the applicable national law.\r\nThis field only applies to entities for which a national identifier is required in accordance with applicable national law.","text","error","If \"A.29 Reason for offering to the public or seeking admission to trading of the e-money token\" is provided with fact value and \"A.27 Persons other than the issuer offering to the public or seeking admission to trading of the e-money token in accordance with Article 51(1), second subparagraph, of Regulation (EU) 2023/1114\" is not provided with a fact value, then \"A.28 Persons other than the issuer offering to the public or seeking admission to trading of the e-money token in accordance with Article 51(1), second subparagraph, of Regulation (EU) 2023/1114\" must be provided with fact value."]
[{"$f":"IF(Table4!E62=\"\",\"/*\",\"\")","v":"/*"},"mica:ReasonForOfferingEmoneyTokenExplanatory",{"$f":"Table4!E62","v":""},"2025-01-01","2025-12-31",null,null,null,null,null,null,null,null,null,null,null,null,null,null,null,null,null,null,null,null,null,{"$f":"ROW(INDIRECT(MID(_xlfn.FORMULATEXT(C90),2,LEN(_xlfn.FORMULATEXT(C90)))))","v":62},"A.29 Reason for offering to the public or seeking admission to trading of the e-money token","Where the offeror or the person seeking admission to trading is different from the issuer, reason for offering to the public or seeking admission to trading of the e-money token","textBlock","error","If \"A.28 Persons other than the issuer offering to the public or seeking admission to trading of the e-money token in accordance with Article 51(1), second subparagraph, of Regulation (EU) 2023/1114\" is provided with fact value or \"A.27 Persons other than the issuer offering to the public or seeking admission to trading of the e-money token in accordance with Article 51(1), second subparagraph, of Regulation (EU) 2023/1114\" is provided with a fact value, then \"A.29 Reason for offering to the public or seeking admission to trading of the e-money token\" must be provided with fact value."]
[{"$f":"IF(Table4!E63=\"\",\"/*\",\"\")","v":"/*"},"mica:InformationAboutEmoneyTokenAbstract",{"$f":"Table4!E63","v":0},"2025-01-01","2025-12-31",null,null,null,null,null,null,null,null,null,null,null,null,null,null,null,null,null,null,null,null,null,{"$f":"ROW(INDIRECT(MID(_xlfn.FORMULATEXT(C91),2,LEN(_xlfn.FORMULATEXT(C91)))))","v":63},"Part B - Information about the e-money token","","","",""]
[{"$f":"IF(Table4!E64=\"\",\"/*\",\"\")","v":"/*"},"mica:EmoneyTokensName",{"$f":"Table4!E64","v":""},"2025-01-01","2025-12-31",null,null,null,null,null,null,null,null,null,null,null,null,null,null,null,null,null,null,null,null,null,{"$f":"ROW(INDIRECT(MID(_xlfn.FORMULATEXT(C92),2,LEN(_xlfn.FORMULATEXT(C92)))))","v":64},"B.1 Name","Field to be filled in only if a DTI is not provided in field B.12\r\ne-money token name","text","error","If \"B.12 Digital token identifier code used to uniquely identify the crypto-asset or each of the several crypto assets to which the white paper relates, where available\" is not provided with a fact value, then \"B.1 Name\" must be reported."]
[{"$f":"IF(Table4!E65=\"\",\"/*\",\"\")","v":"/*"},"mica:EmoneyTokensAbbreviation",{"$f":"Table4!E65","v":""},"2025-01-01","2025-12-31",null,null,null,null,null,null,null,null,null,null,null,null,null,null,null,null,null,null,null,null,null,{"$f":"ROW(INDIRECT(MID(_xlfn.FORMULATEXT(C93),2,LEN(_xlfn.FORMULATEXT(C93)))))","v":65},"B.2 Abbreviation","Field to be filled in only if a DTI is not provided in field B.12\r\ne-token abbreviation","text","error","If \"B.12 Digital token identifier code used to uniquely identify the crypto-asset or each of the several crypto assets to which the white paper relates, where available\" is not provided with a fact value, then \"B.2 Abbreviation\" must be reported."]
[{"$f":"IF(Table4!E66=\"\",\"/*\",\"\")","v":"/*"},"mica:DetailsOfAllNaturalOrLegalPersonsInvolvedInImplementationOfCryptoassetProjectForEmoneyTokenExplanatory",{"$f":"Table4!E66","v":0},"2025-01-01","2025-12-31",null,null,null,null,null,null,null,null,null,null,null,null,null,null,null,null,null,null,null,null,null,{"$f":"ROW(INDIRECT(MID(_xlfn.FORMULATEXT(C94),2,LEN(_xlfn.FORMULATEXT(C94)))))","v":66},"B.3 Details of all natural or legal persons involved in design and development","Details of advisors, development team members, CASPs and all natural and legal persons involved in the design and development of the crypto-asset project, including business addresses or domicile of the company, presented in a tabular format","","error\r\nerror\r\nerror\r\nerror","The value of \"B.3 Details of all natural or legal persons involved in design and development / Type of person\" must be provided.\r\nThe value of \"B.3 Details of all natural or legal persons involved in design and development / Name of person\" must be provided.\r\nThe value of \"B.3 Details of all natural or legal persons involved in design and development / Business address of person\" must be provided.\r\nThe value of \"B.3 Details of all natural or legal persons involved in design and development / Domicile of company\" must be provided."]
[{"$f":"IF(Table4!E68=\"\",\"/*\",\"\")","v":"/*"},"mica:TypeOfPersonInvolvedInImplementationOfEmoneyToken",{"$f":"Table4!E68","v":0},"2025-01-01","2025-12-31",null,null,null,"mica:LineIdentifierForPersonsInvolvedInDesignAndDevelopmentOfEmoneyTokenTypedAxis",1,"/**Typed","mica:lineIdentifierForPersonsInvolvedInDesignAndDevelopmentOfEmoneyToken",null,null,null,null,null,null,null,null,null,null,null,null,null,null,{"$f":"ROW(INDIRECT(MID(_xlfn.FORMULATEXT(C95),2,LEN(_xlfn.FORMULATEXT(C95)))))","v":68},"Type of person","","enumeration","",""]
[{"$f":"IF(Table4!E69=\"\",\"/*\",\"\")","v":"/*"},"mica:NameOfPersonInvolvedInImplementationOfEmoneyToken",{"$f":"Table4!E69","v":""},"2025-01-01","2025-12-31",null,null,null,"mica:LineIdentifierForPersonsInvolvedInDesignAndDevelopmentOfEmoneyTokenTypedAxis",1,"/**Typed","mica:lineIdentifierForPersonsInvolvedInDesignAndDevelopmentOfEmoneyToken",null,null,null,null,null,null,null,null,null,null,null,null,null,null,{"$f":"ROW(INDIRECT(MID(_xlfn.FORMULATEXT(C96),2,LEN(_xlfn.FORMULATEXT(C96)))))","v":69},"Name of person ","","text","",""]
[{"$f":"IF(Table4!E70=\"\",\"/*\",\"\")","v":"/*"},"mica:BusinessAddressOfPersonInvolvedInImplementationOfEmoneyToken",{"$f":"Table4!E70","v":""},"2025-01-01","2025-12-31",null,null,null,"mica:LineIdentifierForPersonsInvolvedInDesignAndDevelopmentOfEmoneyTokenTypedAxis",1,"/**Typed","mica:lineIdentifierForPersonsInvolvedInDesignAndDevelopmentOfEmoneyToken",null,null,null,null,null,null,null,null,null,null,null,null,null,null,{"$f":"ROW(INDIRECT(MID(_xlfn.FORMULATEXT(C97),2,LEN(_xlfn.FORMULATEXT(C97)))))","v":70},"Business address of person","","text","",""]
[{"$f":"IF(Table4!E71=\"\",\"/*\",\"\")","v":"/*"},"mica:DomicileOfCompanyOfPersonInvolvedInImplementationOfEmoneyToken",{"$f":"Table4!E71","v":0},"2025-01-01","2025-12-31",null,null,null,"mica:LineIdentifierForPersonsInvolvedInDesignAndDevelopmentOfEmoneyTokenTypedAxis",1,"/**Typed","mica:lineIdentifierForPersonsInvolvedInDesignAndDevelopmentOfEmoneyToken",null,null,null,null,null,null,null,null,null,null,null,null,null,null,{"$f":"ROW(INDIRECT(MID(_xlfn.FORMULATEXT(C98),2,LEN(_xlfn.FORMULATEXT(C98)))))","v":71},"Domicile of company","","enumeration","",""]
[{"$f":"IF(Table4!E72=\"\",\"/*\",\"\")","v":""},"mica:TypeOfPersonInvolvedInImplementationOfEmoneyToken",{"$f":"Table4!$E$73","v":0},"2025-01-01","2025-12-31",null,null,null,"mica:LineIdentifierForPersonsInvolvedInDesignAndDevelopmentOfEmoneyTokenTypedAxis",2,"/**Typed","mica:lineIdentifierForPersonsInvolvedInDesignAndDevelopmentOfEmoneyToken",null,null,null,null,null,null,null,null,null,null,null,null,null,null,{"$f":"ROW(INDIRECT(MID(_xlfn.FORMULATEXT(C99),2,LEN(_xlfn.FORMULATEXT(C99)))))","v":73},"Type of person","","enumeration","",""]
[{"$f":"IF(Table4!E73=\"\",\"/*\",\"\")","v":"/*"},"mica:NameOfPersonInvolvedInImplementationOfEmoneyToken",{"$f":"Table4!$E$74","v":""},"2025-01-01","2025-12-31",null,null,null,"mica:LineIdentifierForPersonsInvolvedInDesignAndDevelopmentOfEmoneyTokenTypedAxis",2,"/**Typed","mica:lineIdentifierForPersonsInvolvedInDesignAndDevelopmentOfEmoneyToken",null,null,null,null,null,null,null,null,null,null,null,null,null,null,{"$f":"ROW(INDIRECT(MID(_xlfn.FORMULATEXT(C100),2,LEN(_xlfn.FORMULATEXT(C100)))))","v":74},"Name of person ","","text","",""]
[{"$f":"IF(Table4!E74=\"\",\"/*\",\"\")","v":"/*"},"mica:BusinessAddressOfPersonInvolvedInImplementationOfEmoneyToken",{"$f":"Table4!$E$75","v":""},"2025-01-01","2025-12-31",null,null,null,"mica:LineIdentifierForPersonsInvolvedInDesignAndDevelopmentOfEmoneyTokenTypedAxis",2,"/**Typed","mica:lineIdentifierForPersonsInvolvedInDesignAndDevelopmentOfEmoneyToken",null,null,null,null,null,null,null,null,null,null,null,null,null,null,{"$f":"ROW(INDIRECT(MID(_xlfn.FORMULATEXT(C101),2,LEN(_xlfn.FORMULATEXT(C101)))))","v":75},"Business address of person","","text","",""]
[{"$f":"IF(Table4!E75=\"\",\"/*\",\"\")","v":"/*"},"mica:DomicileOfCompanyOfPersonInvolvedInImplementationOfEmoneyToken",{"$f":"Table4!$E$76","v":0},"2025-01-01","2025-12-31",null,null,null,"mica:LineIdentifierForPersonsInvolvedInDesignAndDevelopmentOfEmoneyTokenTypedAxis",2,"/**Typed","mica:lineIdentifierForPersonsInvolvedInDesignAndDevelopmentOfEmoneyToken",null,null,null,null,null,null,null,null,null,null,null,null,null,null,{"$f":"ROW(INDIRECT(MID(_xlfn.FORMULATEXT(C102),2,LEN(_xlfn.FORMULATEXT(C102)))))","v":76},"Domicile of company","","enumeration","",""]
[{"$f":"IF(Table4!E77=\"\",\"/*\",\"\")","v":"/*"},"mica:EmoneyTokenCharacteristicsIncludingDataNecessaryForClassificationOfWhitePaperInRegisterAbstract",{"$f":"Table4!E77","v":0},"2025-01-01","2025-12-31",null,null,null,null,null,null,null,null,null,null,null,null,null,null,null,null,null,null,null,null,null,{"$f":"ROW(INDIRECT(MID(_xlfn.FORMULATEXT(C103),2,LEN(_xlfn.FORMULATEXT(C103)))))","v":77},"A description of the characteristics of the e-money token, including the data necessary for classification of the crypto-asset white paper in the register referred to in Article 109, as specified in accordance with paragraph 8 of that Article","","","",""]
[{"$f":"IF(Table4!E78=\"\",\"/*\",\"\")","v":"/*"},"mica:EmoneyTokenTypeOfWhitePaper",{"$f":"Table4!E78","v":0},"2025-01-01","2025-12-31",null,null,null,null,null,null,null,null,null,null,null,null,null,null,null,null,null,null,null,null,null,{"$f":"ROW(INDIRECT(MID(_xlfn.FORMULATEXT(C104),2,LEN(_xlfn.FORMULATEXT(C104)))))","v":78},"B.4 Type of white paper","The type of white paper notified.","enumeration","error","The value of \"B.4 Type of white paper\" must be provided."]
[{"$f":"IF(Table4!E79=\"\",\"/*\",\"\")","v":"/*"},"mica:EmoneyTokenTypeOfSubmission",{"$f":"Table4!E79","v":0},"2025-01-01","2025-12-31",null,null,null,null,null,null,null,null,null,null,null,null,null,null,null,null,null,null,null,null,null,{"$f":"ROW(INDIRECT(MID(_xlfn.FORMULATEXT(C105),2,LEN(_xlfn.FORMULATEXT(C105)))))","v":79},"B.5 Type of submission","Type of submission","enumeration","error","The value of \"B.5 Type of submission\" must be provided."]
[{"$f":"IF(Table4!E80=\"\",\"/*\",\"\")","v":"/*"},"mica:DescriptionOfEmoneyTokenCharacteristicsExplanatory",{"$f":"Table4!E80","v":""},"2025-01-01","2025-12-31",null,null,null,null,null,null,null,null,null,null,null,null,null,null,null,null,null,null,null,null,null,{"$f":"ROW(INDIRECT(MID(_xlfn.FORMULATEXT(C106),2,LEN(_xlfn.FORMULATEXT(C106)))))","v":80},"B.6 Crypto-asset characteristics","A description of the characteristics of the e-money token","textBlock","error","The value of \"B.6 Crypto-asset characteristics\" must be provided."]
[{"$f":"IF(Table4!E81=\"\",\"/*\",\"\")","v":"/*"},"mica:EmoneyTokenIssuersWebsite",{"$f":"Table4!E81","v":""},"2025-01-01","2025-12-31",null,null,null,null,null,null,null,null,null,null,null,null,null,null,null,null,null,null,null,null,null,{"$f":"ROW(INDIRECT(MID(_xlfn.FORMULATEXT(C107),2,LEN(_xlfn.FORMULATEXT(C107)))))","v":81},"B.7 Website of the issuer","Website of the issuer","text","error","The value of \"B.7 Website of the issuer\" must be provided."]
[{"$f":"IF(Table4!E82=\"\",\"/*\",\"\")","v":"/*"},"mica:EmoneyTokenOfferStartingDate",{"$f":"Table4!E82","v":""},null,"2025-12-31",null,null,null,null,null,null,null,null,null,null,null,null,null,null,null,null,null,null,null,null,null,{"$f":"ROW(INDIRECT(MID(_xlfn.FORMULATEXT(C108),2,LEN(_xlfn.FORMULATEXT(C108)))))","v":82},"B.8 Starting date of offer to the public or admission to trading","Starting date or, if not available at the time of the notification by the competent authority, the intended starting date of offer to the public or admission to trading.","date","error","The value of \"B.8 Starting date of offer to the public or admission to trading\" must be provided."]
[{"$f":"IF(Table4!E83=\"\",\"/*\",\"\")","v":"/*"},"mica:EmoneyTokenWhitePaperPublicationDate",{"$f":"Table4!E83","v":""},null,"2025-12-31",null,null,null,null,null,null,null,null,null,null,null,null,null,null,null,null,null,null,null,null,null,{"$f":"ROW(INDIRECT(MID(_xlfn.FORMULATEXT(C109),2,LEN(_xlfn.FORMULATEXT(C109)))))","v":83},"B.9 Publication date","Effective or intended publication date of the white paper or of the modified white paper","date","error","The value of \"B.9 Publication date\" must be provided."]
[{"$f":"IF(Table4!E84=\"\",\"/*\",\"\")","v":"/*"},"mica:InformationAboutOtherServicesProvidedByEmoneyTokenIssuerExplanatory",{"$f":"Table4!E84","v":""},"2025-01-01","2025-12-31",null,null,null,null,null,null,null,null,null,null,null,null,null,null,null,null,null,null,null,null,null,{"$f":"ROW(INDIRECT(MID(_xlfn.FORMULATEXT(C110),2,LEN(_xlfn.FORMULATEXT(C110)))))","v":84},"B.10 Any other services provided by the issuer","Any other services provided by the issuer not covered by Regulation (EU) 2023/1114, with a reference to the applicable Union or national legal acts regulating those services","textBlock","error","The value of \"B.10 Any other services provided by the issuer\" must be provided."]
[{"$f":"IF(Table4!E85=\"\",\"/*\",\"\")","v":"/*"},"mica:InformationAboutLanguagesUsedInEmoneyTokenWhitePaper",{"$f":"Table4!E85","v":""},"2025-01-01","2025-12-31",null,null,null,null,null,null,null,null,null,null,null,null,null,null,null,null,null,null,null,null,null,{"$f":"ROW(INDIRECT(MID(_xlfn.FORMULATEXT(C111),2,LEN(_xlfn.FORMULATEXT(C111)))))","v":85},"B.11 Language or languages of white paper","Language or languages in which the crypto-asset white paper is drafted\r\nWhen multiple languages have been used, this field shall be reported as many times as necessary","text","error","The value of \"B.11 Language or languages of white papers\" must be provided."]
[{"$f":"IF(Table4!E86=\"\",\"/*\",\"\")","v":"/*"},"mica:EmoneyTokenDigitalTokenIdentifierCode",{"$f":"Table4!E86","v":""},"2025-01-01","2025-12-31",null,null,null,null,null,null,null,null,null,null,null,null,null,null,null,null,null,null,null,null,null,{"$f":"ROW(INDIRECT(MID(_xlfn.FORMULATEXT(C112),2,LEN(_xlfn.FORMULATEXT(C112)))))","v":86},"B.12 Digital token identifier code used to uniquely identify the crypto-asset or each of the several crypto assets to which the white paper relates, where available","Code used to uniquely identify the crypto-asset or each of the several crypto assets to which the white paper relates, where available","text","error","The value of \"B.12 Digital token identifier code used to uniquely identify the crypto-asset or each of the several crypto assets to which the white paper relates, where available\" must be provided."]
[{"$f":"IF(Table4!E87=\"\",\"/*\",\"\")","v":"/*"},"mica:EmoneyTokenFunctionallyFungibleGroupDigitalTokenIdentifier",{"$f":"Table4!E87","v":""},"2025-01-01","2025-12-31",null,null,null,null,null,null,null,null,null,null,null,null,null,null,null,null,null,null,null,null,null,{"$f":"ROW(INDIRECT(MID(_xlfn.FORMULATEXT(C113),2,LEN(_xlfn.FORMULATEXT(C113)))))","v":87},"B.13 Functionally fungible group digital token identifier, where available","Code used to uniquely identify the functionally fungible group to which the digital asset belongs (i.e., common to each of the several assets to which the white paper relates, i.e. Code used to identify the white paper ISO 24165 DTI of type = 3 (i.e., functionally fungible group), where available","text","error","The value of \"B.13 Functionally fungible group digital token identifier, where applicable\" must be provided."]
[{"$f":"IF(Table4!E88=\"\",\"/*\",\"\")","v":"/*"},"mica:EmoneyTokenPersonalDataFlagIndicator",{"$f":"Table4!E88","v":""},"2025-01-01","2025-12-31",null,null,null,null,null,null,null,null,null,null,null,null,null,null,null,null,null,null,null,null,null,{"$f":"ROW(INDIRECT(MID(_xlfn.FORMULATEXT(C114),2,LEN(_xlfn.FORMULATEXT(C114)))))","v":88},"B.14 Personal data flag","Flag indicating if the submitted white paper contains personal data","boolean","error","The value of \"B.14 Personal data flag\" must be provided."]
[{"$f":"IF(Table4!E89=\"\",\"/*\",\"\")","v":"/*"},"mica:LEIEligibilityIndicatorForEmoneyToken",{"$f":"Table4!E89","v":""},"2025-01-01","2025-12-31",null,null,null,null,null,null,null,null,null,null,null,null,null,null,null,null,null,null,null,null,null,{"$f":"ROW(INDIRECT(MID(_xlfn.FORMULATEXT(C115),2,LEN(_xlfn.FORMULATEXT(C115)))))","v":89},"B.15 LEI eligibility","Indication that the issuer is eligible for a Legal Entity Identifier","boolean","error","The value of \"B.15 LEI eligibility\" must be provided."]
[{"$f":"IF(Table4!E90=\"\",\"/*\",\"\")","v":"/*"},"mica:EmoneyTokenHomeMemberState",{"$f":"Table4!E90","v":0},"2025-01-01","2025-12-31",null,null,null,null,null,null,null,null,null,null,null,null,null,null,null,null,null,null,null,null,null,{"$f":"ROW(INDIRECT(MID(_xlfn.FORMULATEXT(C116),2,LEN(_xlfn.FORMULATEXT(C116)))))","v":90},"B.16 Home member state","Home Member State as defined in Article 3(1), point 33, of Regulation (EU) 2023/1114","enumeration","error","The value of \"B.16 Home member state\" must be provided."]
[{"$f":"IF(Table4!E91=\"\",\"/*\",\"\")","v":""},"mica:EmoneyTokenHostMemberStates",{"$f":"Table4!E91","v":"Austria"},"2025-01-01","2025-12-31",null,null,null,null,null,null,null,null,null,null,null,null,null,null,null,null,null,null,null,null,null,{"$f":"ROW(INDIRECT(MID(_xlfn.FORMULATEXT(C117),2,LEN(_xlfn.FORMULATEXT(C117)))))","v":91},"B.17 Host member states #1","Host Member State as defined in Article 3(1), point (34), of Regulation (EU) 2023/1114","enumerationSet","",""]
[{"$f":"IF(Table4!E92=\"\",\"/*\",\"\")","v":""},"mica:EmoneyTokenHostMemberStates",{"$f":"Table4!E92","v":"Belgium"},"2025-01-01","2025-12-31",null,null,null,null,null,null,null,null,null,null,null,null,null,null,null,null,null,null,null,null,null,{"$f":"ROW(INDIRECT(MID(_xlfn.FORMULATEXT(C118),2,LEN(_xlfn.FORMULATEXT(C118)))))","v":92},"B.17 Host member states #1","Host Member State as defined in Article 3(1), point (34), of Regulation (EU) 2023/1114","enumerationSet","",""]
[{"$f":"IF(Table4!E93=\"\",\"/*\",\"\")","v":""},"mica:EmoneyTokenHostMemberStates",{"$f":"Table4!E93","v":"Bulgaria"},"2025-01-01","2025-12-31",null,null,null,null,null,null,null,null,null,null,null,null,null,null,null,null,null,null,null,null,null,{"$f":"ROW(INDIRECT(MID(_xlfn.FORMULATEXT(C119),2,LEN(_xlfn.FORMULATEXT(C119)))))","v":93},"B.17 Host member states #1","Host Member State as defined in Article 3(1), point (34), of Regulation (EU) 2023/1114","enumerationSet","",""]
[{"$f":"IF(Table4!E94=\"\",\"/*\",\"\")","v":""},"mica:EmoneyTokenHostMemberStates",{"$f":"Table4!E94","v":"Croatia"},"2025-01-01","2025-12-31",null,null,null,null,null,null,null,null,null,null,null,null,null,null,null,null,null,null,null,null,null,{"$f":"ROW(INDIRECT(MID(_xlfn.FORMULATEXT(C120),2,LEN(_xlfn.FORMULATEXT(C120)))))","v":94},"B.17 Host member states #1","Host Member State as defined in Article 3(1), point (34), of Regulation (EU) 2023/1114","enumerationSet","",""]
[{"$f":"IF(Table4!E95=\"\",\"/*\",\"\")","v":""},"mica:EmoneyTokenHostMemberStates",{"$f":"Table4!E95","v":"Cyprus"},"2025-01-01","2025-12-31",null,null,null,null,null,null,null,null,null,null,null,null,null,null,null,null,null,null,null,null,null,{"$f":"ROW(INDIRECT(MID(_xlfn.FORMULATEXT(C121),2,LEN(_xlfn.FORMULATEXT(C121)))))","v":95},"B.17 Host member states #1","Host Member State as defined in Article 3(1), point (34), of Regulation (EU) 2023/1114","enumerationSet","",""]
[{"$f":"IF(Table4!E96=\"\",\"/*\",\"\")","v":""},"mica:EmoneyTokenHostMemberStates",{"$f":"Table4!E96","v":"Czechia"},"2025-01-01","2025-12-31",null,null,null,null,null,null,null,null,null,null,null,null,null,null,null,null,null,null,null,null,null,{"$f":"ROW(INDIRECT(MID(_xlfn.FORMULATEXT(C122),2,LEN(_xlfn.FORMULATEXT(C122)))))","v":96},"B.17 Host member states #1","Host Member State as defined in Article 3(1), point (34), of Regulation (EU) 2023/1114","enumerationSet","",""]
[{"$f":"IF(Table4!E97=\"\",\"/*\",\"\")","v":""},"mica:EmoneyTokenHostMemberStates",{"$f":"Table4!E97","v":"Denmark"},"2025-01-01","2025-12-31",null,null,null,null,null,null,null,null,null,null,null,null,null,null,null,null,null,null,null,null,null,{"$f":"ROW(INDIRECT(MID(_xlfn.FORMULATEXT(C123),2,LEN(_xlfn.FORMULATEXT(C123)))))","v":97},"B.17 Host member states #1","Host Member State as defined in Article 3(1), point (34), of Regulation (EU) 2023/1114","enumerationSet","",""]
[{"$f":"IF(Table4!E98=\"\",\"/*\",\"\")","v":""},"mica:EmoneyTokenHostMemberStates",{"$f":"Table4!E98","v":"Estonia"},"2025-01-01","2025-12-31",null,null,null,null,null,null,null,null,null,null,null,null,null,null,null,null,null,null,null,null,null,{"$f":"ROW(INDIRECT(MID(_xlfn.FORMULATEXT(C124),2,LEN(_xlfn.FORMULATEXT(C124)))))","v":98},"B.17 Host member states #1","Host Member State as defined in Article 3(1), point (34), of Regulation (EU) 2023/1114","enumerationSet","",""]
[{"$f":"IF(Table4!E99=\"\",\"/*\",\"\")","v":""},"mica:EmoneyTokenHostMemberStates",{"$f":"Table4!E99","v":"Finland"},"2025-01-01","2025-12-31",null,null,null,null,null,null,null,null,null,null,null,null,null,null,null,null,null,null,null,null,null,{"$f":"ROW(INDIRECT(MID(_xlfn.FORMULATEXT(C125),2,LEN(_xlfn.FORMULATEXT(C125)))))","v":99},"B.17 Host member states #1","Host Member State as defined in Article 3(1), point (34), of Regulation (EU) 2023/1114","enumerationSet","",""]
[{"$f":"IF(Table4!E100=\"\",\"/*\",\"\")","v":""},"mica:EmoneyTokenHostMemberStates",{"$f":"Table4!E100","v":"France"},"2025-01-01","2025-12-31",null,null,null,null,null,null,null,null,null,null,null,null,null,null,null,null,null,null,null,null,null,{"$f":"ROW(INDIRECT(MID(_xlfn.FORMULATEXT(C126),2,LEN(_xlfn.FORMULATEXT(C126)))))","v":100},"B.17 Host member states #1","Host Member State as defined in Article 3(1), point (34), of Regulation (EU) 2023/1114","enumerationSet","",""]
[{"$f":"IF(Table4!E101=\"\",\"/*\",\"\")","v":""},"mica:EmoneyTokenHostMemberStates",{"$f":"Table4!E101","v":"Germany"},"2025-01-01","2025-12-31",null,null,null,null,null,null,null,null,null,null,null,null,null,null,null,null,null,null,null,null,null,{"$f":"ROW(INDIRECT(MID(_xlfn.FORMULATEXT(C127),2,LEN(_xlfn.FORMULATEXT(C127)))))","v":101},"B.17 Host member states #1","Host Member State as defined in Article 3(1), point (34), of Regulation (EU) 2023/1114","enumerationSet","",""]
[{"$f":"IF(Table4!E102=\"\",\"/*\",\"\")","v":""},"mica:EmoneyTokenHostMemberStates",{"$f":"Table4!E102","v":"Greece"},"2025-01-01","2025-12-31",null,null,null,null,null,null,null,null,null,null,null,null,null,null,null,null,null,null,null,null,null,{"$f":"ROW(INDIRECT(MID(_xlfn.FORMULATEXT(C128),2,LEN(_xlfn.FORMULATEXT(C128)))))","v":102},"B.17 Host member states #1","Host Member State as defined in Article 3(1), point (34), of Regulation (EU) 2023/1114","enumerationSet","",""]
[{"$f":"IF(Table4!E103=\"\",\"/*\",\"\")","v":""},"mica:EmoneyTokenHostMemberStates",{"$f":"Table4!E103","v":"Hungary"},"2025-01-01","2025-12-31",null,null,null,null,null,null,null,null,null,null,null,null,null,null,null,null,null,null,null,null,null,{"$f":"ROW(INDIRECT(MID(_xlfn.FORMULATEXT(C129),2,LEN(_xlfn.FORMULATEXT(C129)))))","v":103},"B.17 Host member states #1","Host Member State as defined in Article 3(1), point (34), of Regulation (EU) 2023/1114","enumerationSet","",""]
[{"$f":"IF(Table4!E104=\"\",\"/*\",\"\")","v":""},"mica:EmoneyTokenHostMemberStates",{"$f":"Table4!E104","v":"Iceland"},"2025-01-01","2025-12-31",null,null,null,null,null,null,null,null,null,null,null,null,null,null,null,null,null,null,null,null,null,{"$f":"ROW(INDIRECT(MID(_xlfn.FORMULATEXT(C130),2,LEN(_xlfn.FORMULATEXT(C130)))))","v":104},"B.17 Host member states #1","Host Member State as defined in Article 3(1), point (34), of Regulation (EU) 2023/1114","enumerationSet","",""]
[{"$f":"IF(Table4!E105=\"\",\"/*\",\"\")","v":""},"mica:EmoneyTokenHostMemberStates",{"$f":"Table4!E105","v":"Ireland"},"2025-01-01","2025-12-31",null,null,null,null,null,null,null,null,null,null,null,null,null,null,null,null,null,null,null,null,null,{"$f":"ROW(INDIRECT(MID(_xlfn.FORMULATEXT(C131),2,LEN(_xlfn.FORMULATEXT(C131)))))","v":105},"B.17 Host member states #1","Host Member State as defined in Article 3(1), point (34), of Regulation (EU) 2023/1114","enumerationSet","",""]
[{"$f":"IF(Table4!E106=\"\",\"/*\",\"\")","v":""},"mica:EmoneyTokenHostMemberStates",{"$f":"Table4!E106","v":"Italy"},"2025-01-01","2025-12-31",null,null,null,null,null,null,null,null,null,null,null,null,null,null,null,null,null,null,null,null,null,{"$f":"ROW(INDIRECT(MID(_xlfn.FORMULATEXT(C132),2,LEN(_xlfn.FORMULATEXT(C132)))))","v":106},"B.17 Host member states #1","Host Member State as defined in Article 3(1), point (34), of Regulation (EU) 2023/1114","enumerationSet","",""]
[{"$f":"IF(Table4!E107=\"\",\"/*\",\"\")","v":""},"mica:EmoneyTokenHostMemberStates",{"$f":"Table4!E107","v":"Latvia"},"2025-01-01","2025-12-31",null,null,null,null,null,null,null,null,null,null,null,null,null,null,null,null,null,null,null,null,null,{"$f":"ROW(INDIRECT(MID(_xlfn.FORMULATEXT(C133),2,LEN(_xlfn.FORMULATEXT(C133)))))","v":107},"B.17 Host member states #1","Host Member State as defined in Article 3(1), point (34), of Regulation (EU) 2023/1114","enumerationSet","",""]
[{"$f":"IF(Table4!E108=\"\",\"/*\",\"\")","v":""},"mica:EmoneyTokenHostMemberStates",{"$f":"Table4!E108","v":"Liechtenstein"},"2025-01-01","2025-12-31",null,null,null,null,null,null,null,null,null,null,null,null,null,null,null,null,null,null,null,null,null,{"$f":"ROW(INDIRECT(MID(_xlfn.FORMULATEXT(C134),2,LEN(_xlfn.FORMULATEXT(C134)))))","v":108},"B.17 Host member states #1","Host Member State as defined in Article 3(1), point (34), of Regulation (EU) 2023/1114","enumerationSet","",""]
[{"$f":"IF(Table4!E109=\"\",\"/*\",\"\")","v":""},"mica:EmoneyTokenHostMemberStates",{"$f":"Table4!E109","v":"Lithuania"},"2025-01-01","2025-12-31",null,null,null,null,null,null,null,null,null,null,null,null,null,null,null,null,null,null,null,null,null,{"$f":"ROW(INDIRECT(MID(_xlfn.FORMULATEXT(C135),2,LEN(_xlfn.FORMULATEXT(C135)))))","v":109},"B.17 Host member states #1","Host Member State as defined in Article 3(1), point (34), of Regulation (EU) 2023/1114","enumerationSet","",""]
[{"$f":"IF(Table4!E110=\"\",\"/*\",\"\")","v":""},"mica:EmoneyTokenHostMemberStates",{"$f":"Table4!E110","v":"Luxembourg"},"2025-01-01","2025-12-31",null,null,null,null,null,null,null,null,null,null,null,null,null,null,null,null,null,null,null,null,null,{"$f":"ROW(INDIRECT(MID(_xlfn.FORMULATEXT(C136),2,LEN(_xlfn.FORMULATEXT(C136)))))","v":110},"B.17 Host member states #1","Host Member State as defined in Article 3(1), point (34), of Regulation (EU) 2023/1114","enumerationSet","",""]
[{"$f":"IF(Table4!E111=\"\",\"/*\",\"\")","v":""},"mica:EmoneyTokenHostMemberStates",{"$f":"Table4!E111","v":"Malta"},"2025-01-01","2025-12-31",null,null,null,null,null,null,null,null,null,null,null,null,null,null,null,null,null,null,null,null,null,{"$f":"ROW(INDIRECT(MID(_xlfn.FORMULATEXT(C137),2,LEN(_xlfn.FORMULATEXT(C137)))))","v":111},"B.17 Host member states #1","Host Member State as defined in Article 3(1), point (34), of Regulation (EU) 2023/1114","enumerationSet","",""]
[{"$f":"IF(Table4!E112=\"\",\"/*\",\"\")","v":""},"mica:EmoneyTokenHostMemberStates",{"$f":"Table4!E112","v":"Netherlands"},"2025-01-01","2025-12-31",null,null,null,null,null,null,null,null,null,null,null,null,null,null,null,null,null,null,null,null,null,{"$f":"ROW(INDIRECT(MID(_xlfn.FORMULATEXT(C138),2,LEN(_xlfn.FORMULATEXT(C138)))))","v":112},"B.17 Host member states #1","Host Member State as defined in Article 3(1), point (34), of Regulation (EU) 2023/1114","enumerationSet","",""]
[{"$f":"IF(Table4!E113=\"\",\"/*\",\"\")","v":""},"mica:EmoneyTokenHostMemberStates",{"$f":"Table4!E113","v":"Norway"},"2025-01-01","2025-12-31",null,null,null,null,null,null,null,null,null,null,null,null,null,null,null,null,null,null,null,null,null,{"$f":"ROW(INDIRECT(MID(_xlfn.FORMULATEXT(C139),2,LEN(_xlfn.FORMULATEXT(C139)))))","v":113},"B.17 Host member states #1","Host Member State as defined in Article 3(1), point (34), of Regulation (EU) 2023/1114","enumerationSet","",""]
[{"$f":"IF(Table4!E114=\"\",\"/*\",\"\")","v":""},"mica:EmoneyTokenHostMemberStates",{"$f":"Table4!E114","v":"Poland"},"2025-01-01","2025-12-31",null,null,null,null,null,null,null,null,null,null,null,null,null,null,null,null,null,null,null,null,null,{"$f":"ROW(INDIRECT(MID(_xlfn.FORMULATEXT(C140),2,LEN(_xlfn.FORMULATEXT(C140)))))","v":114},"B.17 Host member states #1","Host Member State as defined in Article 3(1), point (34), of Regulation (EU) 2023/1114","enumerationSet","",""]
[{"$f":"IF(Table4!E115=\"\",\"/*\",\"\")","v":""},"mica:EmoneyTokenHostMemberStates",{"$f":"Table4!E115","v":"Portugal"},"2025-01-01","2025-12-31",null,null,null,null,null,null,null,null,null,null,null,null,null,null,null,null,null,null,null,null,null,{"$f":"ROW(INDIRECT(MID(_xlfn.FORMULATEXT(C141),2,LEN(_xlfn.FORMULATEXT(C141)))))","v":115},"B.17 Host member states #1","Host Member State as defined in Article 3(1), point (34), of Regulation (EU) 2023/1114","enumerationSet","",""]
[{"$f":"IF(Table4!E116=\"\",\"/*\",\"\")","v":""},"mica:EmoneyTokenHostMemberStates",{"$f":"Table4!E116","v":"Romania"},"2025-01-01","2025-12-31",null,null,null,null,null,null,null,null,null,null,null,null,null,null,null,null,null,null,null,null,null,{"$f":"ROW(INDIRECT(MID(_xlfn.FORMULATEXT(C142),2,LEN(_xlfn.FORMULATEXT(C142)))))","v":116},"B.17 Host member states #1","Host Member State as defined in Article 3(1), point (34), of Regulation (EU) 2023/1114","enumerationSet","",""]
[{"$f":"IF(Table4!E117=\"\",\"/*\",\"\")","v":""},"mica:EmoneyTokenHostMemberStates",{"$f":"Table4!E117","v":"Slovakia"},"2025-01-01","2025-12-31",null,null,null,null,null,null,null,null,null,null,null,null,null,null,null,null,null,null,null,null,null,{"$f":"ROW(INDIRECT(MID(_xlfn.FORMULATEXT(C143),2,LEN(_xlfn.FORMULATEXT(C143)))))","v":117},"B.17 Host member states #1","Host Member State as defined in Article 3(1), point (34), of Regulation (EU) 2023/1114","enumerationSet","",""]
[{"$f":"IF(Table4!E118=\"\",\"/*\",\"\")","v":""},"mica:EmoneyTokenHostMemberStates",{"$f":"Table4!E118","v":"Slovenia"},"2025-01-01","2025-12-31",null,null,null,null,null,null,null,null,null,null,null,null,null,null,null,null,null,null,null,null,null,{"$f":"ROW(INDIRECT(MID(_xlfn.FORMULATEXT(C144),2,LEN(_xlfn.FORMULATEXT(C144)))))","v":118},"B.17 Host member states #1","Host Member State as defined in Article 3(1), point (34), of Regulation (EU) 2023/1114","enumerationSet","",""]
[{"$f":"IF(Table4!E119=\"\",\"/*\",\"\")","v":""},"mica:EmoneyTokenHostMemberStates",{"$f":"Table4!E119","v":"Sweden"},"2025-01-01","2025-12-31",null,null,null,null,null,null,null,null,null,null,null,null,null,null,null,null,null,null,null,null,null,{"$f":"ROW(INDIRECT(MID(_xlfn.FORMULATEXT(C145),2,LEN(_xlfn.FORMULATEXT(C145)))))","v":119},"B.17 Host member states #1","Host Member State as defined in Article 3(1), point (34), of Regulation (EU) 2023/1114","enumerationSet","",""]
[{"$f":"IF(Table4!E120=\"\",\"/*\",\"\")","v":"/*"},"mica:InformationAboutOfferToPublicOfEmoneyTokenOrItsAdmissionToTradingAbstract",{"$f":"Table4!E120","v":0},"2025-01-01","2025-12-31",null,null,null,null,null,null,null,null,null,null,null,null,null,null,null,null,null,null,null,null,null,{"$f":"ROW(INDIRECT(MID(_xlfn.FORMULATEXT(C146),2,LEN(_xlfn.FORMULATEXT(C146)))))","v":120},"Part C - Information about the offer to the public of the e-money token or its admission to trading","","","",""]
[{"$f":"IF(Table4!E121=\"\",\"/*\",\"\")","v":"/*"},"mica:PublicOfferingOrAdmissionToTradingForEmoneyToken",{"$f":"Table4!E121","v":0},"2025-01-01","2025-12-31",null,null,null,null,null,null,null,null,null,null,null,null,null,null,null,null,null,null,null,null,null,{"$f":"ROW(INDIRECT(MID(_xlfn.FORMULATEXT(C147),2,LEN(_xlfn.FORMULATEXT(C147)))))","v":121},"C.1 Public offering or trading","Indication as to whether the crypto-asset white paper concerns an offer to the public of the e-money token or an admission to its trading","enumeration","error","The value of \"C.1 Public offering or admission to trading\" must be provided."]
[{"$f":"IF(Table4!E122=\"\",\"/*\",\"\")","v":"/*"},"mica:NumberOfUnits",{"$f":"Table4!E122","v":""},null,"2025-12-31","xbrli:pure","0","0",null,null,null,null,null,null,null,null,null,null,null,null,null,null,null,null,null,null,{"$f":"ROW(INDIRECT(MID(_xlfn.FORMULATEXT(C148),2,LEN(_xlfn.FORMULATEXT(C148)))))","v":122},"C.2 Number of units","Where applicable, the total number of units of the e-money token to be offered to the public or admitted to trading","integer","",""]
[{"$f":"IF(Table4!E123=\"\",\"/*\",\"\")","v":"/*"},"mica:TradingPlatformsCharacteristicsForEmoneyTokenAbstract",{"$f":"Table4!E123","v":0},"2025-01-01","2025-12-31",null,null,null,null,null,null,null,null,null,null,null,null,null,null,null,null,null,null,null,null,null,{"$f":"ROW(INDIRECT(MID(_xlfn.FORMULATEXT(C149),2,LEN(_xlfn.FORMULATEXT(C149)))))","v":123},"Trading platforms characteristics","","","",""]
[{"$f":"IF(Table4!E124=\"\",\"/*\",\"\")","v":"/*"},"mica:TradingplatformsNameForEmoneyToken",{"$f":"Table4!E124","v":""},"2025-01-01","2025-12-31",null,null,null,null,null,null,null,null,null,null,null,null,null,null,null,null,null,null,null,null,null,{"$f":"ROW(INDIRECT(MID(_xlfn.FORMULATEXT(C150),2,LEN(_xlfn.FORMULATEXT(C150)))))","v":124},"C.3 Trading platforms name","Where applicable, the name of the trading platforms for crypto-assets where admission to trading is sought","text","error","If \"C.1 Public offering or admission to trading\" is set with 'ATTR' value, then \"C.3 Trading platforms name\" must be provided with a fact value."]
[{"$f":"IF(Table4!E125=\"\",\"/*\",\"\")","v":"/*"},"mica:TradingPlatformsMarketIdentifierCodeForEmoneyToken",{"$f":"Table4!E125","v":""},"2025-01-01","2025-12-31",null,null,null,null,null,null,null,null,null,null,null,null,null,null,null,null,null,null,null,null,null,{"$f":"ROW(INDIRECT(MID(_xlfn.FORMULATEXT(C151),2,LEN(_xlfn.FORMULATEXT(C151)))))","v":125},"C.4 Trading platforms market identifier code (MIC)","Segment MIC for the trading platform operated by the CASP, where available, otherwise operating MIC","text","error","If \"C.1 Public offering or admission to trading\" is set with 'ATTR' value, then \"C.4 Trading platforms market identifier code (MIC)\" must be provided with a fact value."]
[{"$f":"IF(Table4!E126=\"\",\"/*\",\"\")","v":"/*"},"mica:ApplicableLawForEmoneyTokenOfferExplanatory",{"$f":"Table4!E126","v":""},"2025-01-01","2025-12-31",null,null,null,null,null,null,null,null,null,null,null,null,null,null,null,null,null,null,null,null,null,{"$f":"ROW(INDIRECT(MID(_xlfn.FORMULATEXT(C152),2,LEN(_xlfn.FORMULATEXT(C152)))))","v":126},"C.5 Applicable law","The law applicable to the offer to the public of the e-money token","textBlock","error","If \"C.1 Public offering or admission to trading\" is set with 'ATTR' value, then \"C.5 Applicable law\" must be provided with a fact value."]
[{"$f":"IF(Table4!E127=\"\",\"/*\",\"\")","v":"/*"},"mica:CompetentCourtForEmoneyTokenOfferExplanatory",{"$f":"Table4!E127","v":""},"2025-01-01","2025-12-31",null,null,null,null,null,null,null,null,null,null,null,null,null,null,null,null,null,null,null,null,null,{"$f":"ROW(INDIRECT(MID(_xlfn.FORMULATEXT(C153),2,LEN(_xlfn.FORMULATEXT(C153)))))","v":127},"C.6 Competent court","Competent court","textBlock","error","If \"C.1 Public offering or admission to trading\" is set with 'ATTR' value, then \"C.6 Competent court\" must be provided with a fact value."]
[{"$f":"IF(Table4!E128=\"\",\"/*\",\"\")","v":"/*"},"mica:InformationOnRightsAndObligationsAttachedToEmoneyTokensAbstract",{"$f":"Table4!E128","v":0},"2025-01-01","2025-12-31",null,null,null,null,null,null,null,null,null,null,null,null,null,null,null,null,null,null,null,null,null,{"$f":"ROW(INDIRECT(MID(_xlfn.FORMULATEXT(C154),2,LEN(_xlfn.FORMULATEXT(C154)))))","v":128},"Part D - Information on the rights and obligations attached to e-money tokens","","","",""]
[{"$f":"IF(Table4!E129=\"\",\"/*\",\"\")","v":"/*"},"mica:InformationAboutHoldersRightsAndObligationsExplanatory",{"$f":"Table4!E129","v":""},"2025-01-01","2025-12-31",null,null,null,null,null,null,null,null,null,null,null,null,null,null,null,null,null,null,null,null,null,{"$f":"ROW(INDIRECT(MID(_xlfn.FORMULATEXT(C155),2,LEN(_xlfn.FORMULATEXT(C155)))))","v":129},"D.1 Holder’s rights and obligations","A detailed description of the rights and obligations, if any, that the holder of the e-money token has, including the right of redemption at par value as well as the procedure and conditions for the exercise of those rights","text","error","The value of \"D.1 Holder’s rights and obligations\" must be provided."]
[{"$f":"IF(Table4!E130=\"\",\"/*\",\"\")","v":"/*"},"mica:InformationAboutConditionsOfModificationsOfRightsAndObligationsExplanatory",{"$f":"Table4!E130","v":""},"2025-01-01","2025-12-31",null,null,null,null,null,null,null,null,null,null,null,null,null,null,null,null,null,null,null,null,null,{"$f":"ROW(INDIRECT(MID(_xlfn.FORMULATEXT(C156),2,LEN(_xlfn.FORMULATEXT(C156)))))","v":130},"D.2 Conditions of modifications of rights and obligations","Description of the conditions under which the rights and obligations may be modified","text","error","The value of \"D.2 Conditions of modifications of rights and obligations\" must be provided."]
[{"$f":"IF(Table4!E131=\"\",\"/*\",\"\")","v":"/*"},"mica:DescriptionOfRightsOfHoldersExplanatory",{"$f":"Table4!E131","v":""},"2025-01-01","2025-12-31",null,null,null,null,null,null,null,null,null,null,null,null,null,null,null,null,null,null,null,null,null,{"$f":"ROW(INDIRECT(MID(_xlfn.FORMULATEXT(C157),2,LEN(_xlfn.FORMULATEXT(C157)))))","v":131},"D.3 Description of the rights of the holders","Description of the rights of the holders when the issuer is not able to fulfil its obligations, including in insolvency","textBlock","error","The value of \"D.3 Description of rights of holders\" must be provided."]
[{"$f":"IF(Table4!E132=\"\",\"/*\",\"\")","v":"/*"},"mica:RightsInImplementationOfRecoveryPlanExplanatory",{"$f":"Table4!E132","v":""},"2025-01-01","2025-12-31",null,null,null,null,null,null,null,null,null,null,null,null,null,null,null,null,null,null,null,null,null,{"$f":"ROW(INDIRECT(MID(_xlfn.FORMULATEXT(C158),2,LEN(_xlfn.FORMULATEXT(C158)))))","v":132},"D.4 Rights in implementation of recovery plan","Description of rights in the context of the implementation of the recovery plan","textBlock","error","The value of \"D.4 Rights in implementation of recovery plan\" must be provided."]
[{"$f":"IF(Table4!E133=\"\",\"/*\",\"\")","v":"/*"},"mica:RightsInImplementationOfRedemptionPlanExplanatory",{"$f":"Table4!E133","v":""},"2025-01-01","2025-12-31",null,null,null,null,null,null,null,null,null,null,null,null,null,null,null,null,null,null,null,null,null,{"$f":"ROW(INDIRECT(MID(_xlfn.FORMULATEXT(C159),2,LEN(_xlfn.FORMULATEXT(C159)))))","v":133},"D.5 Rights in implementation of redemption plan","Description of the rights in the context of the implementation of the redemption plan","textBlock","error","The value of \"D.5 Rights in implementation of redemption plan\" must be provided."]
[{"$f":"IF(Table4!E134=\"\",\"/*\",\"\")","v":"/*"},"mica:ComplaintSubmissionContactForEmoneyToken",{"$f":"Table4!E134","v":""},"2025-01-01","2025-12-31",null,null,null,null,null,null,null,null,null,null,null,null,null,null,null,null,null,null,null,null,null,{"$f":"ROW(INDIRECT(MID(_xlfn.FORMULATEXT(C160),2,LEN(_xlfn.FORMULATEXT(C160)))))","v":134},"D.6 Complaint submission contact","Contact details for submitting complaints","text","error","The value of \"D.6 Complaint submission contact\" must be provided."]
[{"$f":"IF(Table4!E135=\"\",\"/*\",\"\")","v":"/*"},"mica:InformationAboutComplaintsHandlingProceduresForEmoneyTokenExplanatory",{"$f":"Table4!E135","v":""},"2025-01-01","2025-12-31",null,null,null,null,null,null,null,null,null,null,null,null,null,null,null,null,null,null,null,null,null,{"$f":"ROW(INDIRECT(MID(_xlfn.FORMULATEXT(C161),2,LEN(_xlfn.FORMULATEXT(C161)))))","v":135},"D.7 Complaints handling procedures","Description of the complaints-handling procedures","textBlock","error","The value of \"D.7 Complaints handling procedures\" must be provided."]
[{"$f":"IF(Table4!E136=\"\",\"/*\",\"\")","v":"/*"},"mica:InformationAboutDisputeResolutionMechanismForEmoneyTokenExplanatory",{"$f":"Table4!E136","v":""},"2025-01-01","2025-12-31",null,null,null,null,null,null,null,null,null,null,null,null,null,null,null,null,null,null,null,null,null,{"$f":"ROW(INDIRECT(MID(_xlfn.FORMULATEXT(C162),2,LEN(_xlfn.FORMULATEXT(C162)))))","v":136},"D.8 Dispute resolution mechanism","Description of any dispute resolution mechanism or redress procedure established by the issuer of the e-money token","textBlock","error","The value of \"D.8 Dispute resolution mechanism\" must be provided."]
[{"$f":"IF(Table4!E137=\"\",\"/*\",\"\")","v":"/*"},"mica:EmoneyTokenSchemesDetailsAbstract",{"$f":"Table4!E137","v":0},"2025-01-01","2025-12-31",null,null,null,null,null,null,null,null,null,null,null,null,null,null,null,null,null,null,null,null,null,{"$f":"ROW(INDIRECT(MID(_xlfn.FORMULATEXT(C163),2,LEN(_xlfn.FORMULATEXT(C163)))))","v":137},"E-money token schemes details","","","",""]
[{"$f":"IF(Table4!E138=\"\",\"/*\",\"\")","v":"/*"},"mica:TokenValueProtectionSchemesIndicator",{"$f":"Table4!E138","v":""},"2025-01-01","2025-12-31",null,null,null,null,null,null,null,null,null,null,null,null,null,null,null,null,null,null,null,null,null,{"$f":"ROW(INDIRECT(MID(_xlfn.FORMULATEXT(C164),2,LEN(_xlfn.FORMULATEXT(C164)))))","v":138},"D.9 Token value protection schemes","Indication as to whether the crypto-asset has a protection scheme protecting the value of the crypto-asset","boolean","error","The value of \"D.9 Token value protection schemes\" must be provided."]
[{"$f":"IF(Table4!E139=\"\",\"/*\",\"\")","v":"/*"},"mica:DescriptionOfTokenValuesProtectionSchemesExplanatory",{"$f":"Table4!E139","v":""},"2025-01-01","2025-12-31",null,null,null,null,null,null,null,null,null,null,null,null,null,null,null,null,null,null,null,null,null,{"$f":"ROW(INDIRECT(MID(_xlfn.FORMULATEXT(C165),2,LEN(_xlfn.FORMULATEXT(C165)))))","v":139},"D.10 Token value protection schemes description","Where field D.9 is true, a description of protection schemes protecting the value of the crypto-asset and of compensation schemes","textBlock","error","If \"D.9 Token value protection schemes\" is set to true, then \"D.10 Token value protection schemes description\" must be provided with a fact value."]
[{"$f":"IF(Table4!E140=\"\",\"/*\",\"\")","v":"/*"},"mica:CompensationSchemesIndicator",{"$f":"Table4!E140","v":""},"2025-01-01","2025-12-31",null,null,null,null,null,null,null,null,null,null,null,null,null,null,null,null,null,null,null,null,null,{"$f":"ROW(INDIRECT(MID(_xlfn.FORMULATEXT(C166),2,LEN(_xlfn.FORMULATEXT(C166)))))","v":140},"D.11 Compensation schemes","Indication as to whether the crypto-asset has a compensation scheme","boolean","error","The value of \"D.11 Compensation schemes\" must be provided."]
[{"$f":"IF(Table4!E141=\"\",\"/*\",\"\")","v":"/*"},"mica:DescriptionOfCompensationSchemesExplanatory",{"$f":"Table4!E141","v":""},"2025-01-01","2025-12-31",null,null,null,null,null,null,null,null,null,null,null,null,null,null,null,null,null,null,null,null,null,{"$f":"ROW(INDIRECT(MID(_xlfn.FORMULATEXT(C167),2,LEN(_xlfn.FORMULATEXT(C167)))))","v":141},"D.12 Compensation schemes description","Where field D.11 is true, a description of compensation schemes","textBlock","error","If \"D.11 Compensation schemes\" is set to true, then \"D.12 Compensation schemes description\" must be provided with a fact value."]
[{"$f":"IF(Table4!E142=\"\",\"/*\",\"\")","v":"/*"},"mica:ApplicableLawForEmoneyTokenExplanatory",{"$f":"Table4!E142","v":""},"2025-01-01","2025-12-31",null,null,null,null,null,null,null,null,null,null,null,null,null,null,null,null,null,null,null,null,null,{"$f":"ROW(INDIRECT(MID(_xlfn.FORMULATEXT(C168),2,LEN(_xlfn.FORMULATEXT(C168)))))","v":142},"D.13 Applicable law","The law applicable to the e-money token","textBlock","error","The value of \"D.13 Applicable law\" must be provided."]
[{"$f":"IF(Table4!E143=\"\",\"/*\",\"\")","v":"/*"},"mica:CompetentCourtForEmoneyTokenExplanatory",{"$f":"Table4!E143","v":""},"2025-01-01","2025-12-31",null,null,null,null,null,null,null,null,null,null,null,null,null,null,null,null,null,null,null,null,null,{"$f":"ROW(INDIRECT(MID(_xlfn.FORMULATEXT(C169),2,LEN(_xlfn.FORMULATEXT(C169)))))","v":143},"D.14 Competent court","Competent court","textBlock","error","The value of \"D.14 Competent court\" must be provided."]
[{"$f":"IF(Table4!E144=\"\",\"/*\",\"\")","v":"/*"},"mica:InformationOnUnderlyingTechnologyForEmoneyTokenAbstract",{"$f":"Table4!E144","v":0},"2025-01-01","2025-12-31",null,null,null,null,null,null,null,null,null,null,null,null,null,null,null,null,null,null,null,null,null,{"$f":"ROW(INDIRECT(MID(_xlfn.FORMULATEXT(C170),2,LEN(_xlfn.FORMULATEXT(C170)))))","v":144},"Part E - Information on the underlying technology","","","",""]
[{"$f":"IF(Table4!E145=\"\",\"/*\",\"\")","v":"/*"},"mica:DistributedLedgerTechnologyForEmoneyTokenExplanatory",{"$f":"Table4!E145","v":""},"2025-01-01","2025-12-31",null,null,null,null,null,null,null,null,null,null,null,null,null,null,null,null,null,null,null,null,null,{"$f":"ROW(INDIRECT(MID(_xlfn.FORMULATEXT(C171),2,LEN(_xlfn.FORMULATEXT(C171)))))","v":145},"E.1 Distributed ledger technology","Field to be filled in only if a DTI is not provided in field B.13\r\nInformation on the distributed ledger technology","text","error","If \"B.12 Digital token identifier code used to uniquely identify the crypto-asset or each of the several crypto assets to which the white paper relates, where available\" is not provided with a fact value, then \"E.1 Distributed ledger technology\" must be reported."]
[{"$f":"IF(Table4!E146=\"\",\"/*\",\"\")","v":"/*"},"mica:ProtocolsAndTechnicalStandardsForEmoneyTokenExplanatory",{"$f":"Table4!E146","v":""},"2025-01-01","2025-12-31",null,null,null,null,null,null,null,null,null,null,null,null,null,null,null,null,null,null,null,null,null,{"$f":"ROW(INDIRECT(MID(_xlfn.FORMULATEXT(C172),2,LEN(_xlfn.FORMULATEXT(C172)))))","v":146},"E.2 Protocols and technical standards","Information on the protocols and technical standards used, allowing for the holding, storing and transfer of e-money token","textBlock","error","The value of \"E.2 Protocols and technical standards\" must be provided."]
[{"$f":"IF(Table4!E147=\"\",\"/*\",\"\")","v":"/*"},"mica:InformationAboutTechnologyUsedForEmoneyTokenExplanatory",{"$f":"Table4!E147","v":""},"2025-01-01","2025-12-31",null,null,null,null,null,null,null,null,null,null,null,null,null,null,null,null,null,null,null,null,null,{"$f":"ROW(INDIRECT(MID(_xlfn.FORMULATEXT(C173),2,LEN(_xlfn.FORMULATEXT(C173)))))","v":147},"E.3 Technology used","Other information on the technology used allowing for the holding, storing and transfer of e-money tokens, if relevant","textBlock","error","The value of \"E.3 Technology used\" must be provided."]
[{"$f":"IF(Table4!E148=\"\",\"/*\",\"\")","v":"/*"},"mica:InformationAboutPurchasersTechnicalRequirementsExplanatory",{"$f":"Table4!E148","v":""},"2025-01-01","2025-12-31",null,null,null,null,null,null,null,null,null,null,null,null,null,null,null,null,null,null,null,null,null,{"$f":"ROW(INDIRECT(MID(_xlfn.FORMULATEXT(C174),2,LEN(_xlfn.FORMULATEXT(C174)))))","v":148},"E.4 Purchaser’s technical requirements","Information about the technical requirements that the purchaser has to fulfil to gain control over the e-money token","textBlock","error","The value of \"E.4 Purchaser's technical requirements\" must be provided."]
[{"$f":"IF(Table4!E149=\"\",\"/*\",\"\")","v":"/*"},"mica:ConsensusMechanismForEmoneyTokenExplanatory",{"$f":"Table4!E149","v":""},"2025-01-01","2025-12-31",null,null,null,null,null,null,null,null,null,null,null,null,null,null,null,null,null,null,null,null,null,{"$f":"ROW(INDIRECT(MID(_xlfn.FORMULATEXT(C175),2,LEN(_xlfn.FORMULATEXT(C175)))))","v":149},"E.5 Consensus mechanism","The consensus mechanism, where applicable","text","",""]
[{"$f":"IF(Table4!E150=\"\",\"/*\",\"\")","v":"/*"},"mica:IncentiveMechanismsAndApplicableFeesForEmoneyTokenExplanatory",{"$f":"Table4!E150","v":""},"2025-01-01","2025-12-31",null,null,null,null,null,null,null,null,null,null,null,null,null,null,null,null,null,null,null,null,null,{"$f":"ROW(INDIRECT(MID(_xlfn.FORMULATEXT(C176),2,LEN(_xlfn.FORMULATEXT(C176)))))","v":150},"E.6 Incentive mechanisms and applicable fees","Incentive mechanisms to secure transactions and any fees applicable","text","error","The value of \"E.6 Incentive mechanisms and applicable fees\" must be provided."]
[{"$f":"IF(Table4!E151=\"\",\"/*\",\"\")","v":"/*"},"mica:UseOfDistributedLedgerTechnologyForEmoneyTokenIndicator",{"$f":"Table4!E151","v":""},"2025-01-01","2025-12-31",null,null,null,null,null,null,null,null,null,null,null,null,null,null,null,null,null,null,null,null,null,{"$f":"ROW(INDIRECT(MID(_xlfn.FORMULATEXT(C177),2,LEN(_xlfn.FORMULATEXT(C177)))))","v":151},"E.7 Use of distributed ledger technology","Indication as to whether the e-money tokens are issued, transferred and stored using distributed ledger technology that is operated by the issuer or a third-party acting on the issuer’s behalf","boolean","error","The value of \"E.7 Use of distributed ledger technology\" must be provided."]
[{"$f":"IF(Table4!E152=\"\",\"/*\",\"\")","v":"/*"},"mica:DescriptionOfDLTFunctionalityForEmoneyTokenExplanatory",{"$f":"Table4!E152","v":""},"2025-01-01","2025-12-31",null,null,null,null,null,null,null,null,null,null,null,null,null,null,null,null,null,null,null,null,null,{"$f":"ROW(INDIRECT(MID(_xlfn.FORMULATEXT(C178),2,LEN(_xlfn.FORMULATEXT(C178)))))","v":152},"E.8 DLT functionality description","If the DLT is operated by the issuer or a third party acting on the issuer’s behalf, a detailed description of the functioning of such distributed ledger technology","textBlock","error","If \"E.7 Use of distributed ledger technology\" is set to true, then \"E.8 DLT functionality description\" must be provided with a fact value."]
[{"$f":"IF(Table4!E153=\"\",\"/*\",\"\")","v":"/*"},"mica:EmoneyTokensAuditDetailsAbstract",{"$f":"Table4!E153","v":0},"2025-01-01","2025-12-31",null,null,null,null,null,null,null,null,null,null,null,null,null,null,null,null,null,null,null,null,null,{"$f":"ROW(INDIRECT(MID(_xlfn.FORMULATEXT(C179),2,LEN(_xlfn.FORMULATEXT(C179)))))","v":153},"E-money token's audit details","","","",""]
[{"$f":"IF(Table4!E154=\"\",\"/*\",\"\")","v":"/*"},"mica:AuditIndicatorForEmoneyToken",{"$f":"Table4!E154","v":""},"2025-01-01","2025-12-31",null,null,null,null,null,null,null,null,null,null,null,null,null,null,null,null,null,null,null,null,null,{"$f":"ROW(INDIRECT(MID(_xlfn.FORMULATEXT(C180),2,LEN(_xlfn.FORMULATEXT(C180)))))","v":154},"E.9 Audit","Indication as to whether an audit of the technology used was conducted","boolean","error","The value of \"E.9 Audit\" must be provided."]
[{"$f":"IF(Table4!E155=\"\",\"/*\",\"\")","v":"/*"},"mica:AuditOutcomeForEmoneyTokenExplanatory",{"$f":"Table4!E155","v":""},"2025-01-01","2025-12-31",null,null,null,null,null,null,null,null,null,null,null,null,null,null,null,null,null,null,null,null,null,{"$f":"ROW(INDIRECT(MID(_xlfn.FORMULATEXT(C181),2,LEN(_xlfn.FORMULATEXT(C181)))))","v":155},"E.10 Audit outcome","If an audit was conducted, information on the outcome of the audit of the technology used","textBlock","error","If \"E.9 Audit\" is set to true, then \"E.10 Audit outcome\" must be provided with a fact value."]
[{"$f":"IF(Table4!E161=\"\",\"/*\",\"\")","v":"/*"},"mica:InformationOnSustainabilityIndicatorsInRelationToAdverseImpactOnClimateAndOtherEnvironmentrelatedAdverseImpactsForEmoneyTokenAbstract",{"$f":"Table4!E161","v":0},"2025-01-01","2025-12-31",null,null,null,null,null,null,null,null,null,null,null,null,null,null,null,null,null,null,null,null,null,{"$f":"ROW(INDIRECT(MID(_xlfn.FORMULATEXT(C182),2,LEN(_xlfn.FORMULATEXT(C182)))))","v":161},"Part G - Information on the sustainability indicators in relation to adverse impact on the climate and other environment-related adverse impacts","","","",""]
[{"$f":"IF(Table4!E162=\"\",\"/*\",\"\")","v":"/*"},"mica:InformationOnAdverseImpactsOnClimateAndOtherEnvironmentrelatedAdverseImpactsForEmoneyTokenExplanatory",{"$f":"Table4!E162","v":""},"2025-01-01","2025-12-31",null,null,null,null,null,null,null,null,null,null,null,null,null,null,null,null,null,null,null,null,null,{"$f":"ROW(INDIRECT(MID(_xlfn.FORMULATEXT(C183),2,LEN(_xlfn.FORMULATEXT(C183)))))","v":162},"G.1 Adverse impacts on climate and other environment-related adverse impacts","Include the information referred to Commission Delegated Regulation establishing technical standards adopted pursuant to Article 6(12), fourth subparagraph, Article 19(11), fourth subparagraph, Article 51(15), fourth subparagraph, and Article 66(6), fourth subparagraph of Regulation (EU) 2023/1114 of the European Parliament and of the Council","textBlock","",""]
[{"$f":"IF(Table4!E163=\"\",\"/*\",\"\")","v":"/*"},"mica:MandatoryInformationOnPrincipalAdverseImpactsOnClimateAndOtherEnvironmentrelatedAdverseImpactsOfConsensusMechanismAbstract",{"$f":"Table4!E163","v":0},"2025-01-01","2025-12-31",null,null,null,null,null,null,null,null,null,null,null,null,null,null,null,null,null,null,null,null,null,{"$f":"ROW(INDIRECT(MID(_xlfn.FORMULATEXT(C184),2,LEN(_xlfn.FORMULATEXT(C184)))))","v":163},"Mandatory information on principal adverse impacts on the climate and other environment-related adverse impacts of the consensus mechanism","","","",""]
[{"$f":"IF(Table4!E164=\"\",\"/*\",\"\")","v":"/*"},"mica:GeneralInformationAboutAdverseImpactsAbstract",{"$f":"Table4!E164","v":0},"2025-01-01","2025-12-31",null,null,null,null,null,null,null,null,null,null,null,null,null,null,null,null,null,null,null,null,null,{"$f":"ROW(INDIRECT(MID(_xlfn.FORMULATEXT(C185),2,LEN(_xlfn.FORMULATEXT(C185)))))","v":164},"General information about adverse impacts","","","",""]
[{"$f":"IF(Table4!E165=\"\",\"/*\",\"\")","v":"/*"},"mica:Name",{"$f":"Table4!E165","v":""},"2025-01-01","2025-12-31",null,null,null,null,null,null,null,null,null,null,null,null,null,null,null,null,null,null,null,null,null,{"$f":"ROW(INDIRECT(MID(_xlfn.FORMULATEXT(C186),2,LEN(_xlfn.FORMULATEXT(C186)))))","v":165},"S.1 Name","Name reported in Annex II to Commission Implementing Regulation (EU) 2024/2984 (1), Table 2, fields A.1, B.2 or C.1, Table 3, field A.1, or Table 4, or name of the crypto-asset service provider","text","error","The value of \"S.1 Name\" must be provided."]
[{"$f":"IF(Table4!E166=\"\",\"/*\",\"\")","v":"/*"},"mica:RelevantLegalEntityIdentifier",{"$f":"Table4!E166","v":""},"2025-01-01","2025-12-31",null,null,null,null,null,null,null,null,null,null,null,null,null,null,null,null,null,null,null,null,null,{"$f":"ROW(INDIRECT(MID(_xlfn.FORMULATEXT(C187),2,LEN(_xlfn.FORMULATEXT(C187)))))","v":166},"S.2 Relevant legal entity identifier","Identifier referred to in Annex II to Implementing Regulation (EU) 2024/2984, Table 2, fields A.6 or A.7, B.7 or B.8 or C.6 or C.7, Table 3, fields A.7 and A.8 or Table 4, fields A.7 and A.8 or identifier of the crypto-asset service provider referred to in Article 1 of Commission Delegated Regulation (EU) 2025/305 (2)","text","error","The value of \"S.2 Relevant legal entity identifier\" must be provided."]
[{"$f":"IF(Table4!E167=\"\",\"/*\",\"\")","v":"/*"},"mica:NameOfCryptoAssetSustainability",{"$f":"Table4!E167","v":""},"2025-01-01","2025-12-31",null,null,null,null,null,null,null,null,null,null,null,null,null,null,null,null,null,null,null,null,null,{"$f":"ROW(INDIRECT(MID(_xlfn.FORMULATEXT(C188),2,LEN(_xlfn.FORMULATEXT(C188)))))","v":167},"S.3 Name of the crypto-asset","Name of the crypto-asset, as reported in Annex II to Implementing Regulation (EU) 2024/2984, Table 2, field D.2, Table 3, field B.1, or Table 4, field B.1 where relevant","text","error","The value of \"S.3 Name of crypto-asset\" must be provided."]
[{"$f":"IF(Table4!E168=\"\",\"/*\",\"\")","v":"/*"},"mica:ConsensusMechanismSustainabilityExplanatory",{"$f":"Table4!E168","v":""},"2025-01-01","2025-12-31",null,null,null,null,null,null,null,null,null,null,null,null,null,null,null,null,null,null,null,null,null,{"$f":"ROW(INDIRECT(MID(_xlfn.FORMULATEXT(C189),2,LEN(_xlfn.FORMULATEXT(C189)))))","v":168},"S.4 Consensus mechanism","The consensus mechanism, as reported in Annex II to Implementing Regulation (EU) 2024/2984, Table 2, field H.4, Table 3, field E.4, or Table 4, field E.5, where relevant, including the information referred to in Article 6(1), point (b), of this Regulation.","text","error","The value of \"S.4 Consensus mechanism\" must be provided."]
[{"$f":"IF(Table4!E169=\"\",\"/*\",\"\")","v":"/*"},"mica:IncentiveMechanismsAndApplicableFeesSustainabilityExplanatory",{"$f":"Table4!E169","v":""},"2025-01-01","2025-12-31",null,null,null,null,null,null,null,null,null,null,null,null,null,null,null,null,null,null,null,null,null,{"$f":"ROW(INDIRECT(MID(_xlfn.FORMULATEXT(C190),2,LEN(_xlfn.FORMULATEXT(C190)))))","v":169},"S.5 Incentive mechanisms and applicable fees","Incentive mechanisms to secure transactions and any fees applicable, as reported in Annex II to Implementing Regulation (EU) 2024/2984, Table 2, field H.5, Table 3, field E.5 or Table 4, field E.6, where relevant.\r\nFor persons drawing up a crypto-asset white paper pursuant to Articles 6, 19 or 51 of Regulation (EU) 2023/1114, the information may be provided by including a cross-reference to the aforementioned fields.","text","error","The value of \"S.5 Incentive mechanisms and applicable fees\" must be provided."]
[{"$f":"IF(Table4!E170=\"\",\"/*\",\"\")","v":"/*"},"mica:BeginningOfPeriodToWhichDisclosedInformationRelates",{"$f":"Table4!E170","v":""},null,"2025-01-01",null,null,null,null,null,null,null,null,null,null,null,null,null,null,null,null,null,null,null,null,null,{"$f":"ROW(INDIRECT(MID(_xlfn.FORMULATEXT(C191),2,LEN(_xlfn.FORMULATEXT(C191)))))","v":170},"S.6 Beginning of period to which disclosed information relates","Start date of the period covered by the disclosed information","date","error","The value of \"S.6 Beginning of period to which disclosure relates\" must be provided."]
[{"$f":"IF(Table4!E171=\"\",\"/*\",\"\")","v":"/*"},"mica:EndOfPeriodToWhichDisclosedInformationRelates",{"$f":"Table4!E171","v":""},null,"2025-12-31",null,null,null,null,null,null,null,null,null,null,null,null,null,null,null,null,null,null,null,null,null,{"$f":"ROW(INDIRECT(MID(_xlfn.FORMULATEXT(C192),2,LEN(_xlfn.FORMULATEXT(C192)))))","v":171},"S.7 End of period to which disclosed information relates","End date of the period covered by the disclosed information","date","error","The value of \"S.7 End of period to which disclosure relates\" must be provided."]
[{"$f":"IF(Table4!E172=\"\",\"/*\",\"\")","v":"/*"},"mica:MandatoryKeyIndicatorOnEnergyConsumptionAbstract",{"$f":"Table4!E172","v":0},"2025-01-01","2025-12-31",null,null,null,null,null,null,null,null,null,null,null,null,null,null,null,null,null,null,null,null,null,{"$f":"ROW(INDIRECT(MID(_xlfn.FORMULATEXT(C193),2,LEN(_xlfn.FORMULATEXT(C193)))))","v":172},"Mandatory key indicator","","","",""]
[{"$f":"IF(Table4!E173=\"\",\"/*\",\"\")","v":"/*"},"mica:EnergyConsumption",{"$f":"Table4!E173","v":""},"2025-01-01","2025-12-31","utr:kWh",2,3,null,null,null,null,null,null,null,null,null,null,null,null,null,null,null,null,null,null,{"$f":"ROW(INDIRECT(MID(_xlfn.FORMULATEXT(C194),2,LEN(_xlfn.FORMULATEXT(C194)))))","v":173},"S.8 Energy consumption","Total amount of energy used for the validation of transactions and the maintenance of the integrity of the distributed ledger, expressed in kilowatt-hours per calendar year","energy (kWh) ","error","The value of \"S.8 Energy consumption\" must be provided."]
[{"$f":"IF(Table4!E174=\"\",\"/*\",\"\")","v":"/*"},"mica:SourcesAndMethodologiesOnEnergyConsumptionsAbstract",{"$f":"Table4!E174","v":0},"2025-01-01","2025-12-31",null,null,null,null,null,null,null,null,null,null,null,null,null,null,null,null,null,null,null,null,null,{"$f":"ROW(INDIRECT(MID(_xlfn.FORMULATEXT(C195),2,LEN(_xlfn.FORMULATEXT(C195)))))","v":174},"Sources and methodologies","","","",""]
[{"$f":"IF(Table4!E175=\"\",\"/*\",\"\")","v":"/*"},"mica:DescriptionOfEnergyConsumptionSourcesAndMethodologiesExplanatory",{"$f":"Table4!E175","v":""},"2025-01-01","2025-12-31",null,null,null,null,null,null,null,null,null,null,null,null,null,null,null,null,null,null,null,null,null,{"$f":"ROW(INDIRECT(MID(_xlfn.FORMULATEXT(C196),2,LEN(_xlfn.FORMULATEXT(C196)))))","v":175},"S.9 Energy consumption sources and methodologies","Sources and methodologies used in relation to the information reported in field S.8","textBlock","error","The value of \"S.9 Energy consumption sources and methodologies\" must be provided."]
[{"$f":"IF(Table4!E176=\"\",\"/*\",\"\")","v":"/*"},"mica:SupplementaryInformationOnPrincipalAdverseImpactsOnClimateAndOtherEnvironmentrelatedAdverseImpactsOfConsensusMechanismAbstract",{"$f":"Table4!E176","v":0},"2025-01-01","2025-12-31",null,null,null,null,null,null,null,null,null,null,null,null,null,null,null,null,null,null,null,null,null,{"$f":"ROW(INDIRECT(MID(_xlfn.FORMULATEXT(C197),2,LEN(_xlfn.FORMULATEXT(C197)))))","v":176},"Supplementary information on principal adverse impacts on climate and other environment-related adverse impacts of consensus mechanism","","","",""]
[{"$f":"IF(Table4!E177=\"\",\"/*\",\"\")","v":"/*"},"mica:SupplementaryKeyIndicatorsOnEnergyAndGHGEmissionsAbstract",{"$f":"Table4!E177","v":0},"2025-01-01","2025-12-31",null,null,null,null,null,null,null,null,null,null,null,null,null,null,null,null,null,null,null,null,null,{"$f":"ROW(INDIRECT(MID(_xlfn.FORMULATEXT(C198),2,LEN(_xlfn.FORMULATEXT(C198)))))","v":177},"Supplementary key indicators","","","",""]
[{"$f":"IF(Table4!E178=\"\",\"/*\",\"\")","v":"/*"},"mica:RenewableEnergyConsumptionPercentage",{"$f":"Table4!E178","v":""},"2025-01-01","2025-12-31","xbrli:pure",4,-2,null,null,null,null,null,null,null,null,null,null,null,null,null,null,null,null,null,null,{"$f":"ROW(INDIRECT(MID(_xlfn.FORMULATEXT(C199),2,LEN(_xlfn.FORMULATEXT(C199)))))","v":178},"S.10 Renewable energy consumption","Share of energy from renewable sources, used for the validation of transactions and the maintenance of the integrity of the distributed ledger, expressed as a percentage of the total amount of energy used per calendar year","percent","",""]
[{"$f":"IF(Table4!E179=\"\",\"/*\",\"\")","v":"/*"},"mica:EnergyIntensity",{"$f":"Table4!E179","v":""},"2025-01-01","2025-12-31","utr:kWh",2,3,null,null,null,null,null,null,null,null,null,null,null,null,null,null,null,null,null,null,{"$f":"ROW(INDIRECT(MID(_xlfn.FORMULATEXT(C200),2,LEN(_xlfn.FORMULATEXT(C200)))))","v":179},"S.11 Energy intensity","Average amount of energy used per validated transaction","energy (kWh)","",""]
[{"$f":"IF(Table4!E180=\"\",\"/*\",\"\")","v":"/*"},"mica:Scope1DLTGHGEmissionsControlled",{"$f":"Table4!E180","v":""},"2025-01-01","2025-12-31","utr:tCO2e",0,0,null,null,null,null,null,null,null,null,null,null,null,null,null,null,null,null,null,null,{"$f":"ROW(INDIRECT(MID(_xlfn.FORMULATEXT(C201),2,LEN(_xlfn.FORMULATEXT(C201)))))","v":180},"S.12 Scope 1 DLT GHG emissions - controlled","Scope 1 GHG emissions per calendar year for the validation of transactions and the maintenance of the integrity of the distributed ledger","GHG emissions (tCO2e)","",""]
[{"$f":"IF(Table4!E181=\"\",\"/*\",\"\")","v":"/*"},"mica:Scope2DLTGHGEmissionsPurchased",{"$f":"Table4!E181","v":""},"2025-01-01","2025-12-31","utr:tCO2e",0,0,null,null,null,null,null,null,null,null,null,null,null,null,null,null,null,null,null,null,{"$f":"ROW(INDIRECT(MID(_xlfn.FORMULATEXT(C202),2,LEN(_xlfn.FORMULATEXT(C202)))))","v":181},"S.13 Scope 2 DLT GHG emissions - purchased","Scope 2 GHG emissions, expressed in tCO2e per calendar year for the validation of transactions and the maintenance of the integrity of the distributed ledger","GHG emissions (tCO2e)","",""]
[{"$f":"IF(Table4!E182=\"\",\"/*\",\"\")","v":"/*"},"mica:GHGIntensity",{"$f":"Table4!E182","v":""},"2025-01-01","2025-12-31","utr:tCO2e",0,0,null,null,null,null,null,null,null,null,null,null,null,null,null,null,null,null,null,null,{"$f":"ROW(INDIRECT(MID(_xlfn.FORMULATEXT(C203),2,LEN(_xlfn.FORMULATEXT(C203)))))","v":182},"S.14 GHG intensity","Average GHG emissions (scope 1 and scope 2) per validated transaction","GHG emissions (tCO2e)","",""]
[{"$f":"IF(Table4!E183=\"\",\"/*\",\"\")","v":"/*"},"mica:KeySourcesAndMethodologiesAbstract",{"$f":"Table4!E183","v":0},"2025-01-01","2025-12-31",null,null,null,null,null,null,null,null,null,null,null,null,null,null,null,null,null,null,null,null,null,{"$f":"ROW(INDIRECT(MID(_xlfn.FORMULATEXT(C204),2,LEN(_xlfn.FORMULATEXT(C204)))))","v":183},"Sources and methodologies","","","",""]
[{"$f":"IF(Table4!E184=\"\",\"/*\",\"\")","v":"/*"},"mica:DescriptionOfKeyEnergySourcesAndMethodologiesExplanatory",{"$f":"Table4!E184","v":""},"2025-01-01","2025-12-31",null,null,null,null,null,null,null,null,null,null,null,null,null,null,null,null,null,null,null,null,null,{"$f":"ROW(INDIRECT(MID(_xlfn.FORMULATEXT(C205),2,LEN(_xlfn.FORMULATEXT(C205)))))","v":184},"S.15 Key energy sources and methodologies","Sources and methodologies used in relation to the information reported in fields S.10 and S.11","textBlock","",""]
[{"$f":"IF(Table4!E185=\"\",\"/*\",\"\")","v":"/*"},"mica:DescriptionOfKeyGHGSourcesAndMethodologiesExplanatory",{"$f":"Table4!E185","v":""},"2025-01-01","2025-12-31",null,null,null,null,null,null,null,null,null,null,null,null,null,null,null,null,null,null,null,null,null,{"$f":"ROW(INDIRECT(MID(_xlfn.FORMULATEXT(C206),2,LEN(_xlfn.FORMULATEXT(C206)))))","v":185},"S.16 Key GHG sources and methodologies","Sources and methodologies used in relation to the information reported in fields S.12, S.13 and S.14","textBlock","",""]
[{"$f":"IF(Table4!E186=\"\",\"/*\",\"\")","v":"/*"},"mica:OptionalInformationOnPrincipalAdverseImpactsOnClimateAndOnOtherEnvironmentrelatedAdverseImpactsOfConsensusMechanismAbstract",{"$f":"Table4!E186","v":0},"2025-01-01","2025-12-31",null,null,null,null,null,null,null,null,null,null,null,null,null,null,null,null,null,null,null,null,null,{"$f":"ROW(INDIRECT(MID(_xlfn.FORMULATEXT(C207),2,LEN(_xlfn.FORMULATEXT(C207)))))","v":186},"Optional information on principal adverse impacts on the climate and on other environment-related adverse impacts of the consensus mechanism","","","",""]
[{"$f":"IF(Table4!E187=\"\",\"/*\",\"\")","v":"/*"},"mica:OptionalIndicatorsAbstract",{"$f":"Table4!E187","v":0},"2025-01-01","2025-12-31",null,null,null,null,null,null,null,null,null,null,null,null,null,null,null,null,null,null,null,null,null,{"$f":"ROW(INDIRECT(MID(_xlfn.FORMULATEXT(C208),2,LEN(_xlfn.FORMULATEXT(C208)))))","v":187},"Optional indicators","","","",""]
[{"$f":"IF(Table4!E188=\"\",\"/*\",\"\")","v":"/*"},"mica:EnergyMixPercentage",{"$f":"Table4!E188","v":""},"2025-01-01","2025-12-31","xbrli:pure",4,-2,null,null,null,null,null,null,null,null,null,null,null,null,null,null,null,null,null,null,{"$f":"ROW(INDIRECT(MID(_xlfn.FORMULATEXT(C209),2,LEN(_xlfn.FORMULATEXT(C209)))))","v":188},"S. 17 Energy mix","Description of the relative contributions of each different primary energy source used for the validation of transactions and the maintenance of the integrity of the distributed ledger, expressed as percentages","percent","",""]
[{"$f":"IF(Table4!E189=\"\",\"/*\",\"\")","v":"/*"},"mica:EnergyUseReductionDetailsAbstract",{"$f":"Table4!E189","v":0},"2025-01-01","2025-12-31",null,null,null,null,null,null,null,null,null,null,null,null,null,null,null,null,null,null,null,null,null,{"$f":"ROW(INDIRECT(MID(_xlfn.FORMULATEXT(C210),2,LEN(_xlfn.FORMULATEXT(C210)))))","v":189},"S.18 Energy use reduction","Energy use reduction targets or commitments, expressed in absolute or relative reduction of energy use over one calendar year","","",""]
[{"$f":"IF(Table4!E190=\"\",\"/*\",\"\")","v":"/*"},"mica:EnergyUseReductionTargetAbsoluteValue",{"$f":"Table4!E190","v":""},"2025-01-01","2025-12-31","utr:kWh",2,3,null,null,null,null,null,null,null,null,null,null,null,null,null,null,null,null,null,null,{"$f":"ROW(INDIRECT(MID(_xlfn.FORMULATEXT(C211),2,LEN(_xlfn.FORMULATEXT(C211)))))","v":190},"Energy use reduction target (absolute value)","","energy (kWh)","",""]
[{"$f":"IF(Table4!E191=\"\",\"/*\",\"\")","v":"/*"},"mica:EnergyUseReductionTargetPercentage",{"$f":"Table4!E191","v":""},"2025-01-01","2025-12-31","xbrli:pure",4,-2,null,null,null,null,null,null,null,null,null,null,null,null,null,null,null,null,null,null,{"$f":"ROW(INDIRECT(MID(_xlfn.FORMULATEXT(C212),2,LEN(_xlfn.FORMULATEXT(C212)))))","v":191},"Energy use reduction target (percentage)","","percent","",""]
[{"$f":"IF(Table4!E192=\"\",\"/*\",\"\")","v":"/*"},"mica:CarbonIntensity",{"$f":"Table4!E192","v":""},"2025-01-01","2025-12-31","xbrli:pure","INF",0,null,null,null,null,null,null,null,null,null,null,null,null,null,null,null,null,null,null,{"$f":"ROW(INDIRECT(MID(_xlfn.FORMULATEXT(C213),2,LEN(_xlfn.FORMULATEXT(C213)))))","v":192},"S.19 Carbon intensity","Carbon intensity of the energy used for the validation of transactions and the maintenance of the integrity of the distributed ledger","decimal","",""]
[{"$f":"IF(Table4!E193=\"\",\"/*\",\"\")","v":"/*"},"mica:Scope3DLTGHGEmissionsValueChain",{"$f":"Table4!E193","v":""},"2025-01-01","2025-12-31","utr:tCO2e",0,0,null,null,null,null,null,null,null,null,null,null,null,null,null,null,null,null,null,null,{"$f":"ROW(INDIRECT(MID(_xlfn.FORMULATEXT(C214),2,LEN(_xlfn.FORMULATEXT(C214)))))","v":193},"S.20 Scope 3 DLT GHG emissions - value chain","Scope 3 GHG emissions for the validation of transactions and the maintenance of the integrity of the distributed ledger per calendar year","GHG emissions (tCO2e)","",""]
[{"$f":"IF(Table4!E194=\"\",\"/*\",\"\")","v":"/*"},"mica:GHGEmissionsReductionTargetsOrCommitmentsExplanatory",{"$f":"Table4!E194","v":""},"2025-01-01","2025-12-31",null,null,null,null,null,null,null,null,null,null,null,null,null,null,null,null,null,null,null,null,null,{"$f":"ROW(INDIRECT(MID(_xlfn.FORMULATEXT(C215),2,LEN(_xlfn.FORMULATEXT(C215)))))","v":194},"S.21 GHG emissions reduction targets or commitments","GHG emissions reduction targets or commitments, expressed in terms of absolute or relative reduction in GHG emissions over one calendar year","textBlock","",""]
[{"$f":"IF(Table4!E195=\"\",\"/*\",\"\")","v":"/*"},"mica:GenerationOfWasteElectricalAndElectronicEquipmentWEEE",{"$f":"Table4!E195","v":""},"2025-01-01","2025-12-31","utr:t",2,0,null,null,null,null,null,null,null,null,null,null,null,null,null,null,null,null,null,null,{"$f":"ROW(INDIRECT(MID(_xlfn.FORMULATEXT(C216),2,LEN(_xlfn.FORMULATEXT(C216)))))","v":195},"S.22 Generation of waste electrical and electronic equipment (WEEE)","Total amount of WEEE generated for the validation of transactions and the maintenance of the integrity of the distributed ledger per calendar year","mass (tonnes)","",""]
[{"$f":"IF(Table4!E196=\"\",\"/*\",\"\")","v":"/*"},"mica:NonrecycledWEEEratio",{"$f":"Table4!E196","v":""},"2025-01-01","2025-12-31","xbrli:pure",4,-2,null,null,null,null,null,null,null,null,null,null,null,null,null,null,null,null,null,null,{"$f":"ROW(INDIRECT(MID(_xlfn.FORMULATEXT(C217),2,LEN(_xlfn.FORMULATEXT(C217)))))","v":196},"S.23 Non-recycled WEEE ratio","Share of the total amount of WEEE generated for the validation of transactions and the maintenance of the integrity of the distributed ledger, not recycled per calendar year","percent","",""]
[{"$f":"IF(Table4!E197=\"\",\"/*\",\"\")","v":"/*"},"mica:GenerationOfHazardousWaste",{"$f":"Table4!E197","v":""},"2025-01-01","2025-12-31","utr:t",2,0,null,null,null,null,null,null,null,null,null,null,null,null,null,null,null,null,null,null,{"$f":"ROW(INDIRECT(MID(_xlfn.FORMULATEXT(C218),2,LEN(_xlfn.FORMULATEXT(C218)))))","v":197},"S.24 Generation of hazardous waste","Total amount of hazardous waste generated for the validation of transactions and the maintenance of the integrity of the distributed ledger per calendar year","mass (tonnes)","",""]
[{"$f":"IF(Table4!E198=\"\",\"/*\",\"\")","v":"/*"},"mica:GenerationOfWasteAllTypes",{"$f":"Table4!E198","v":""},"2025-01-01","2025-12-31","utr:t",2,0,null,null,null,null,null,null,null,null,null,null,null,null,null,null,null,null,null,null,{"$f":"ROW(INDIRECT(MID(_xlfn.FORMULATEXT(C219),2,LEN(_xlfn.FORMULATEXT(C219)))))","v":198},"S.25 Generation of waste (all types)","Total amount of waste generated by the validation of transactions and the maintenance of the integrity of the distributed ledger","mass (tonnes)","",""]
[{"$f":"IF(Table4!E199=\"\",\"/*\",\"\")","v":"/*"},"mica:NonrecycledWasteRatioAllTypes",{"$f":"Table4!E199","v":""},"2025-01-01","2025-12-31","xbrli:pure",4,-2,null,null,null,null,null,null,null,null,null,null,null,null,null,null,null,null,null,null,{"$f":"ROW(INDIRECT(MID(_xlfn.FORMULATEXT(C220),2,LEN(_xlfn.FORMULATEXT(C220)))))","v":199},"S.26 Non-recycled waste ratio (all types)","Share of the total amount of waste generated for the validation of transactions and the maintenance of the integrity of the distributed ledger not recycled per calendar year","percent","",""]
[{"$f":"IF(Table4!E200=\"\",\"/*\",\"\")","v":"/*"},"mica:WasteIntensityAllTypes",{"$f":"Table4!E200","v":""},"2025-01-01","2025-12-31","utr:t",2,0,null,null,null,null,null,null,null,null,null,null,null,null,null,null,null,null,null,null,{"$f":"ROW(INDIRECT(MID(_xlfn.FORMULATEXT(C221),2,LEN(_xlfn.FORMULATEXT(C221)))))","v":200},"S.27 Waste intensity (all types)","Total amount of waste generated per transaction validated","mass (tonnes)","",""]
[{"$f":"IF(Table4!E201=\"\",\"/*\",\"\")","v":"/*"},"mica:WasteReductionTargetsOrCommitmentsAllTypesExplanatory",{"$f":"Table4!E201","v":""},"2025-01-01","2025-12-31",null,null,null,null,null,null,null,null,null,null,null,null,null,null,null,null,null,null,null,null,null,{"$f":"ROW(INDIRECT(MID(_xlfn.FORMULATEXT(C222),2,LEN(_xlfn.FORMULATEXT(C222)))))","v":201},"S.28 Waste reduction targets or commitments (all types)","Waste reduction targets or commitments, expressed in absolute or relative reduction in waste generation over one calendar year","textBlock","",""]
[{"$f":"IF(Table4!E202=\"\",\"/*\",\"\")","v":"/*"},"mica:ImpactOfUseOfEquipmentOnNaturalResourcesExplanatory",{"$f":"Table4!E202","v":""},"2025-01-01","2025-12-31",null,null,null,null,null,null,null,null,null,null,null,null,null,null,null,null,null,null,null,null,null,{"$f":"ROW(INDIRECT(MID(_xlfn.FORMULATEXT(C223),2,LEN(_xlfn.FORMULATEXT(C223)))))","v":202},"S.29 Impact of use of equipment on natural resources","Description of the impact on natural resources of the production, the use and the disposal of the devices of the DLT network nodes","textBlock","",""]
[{"$f":"IF(Table4!E203=\"\",\"/*\",\"\")","v":"/*"},"mica:NaturalResourcesUseReductionTargetsOrCommitmentsExplanatory",{"$f":"Table4!E203","v":""},"2025-01-01","2025-12-31",null,null,null,null,null,null,null,null,null,null,null,null,null,null,null,null,null,null,null,null,null,{"$f":"ROW(INDIRECT(MID(_xlfn.FORMULATEXT(C224),2,LEN(_xlfn.FORMULATEXT(C224)))))","v":203},"S.30 Natural resources use reduction targets or commitments","Natural resources use reduction targets or commitments, expressed in absolute or relative reduction in use of natural resources over one calendar year","textBlock","",""]
[{"$f":"IF(Table4!E204=\"\",\"/*\",\"\")","v":"/*"},"mica:WaterUse",{"$f":"Table4!E204","v":""},"2025-01-01","2025-12-31","utr:m3",4,0,null,null,null,null,null,null,null,null,null,null,null,null,null,null,null,null,null,null,{"$f":"ROW(INDIRECT(MID(_xlfn.FORMULATEXT(C225),2,LEN(_xlfn.FORMULATEXT(C225)))))","v":204},"S.31 Water use","Total water consumption linked to the validation of transactions and the maintenance of the integrity of the distributed ledger, expressed in cubic meters","volume (m3)","",""]
[{"$f":"IF(Table4!E205=\"\",\"/*\",\"\")","v":"/*"},"mica:NonRecycledWaterRatio",{"$f":"Table4!E205","v":""},"2025-01-01","2025-12-31","xbrli:pure",4,-2,null,null,null,null,null,null,null,null,null,null,null,null,null,null,null,null,null,null,{"$f":"ROW(INDIRECT(MID(_xlfn.FORMULATEXT(C226),2,LEN(_xlfn.FORMULATEXT(C226)))))","v":205},"S.32 Non recycled water ratio","Share of the total water consumed not recycled and not reused linked to the validation of transactions and the maintenance of the integrity of the distributed ledger per calendar year, expressed as a percentage","percent","",""]
[{"$f":"IF(Table4!E206=\"\",\"/*\",\"\")","v":"/*"},"mica:OtherSourcesAndMethodologiesAbstract",{"$f":"Table4!E206","v":0},"2025-01-01","2025-12-31",null,null,null,null,null,null,null,null,null,null,null,null,null,null,null,null,null,null,null,null,null,{"$f":"ROW(INDIRECT(MID(_xlfn.FORMULATEXT(C227),2,LEN(_xlfn.FORMULATEXT(C227)))))","v":206},"Sources and methodologies","","","",""]
[{"$f":"IF(Table4!E207=\"\",\"/*\",\"\")","v":"/*"},"mica:OtherEnergySourcesAndMethodologiesExplanatory",{"$f":"Table4!E207","v":""},"2025-01-01","2025-12-31",null,null,null,null,null,null,null,null,null,null,null,null,null,null,null,null,null,null,null,null,null,{"$f":"ROW(INDIRECT(MID(_xlfn.FORMULATEXT(C228),2,LEN(_xlfn.FORMULATEXT(C228)))))","v":207},"S.33 Other energy sources and methodologies","Sources and methodologies used in relation to the information reported in fields S.17 and S.18","textBlock","",""]
[{"$f":"IF(Table4!E208=\"\",\"/*\",\"\")","v":"/*"},"mica:OtherGHGSourcesAndMethodologiesExplanatory",{"$f":"Table4!E208","v":""},"2025-01-01","2025-12-31",null,null,null,null,null,null,null,null,null,null,null,null,null,null,null,null,null,null,null,null,null,{"$f":"ROW(INDIRECT(MID(_xlfn.FORMULATEXT(C229),2,LEN(_xlfn.FORMULATEXT(C229)))))","v":208},"S.34 Other GHG sources and methodologies","Sources and methodologies used in relation to the information reported in fields S.19, S.20 and S.21","textBlock","",""]
[{"$f":"IF(Table4!E209=\"\",\"/*\",\"\")","v":"/*"},"mica:WasteSourcesAndMethodologiesExplanatory",{"$f":"Table4!E209","v":""},"2025-01-01","2025-12-31",null,null,null,null,null,null,null,null,null,null,null,null,null,null,null,null,null,null,null,null,null,{"$f":"ROW(INDIRECT(MID(_xlfn.FORMULATEXT(C230),2,LEN(_xlfn.FORMULATEXT(C230)))))","v":209},"S.35 Waste sources and methodologies","Sources and methodologies used in relation to the information reported in fields S.22, S.23, S.24, S.25, S.26, S.27 and S.28","textBlock","",""]
[{"$f":"IF(Table4!E210=\"\",\"/*\",\"\")","v":"/*"},"mica:NaturalResourcesSourcesAndMethodologiesExplanatory",{"$f":"Table4!E210","v":""},"2025-01-01","2025-12-31",null,null,null,null,null,null,null,null,null,null,null,null,null,null,null,null,null,null,null,null,null,{"$f":"ROW(INDIRECT(MID(_xlfn.FORMULATEXT(C231),2,LEN(_xlfn.FORMULATEXT(C231)))))","v":210},"S.36 Natural resources sources and methodologies","Sources and methodologies used in relation to the information reported in fields S.29, S.30, S.31 and S.32","textBlock","",""]

{"sheet":"enum-CountryDomain","index":28,"n_rows":256,"n_cols":2,"rows_kept":256,"cut":false,"hidden":true,"merged":[]}
["https://xbrl.org/2024/iso3166#AD","Andorra"]
["https://xbrl.org/2024/iso3166#AE","United Arab Emirates"]
["https://xbrl.org/2024/iso3166#AF","Afghanistan"]
["https://xbrl.org/2024/iso3166#AG","Antigua and Barbuda"]
["https://xbrl.org/2024/iso3166#AI","Anguilla"]
["https://xbrl.org/2024/iso3166#AL","Albania"]
["https://xbrl.org/2024/iso3166#AM","Armenia"]
["https://xbrl.org/2024/iso3166#AN","Netherlands Antilles (before 2010-12-15)"]
["https://xbrl.org/2024/iso3166#AO","Angola"]
["https://xbrl.org/2024/iso3166#AQ","Antarctica"]
["https://xbrl.org/2024/iso3166#AR","Argentina"]
["https://xbrl.org/2024/iso3166#AS","American Samoa"]
["https://xbrl.org/2024/iso3166#AT","Austria"]
["https://xbrl.org/2024/iso3166#AU","Australia"]
["https://xbrl.org/2024/iso3166#AW","Aruba"]
["https://xbrl.org/2024/iso3166#AX","Åland Islands"]
["https://xbrl.org/2024/iso3166#AZ","Azerbaijan"]
["https://xbrl.org/2024/iso3166#BA","Bosnia and Herzegovina"]
["https://xbrl.org/2024/iso3166#BB","Barbados"]
["https://xbrl.org/2024/iso3166#BD","Bangladesh"]
["https://xbrl.org/2024/iso3166#BE","Belgium"]
["https://xbrl.org/2024/iso3166#BF","Burkina Faso"]
["https://xbrl.org/2024/iso3166#BG","Bulgaria"]
["https://xbrl.org/2024/iso3166#BH","Bahrain"]
["https://xbrl.org/2024/iso3166#BI","Burundi"]
["https://xbrl.org/2024/iso3166#BJ","Benin"]
["https://xbrl.org/2024/iso3166#BL","Saint Barthélemy"]
["https://xbrl.org/2024/iso3166#BM","Bermuda"]
["https://xbrl.org/2024/iso3166#BN","Brunei Darussalam"]
["https://xbrl.org/2024/iso3166#BO","Bolivia (Plurinational State of)"]
["https://xbrl.org/2024/iso3166#BQ","Bonaire, Sint Eustatius and Saba"]
["https://xbrl.org/2024/iso3166#BR","Brazil"]
["https://xbrl.org/2024/iso3166#BS","Bahamas"]
["https://xbrl.org/2024/iso3166#BT","Bhutan"]
["https://xbrl.org/2024/iso3166#BU","Burma (before 1989-12-15)"]
["https://xbrl.org/2024/iso3166#BV","Bouvet Island"]
["https://xbrl.org/2024/iso3166#BW","Botswana"]
["https://xbrl.org/2024/iso3166#BY","Belarus"]
["https://xbrl.org/2024/iso3166#BZ","Belize"]
["https://xbrl.org/2024/iso3166#CA","Canada"]
["https://xbrl.org/2024/iso3166#CC","Cocos (Keeling) Islands"]
["https://xbrl.org/2024/iso3166#CD","Congo (the Democratic Republic of the)"]
["https://xbrl.org/2024/iso3166#CF","Central African Republic"]
["https://xbrl.org/2024/iso3166#CG","Congo"]
["https://xbrl.org/2024/iso3166#CH","Switzerland"]
["https://xbrl.org/2024/iso3166#CI","Côte d'Ivoire"]
["https://xbrl.org/2024/iso3166#CK","Cook Islands"]
["https://xbrl.org/2024/iso3166#CL","Chile"]
["https://xbrl.org/2024/iso3166#CM","Cameroon"]
["https://xbrl.org/2024/iso3166#CN","China"]
["https://xbrl.org/2024/iso3166#CO","Colombia"]
["https://xbrl.org/2024/iso3166#CR","Costa Rica"]
["https://xbrl.org/2024/iso3166#CS","Serbia and Montenegro (before 2006-09-26)"]
["https://xbrl.org/2024/iso3166#CU","Cuba"]
["https://xbrl.org/2024/iso3166#CV","Cabo Verde"]
["https://xbrl.org/2024/iso3166#CW","Curaçao"]
["https://xbrl.org/2024/iso3166#CX","Christmas Island"]
["https://xbrl.org/2024/iso3166#CY","Cyprus"]
["https://xbrl.org/2024/iso3166#CZ","Czechia"]
["https://xbrl.org/2024/iso3166#DE","Germany"]
["https://xbrl.org/2024/iso3166#DJ","Djibouti"]
["https://xbrl.org/2024/iso3166#DK","Denmark"]
["https://xbrl.org/2024/iso3166#DM","Dominica"]
["https://xbrl.org/2024/iso3166#DO","Dominican Republic"]
["https://xbrl.org/2024/iso3166#DZ","Algeria"]
["https://xbrl.org/2024/iso3166#EC","Ecuador"]
["https://xbrl.org/2024/iso3166#EE","Estonia"]
["https://xbrl.org/2024/iso3166#EG","Egypt"]
["https://xbrl.org/2024/iso3166#EH","Western Sahara*"]
["https://xbrl.org/2024/iso3166#ER","Eritrea"]
["https://xbrl.org/2024/iso3166#ES","Spain"]
["https://xbrl.org/2024/iso3166#ET","Ethiopia"]
["https://xbrl.org/2024/iso3166#FI","Finland"]
["https://xbrl.org/2024/iso3166#FJ","Fiji"]
["https://xbrl.org/2024/iso3166#FK","Falkland Islands (the) [Malvinas]"]
["https://xbrl.org/2024/iso3166#FM","Micronesia (Federated States of)"]
["https://xbrl.org/2024/iso3166#FO","Faroe Islands"]
["https://xbrl.org/2024/iso3166#FR","France"]
["https://xbrl.org/2024/iso3166#GA","Gabon"]
["https://xbrl.org/2024/iso3166#GB","United Kingdom of Great Britain and Northern Ireland"]
["https://xbrl.org/2024/iso3166#GD","Grenada"]
["https://xbrl.org/2024/iso3166#GE","Georgia"]
["https://xbrl.org/2024/iso3166#GF","French Guiana"]
["https://xbrl.org/2024/iso3166#GG","Guernsey"]
["https://xbrl.org/2024/iso3166#GH","Ghana"]
["https://xbrl.org/2024/iso3166#GI","Gibraltar"]
["https://xbrl.org/2024/iso3166#GL","Greenland"]
["https://xbrl.org/2024/iso3166#GM","Gambia"]
["https://xbrl.org/2024/iso3166#GN","Guinea"]
["https://xbrl.org/2024/iso3166#GP","Guadeloupe"]
["https://xbrl.org/2024/iso3166#GQ","Equatorial Guinea"]
["https://xbrl.org/2024/iso3166#GR","Greece"]
["https://xbrl.org/2024/iso3166#GS","South Georgia and the South Sandwich Islands"]
["https://xbrl.org/2024/iso3166#GT","Guatemala"]
["https://xbrl.org/2024/iso3166#GU","Guam"]
["https://xbrl.org/2024/iso3166#GW","Guinea-Bissau"]
["https://xbrl.org/2024/iso3166#GY","Guyana"]
["https://xbrl.org/2024/iso3166#HK","Hong Kong"]
["https://xbrl.org/2024/iso3166#HM","Heard Island and McDonald Islands"]
["https://xbrl.org/2024/iso3166#HN","Honduras"]
["https://xbrl.org/2024/iso3166#HR","Croatia"]
["https://xbrl.org/2024/iso3166#HT","Haiti"]
["https://xbrl.org/2024/iso3166#HU","Hungary"]
["https://xbrl.org/2024/iso3166#ID","Indonesia"]
["https://xbrl.org/2024/iso3166#IE","Ireland"]
["https://xbrl.org/2024/iso3166#IL","Israel"]
["https://xbrl.org/2024/iso3166#IM","Isle of Man"]
["https://xbrl.org/2024/iso3166#IN","India"]
["https://xbrl.org/2024/iso3166#IO","British Indian Ocean Territory"]
["https://xbrl.org/2024/iso3166#IQ","Iraq"]
["https://xbrl.org/2024/iso3166#IR","Iran (Islamic Republic of)"]
["https://xbrl.org/2024/iso3166#IS","Iceland"]
["https://xbrl.org/2024/iso3166#IT","Italy"]
["https://xbrl.org/2024/iso3166#JE","Jersey"]
["https://xbrl.org/2024/iso3166#JM","Jamaica"]
["https://xbrl.org/2024/iso3166#JO","Jordan"]
["https://xbrl.org/2024/iso3166#JP","Japan"]
["https://xbrl.org/2024/iso3166#KE","Kenya"]
["https://xbrl.org/2024/iso3166#KG","Kyrgyzstan"]
["https://xbrl.org/2024/iso3166#KH","Cambodia"]
["https://xbrl.org/2024/iso3166#KI","Kiribati"]
["https://xbrl.org/2024/iso3166#KM","Comoros"]
["https://xbrl.org/2024/iso3166#KN","Saint Kitts and Nevis"]
["https://xbrl.org/2024/iso3166#KP","Korea (the Democratic People's Republic of)"]
["https://xbrl.org/2024/iso3166#KR","Korea (the Republic of)"]
["https://xbrl.org/2024/iso3166#KW","Kuwait"]
["https://xbrl.org/2024/iso3166#KY","Cayman Islands"]
["https://xbrl.org/2024/iso3166#KZ","Kazakhstan"]
["https://xbrl.org/2024/iso3166#LA","Lao People's Democratic Republic"]
["https://xbrl.org/2024/iso3166#LB","Lebanon"]
["https://xbrl.org/2024/iso3166#LC","Saint Lucia"]
["https://xbrl.org/2024/iso3166#LI","Liechtenstein"]
["https://xbrl.org/2024/iso3166#LK","Sri Lanka"]
["https://xbrl.org/2024/iso3166#LR","Liberia"]
["https://xbrl.org/2024/iso3166#LS","Lesotho"]
["https://xbrl.org/2024/iso3166#LT","Lithuania"]
["https://xbrl.org/2024/iso3166#LU","Luxembourg"]
["https://xbrl.org/2024/iso3166#LV","Latvia"]
["https://xbrl.org/2024/iso3166#LY","Libya"]
["https://xbrl.org/2024/iso3166#MA","Morocco"]
["https://xbrl.org/2024/iso3166#MC","Monaco"]
["https://xbrl.org/2024/iso3166#MD","Moldova (the Republic of)"]
["https://xbrl.org/2024/iso3166#ME","Montenegro"]
["https://xbrl.org/2024/iso3166#MF","Saint Martin (French part)"]
["https://xbrl.org/2024/iso3166#MG","Madagascar"]
["https://xbrl.org/2024/iso3166#MH","Marshall Islands"]
["https://xbrl.org/2024/iso3166#MK","North Macedonia"]
["https://xbrl.org/2024/iso3166#ML","Mali"]
["https://xbrl.org/2024/iso3166#MM","Myanmar"]
["https://xbrl.org/2024/iso3166#MN","Mongolia"]
["https://xbrl.org/2024/iso3166#MO","Macao"]
["https://xbrl.org/2024/iso3166#MP","Northern Mariana Islands"]
["https://xbrl.org/2024/iso3166#MQ","Martinique"]
["https://xbrl.org/2024/iso3166#MR","Mauritania"]
["https://xbrl.org/2024/iso3166#MS","Montserrat"]
["https://xbrl.org/2024/iso3166#MT","Malta"]
["https://xbrl.org/2024/iso3166#MU","Mauritius"]
["https://xbrl.org/2024/iso3166#MV","Maldives"]
["https://xbrl.org/2024/iso3166#MW","Malawi"]
["https://xbrl.org/2024/iso3166#MX","Mexico"]
["https://xbrl.org/2024/iso3166#MY","Malaysia"]
["https://xbrl.org/2024/iso3166#MZ","Mozambique"]
["https://xbrl.org/2024/iso3166#NA","Namibia"]
["https://xbrl.org/2024/iso3166#NC","New Caledonia"]
["https://xbrl.org/2024/iso3166#NE","Niger"]
["https://xbrl.org/2024/iso3166#NF","Norfolk Island"]
["https://xbrl.org/2024/iso3166#NG","Nigeria"]
["https://xbrl.org/2024/iso3166#NI","Nicaragua"]
["https://xbrl.org/2024/iso3166#NL","Netherlands (Kingdom of the)"]
["https://xbrl.org/2024/iso3166#NO","Norway"]
["https://xbrl.org/2024/iso3166#NP","Nepal"]
["https://xbrl.org/2024/iso3166#NR","Nauru"]
["https://xbrl.org/2024/iso3166#NT","Neutral Zone (before 1993-07-12)"]
["https://xbrl.org/2024/iso3166#NU","Niue"]
["https://xbrl.org/2024/iso3166#NZ","New Zealand"]
["https://xbrl.org/2024/iso3166#OM","Oman"]
["https://xbrl.org/2024/iso3166#PA","Panama"]
["https://xbrl.org/2024/iso3166#PE","Peru"]
["https://xbrl.org/2024/iso3166#PF","French Polynesia"]
["https://xbrl.org/2024/iso3166#PG","Papua New Guinea"]
["https://xbrl.org/2024/iso3166#PH","Philippines"]
["https://xbrl.org/2024/iso3166#PK","Pakistan"]
["https://xbrl.org/2024/iso3166#PL","Poland"]
["https://xbrl.org/2024/iso3166#PM","Saint Pierre and Miquelon"]
["https://xbrl.org/2024/iso3166#PN","Pitcairn"]
["https://xbrl.org/2024/iso3166#PR","Puerto Rico"]
["https://xbrl.org/2024/iso3166#PS","Palestine, State of"]
["https://xbrl.org/2024/iso3166#PT","Portugal"]
["https://xbrl.org/2024/iso3166#PW","Palau"]
["https://xbrl.org/2024/iso3166#PY","Paraguay"]
["https://xbrl.org/2024/iso3166#QA","Qatar"]
["https://xbrl.org/2024/iso3166#RE","Réunion"]
["https://xbrl.org/2024/iso3166#RO","Romania"]
["https://xbrl.org/2024/iso3166#RS","Serbia"]
["https://xbrl.org/2024/iso3166#RU","Russian Federation"]
["https://xbrl.org/2024/iso3166#RW","Rwanda"]
["https://xbrl.org/2024/iso3166#SA","Saudi Arabia"]
["https://xbrl.org/2024/iso3166#SB","Solomon Islands"]
["https://xbrl.org/2024/iso3166#SC","Seychelles"]
["https://xbrl.org/2024/iso3166#SD","Sudan"]
["https://xbrl.org/2024/iso3166#SE","Sweden"]
["https://xbrl.org/2024/iso3166#SG","Singapore"]
["https://xbrl.org/2024/iso3166#SH","Saint Helena, Ascension and Tristan da Cunha"]
["https://xbrl.org/2024/iso3166#SI","Slovenia"]
["https://xbrl.org/2024/iso3166#SJ","Svalbard and Jan Mayen"]
["https://xbrl.org/2024/iso3166#SK","Slovakia"]
["https://xbrl.org/2024/iso3166#SL","Sierra Leone"]
["https://xbrl.org/2024/iso3166#SM","San Marino"]
["https://xbrl.org/2024/iso3166#SN","Senegal"]
["https://xbrl.org/2024/iso3166#SO","Somalia"]
["https://xbrl.org/2024/iso3166#SR","Suriname"]
["https://xbrl.org/2024/iso3166#SS","South Sudan"]
["https://xbrl.org/2024/iso3166#ST","Sao Tome and Principe"]
["https://xbrl.org/2024/iso3166#SV","El Salvador"]
["https://xbrl.org/2024/iso3166#SX","Sint Maarten (Dutch part)"]
["https://xbrl.org/2024/iso3166#SY","Syrian Arab Republic"]
["https://xbrl.org/2024/iso3166#SZ","Eswatini"]
["https://xbrl.org/2024/iso3166#TC","Turks and Caicos Islands"]
["https://xbrl.org/2024/iso3166#TD","Chad"]
["https://xbrl.org/2024/iso3166#TF","French Southern Territories"]
["https://xbrl.org/2024/iso3166#TG","Togo"]
["https://xbrl.org/2024/iso3166#TH","Thailand"]
["https://xbrl.org/2024/iso3166#TJ","Tajikistan"]
["https://xbrl.org/2024/iso3166#TK","Tokelau"]
["https://xbrl.org/2024/iso3166#TL","Timor-Leste"]
["https://xbrl.org/2024/iso3166#TM","Turkmenistan"]
["https://xbrl.org/2024/iso3166#TN","Tunisia"]
["https://xbrl.org/2024/iso3166#TO","Tonga"]
["https://xbrl.org/2024/iso3166#TP","East Timor (before 2002-05-20)"]
["https://xbrl.org/2024/iso3166#TR","Türkiye"]
["https://xbrl.org/2024/iso3166#TT","Trinidad and Tobago"]
["https://xbrl.org/2024/iso3166#TV","Tuvalu"]
["https://xbrl.org/2024/iso3166#TW","Taiwan (Province of China)"]
["https://xbrl.org/2024/iso3166#TZ","Tanzania, the United Republic of"]
["https://xbrl.org/2024/iso3166#UA","Ukraine"]
["https://xbrl.org/2024/iso3166#UG","Uganda"]
["https://xbrl.org/2024/iso3166#UM","United States Minor Outlying Islands"]
["https://xbrl.org/2024/iso3166#US","United States of America"]
["https://xbrl.org/2024/iso3166#UY","Uruguay"]
["https://xbrl.org/2024/iso3166#UZ","Uzbekistan"]
["https://xbrl.org/2024/iso3166#VA","Holy See"]
["https://xbrl.org/2024/iso3166#VC","Saint Vincent and the Grenadines"]
["https://xbrl.org/2024/iso3166#VE","Venezuela (Bolivarian Republic of)"]
["https://xbrl.org/2024/iso3166#VG","Virgin Islands (British)"]
["https://xbrl.org/2024/iso3166#VI","Virgin Islands (U.S.)"]
["https://xbrl.org/2024/iso3166#VN","Viet Nam"]
["https://xbrl.org/2024/iso3166#VU","Vanuatu"]
["https://xbrl.org/2024/iso3166#WF","Wallis and Futuna"]
["https://xbrl.org/2024/iso3166#WS","Samoa"]
["https://xbrl.org/2024/iso3166#YE","Yemen"]
["https://xbrl.org/2024/iso3166#YT","Mayotte"]
["https://xbrl.org/2024/iso3166#YU","Yugoslavia (before 2003-07-23)"]
["https://xbrl.org/2024/iso3166#ZA","South Africa"]
["https://xbrl.org/2024/iso3166#ZM","Zambia"]
["https://xbrl.org/2024/iso3166#ZR","Zaire (before 1997-07-14)"]
["https://xbrl.org/2024/iso3166#ZW","Zimbabwe"]

{"sheet":"Field format","index":29,"n_rows":4,"n_cols":4,"rows_kept":4,"cut":false,"hidden":false,"merged":[]}
[]
[]
[]
[null,null,null,"Field format"]

{"sheet":"About this file","index":30,"n_rows":13,"n_cols":4,"rows_kept":13,"cut":false,"hidden":false,"merged":[]}
[]
[]
[]
[null,null,null,"About this file"]
[null,null,null,"Simple Excel-based solution to generate White Paper in Inline XBRL format, Version 636 (October 2025)"]
[null,null,null,"Purpose"]
[null,null,null,"This file is made available by the European Securities and Markets Authority following the positive feedback to the MiCA white papers Proof of Concept. This file is made available to persons drawing up a crypto-asset white paper as an example to facilitate the preparation of a crypto-asset white paper in inline XBRL format, thereby contributing to simplifying the application of Commission Implementing Regulation (EU) 2024/2984."]
[null,null,null,"The content of the white papers generated through this file is based on the XBRL taxonomy published by the European Securities Market Authority (ESMA), in accordance with Article 3 of Commission Implementing  Regulation (EU) 2024/2984. "]
[null,null,null,"This file can be used to draw-up white papers for asset-referenced tokens, on the basis of Table 3 of the Annex \"TEMPLATES FOR THE CRYPTO-ASSET WHITE PAPERS\" of the same Commission Implementing Regulation. Specific files are available on ESMA website for asset-referenced token and e-money token white papers. "]
[null,null,null,"Limitations"]
[null,null,null,"1- As specified in the Market in Crypto-Assets regulation (Regulation (EU) 2023/1114, MICA,), a crypto-asset white paper must be drawn up in an official language of the home Member State and, where relevant, in an official language of the Host Member State, or in a language customary in the sphere of international finance (English language). This file is only provided in the English version. \n2- In Microsoft Excel, a cell can contain up to 32,767 characters, but there is a difference between what is stored and what is displayed: a cell shows up to only 1,024 characters. Please note that all 32,767 characters remain accessible and editable in the formula bar, even if they are not fully visible in the cell. \nEach text or textBlock field format can contain up to 32,767 characters that will be fully displayed/visible in the white paper document (xhtml file), even if only the 1,024 first characters can be visible in an Excel cell.\nIf you need to include more than 32,767 characters for a field value, it is only possible to do it by modifying directly the xhtml file generated.  "]
[null,null,null,"Disclaimers"]
[null,null,null,"The European Securities and Markets Authority (ESMA) is making this file available to ease generation of white papers. By using this file, you acknowledge and agree to the following: \n\nNo Warranty - This file is provided “as is” and without any warranty of any kind, either expressed or implied, including but not limited to warranties of merchantability, fitness for a particular purpose, non-infringement, and technical performance. Users should control and validate the output generated by the tool ahead of submitting the white papers to national competent authorities. \nNo Liability - ESMA accepts no responsibility or liability for the white paper generated by the file and/or for any loss, damage, costs, or expenses arising out of or in connection with the use of this file, including any reliance placed upon it, operational issues, or errors resulting from its use. The users of the file must carefully control the output generated by it to ascertain that no errors are generated. \nNo Official Endorsement - The provision of this file does not constitute an official recommendation, endorsement, or approval by ESMA of any specific methodology, implementation, or outcome derived from its use. \nUser Responsibility - Users of this file remain solely responsible for ensuring the suitability, accuracy, and compliance of their white papers with MiCA and technical standards relevant to their activities, including compliance with the format indicated in Commission Implementing Regulation (EU) 2024/2984. \nNo Guarantee of Future Updates - ESMA makes no commitment to update, maintain, or support this file, and reserves the right to modify or withdraw it at any time without notice. \nNo support – ESMA will not carry out any kind of user support for this file "]

{"sheet":"ESMA_Secu","index":31,"n_rows":10,"n_cols":2,"rows_kept":10,"cut":false,"hidden":true,"merged":[]}
[]
[]
[]
[]
[]
[]
[]
[]
[]
[null,"@2025EsmaWhitePaperTemplatePassword"]

{"sheet":"boolean","index":32,"n_rows":2,"n_cols":2,"rows_kept":2,"cut":false,"hidden":true,"merged":[]}
["true","Yes"]
["false","No"]

{"sheet":"Info_Field","index":33,"n_rows":338,"n_cols":15,"rows_kept":338,"cut":false,"hidden":true,"merged":[[5,6,5,7]]}
[null,null,null,null,null,null,null,null,null,null," "]
[]
[null,"[Table 3] Template for white papers for asset-referenced tokens"]
[]
[null,"Template for white papers for asset-referenced tokens [abstract]"]
[null,"General information","CONTENT TO BE REPORTED","FORM AND STANDARDS TO BE USED FOR REPORTING",null,"FIELD FORMAT\n(Taxo)","DATA CHECKS \n(Taxonomy)",null,null,"Example",null,null,"Change requests","Change requests type","Change requests type explanation"]
[null,"I.00 Table of content","Table of contents","alphanumerical text",null,"boolean true","error","The value of \"I.00 Table of content\" must be provided.",null,"Sample text"]
[null,"I.01 Date of notification","Date of notification","YYYY-MM-DD",null,"date","error","The value of \"I.01 Date of notification\" must be provided.",null,"2025-12-31"]
[null,"I.02 Statement in accordance with Article 19(4), points (a) to (e), of Regulation (EU) 2023/1114","‘The asset-referenced token referred to in this crypto-asset white paper may lose its value in part or in full, may not always be transferable and may not be liquid.\r\nThe asset-refenced token referred to in this crypto-asset white paper is not covered by the investor compensation schemes under Directive 97/9/EC of the European Parliament and of the Council or the deposit guarantee schemes under Directive 2014/49/EU of the European Parliament and of the Council.’","Predefined alphanumerical text",null,"boolean true","error","The value of \"I.02 Statement in accordance with Article 19(4), points (a) to (e), of Regulation (EU) 2023/1114\" must be provided.",null,"The asset-referenced token referred to in this crypto-asset white paper may lose its value in part or in full, may not always be transferable and may not be liquid.\n\nThe asset-refenced token referred to in this crypto-asset white paper is not covered by the investor compensation schemes under Directive 97/9/EC of the European Parliament and of the Council or the deposit guarantee schemes under Directive 2014/49/EU of the European Parliament and of the Council."]
[null,"I.03 Compliance statement in accordance with Article 19(5) of Regulation (EU) 2023/1114","‘This crypto-asset white paper complies with Title III of Regulation (EU) 2023/1114 of the European Parliament and of the Council and to the best of the knowledge of the management body, the information presented in this crypto-asset white paper is fair, clear and not misleading and the crypto-asset white paper makes no omission likely to affect its import.’","Predefined alphanumerical text",null,"boolean true","error","The value of \"I.03 Compliance statement in accordance with Article 19(5) of Regulation (EU) 2023/1114\" must be provided.",null,"This crypto-asset white paper complies with Title III of Regulation (EU) 2023/1114 of the European Parliament and of the Council and to the best of the knowledge of the management body, the information presented in this crypto-asset white paper is fair, clear and not misleading and the crypto-asset white paper makes no omission likely to affect its import"]
[null,"SUMMARY"]
[null,"I.04 Warning in accordance with Article 19(6), second subparagraph, of Regulation (EU) 2023/1114","‘Warning\r\nThis summary should be read as an introduction to the crypto-asset white paper.\r\nThe prospective holder should base any decision to purchase this asset-referenced token on the content of the crypto-asset white paper as a whole and not on the summary alone.\r\nThe offer to the public of this crypto-asset does not constitute an offer or solicitation to purchase financial instruments and any such offer or solicitation can be made only by means of a prospectus or other offer documents pursuant to the applicable national law.\r\nThis crypto-asset white paper does not constitute a prospectus as referred to in Regulation (EU) 2017/1129 of the European Parliament and of the Council or any other offer document pursuant to Union or national law.’","Predefined alphanumerical text",null,"boolean true","error","The value of \"I.04 Warning in accordance with Article 19(6), second subpargraph, of Regulation (EU) 2023/1114\" must be provided.",null,"Warning\n\nThis summary should be read as an introduction to the crypto-asset white paper.\n\nThe prospective holder should base any decision to purchase this asset-referenced token on the content of the crypto-asset white paper as a whole and not on the summary alone.\n\nThe offer to the public of this crypto-asset does not constitute an offer or solicitation to purchase financial instruments and any such offer or solicitation can be made only by means of a prospectus or other offer documents pursuant to the applicable national law.\n\nThis crypto-asset white paper does not constitute a prospectus as referred to in Regulation (EU) 2017/1129 of the European Parliament and of the Council or any other offer document pursuant to Union or national law."]
[null,"I.05 Characteristics of the crypto-asset","A brief, clear and non-technical description of the characteristics of the asset-referenced token concerned in order to help prospective holders of that asset-referenced token make an informed decision","Free alphanumerical text",null,"textBlock","error","The value of \"I.05 Characteristics of the crypto-asset\" must be provided.",null,"Lorem ipsum dolor sit amet, consectetur adipiscing elit, sed do eiusmod tempor incididunt ut labore et dolore magna aliqua. Ut enim ad minim veniam, quis nostrud exercitation ullamco laboris nisi ut aliquip ex ea commodo consequat. Duis aute irure dolor in reprehenderit in voluptate velit esse cillum dolore eu fugiat nulla pariatur. Excepteur sint occaecat cupidatat non proident, sunt in culpa qui officia deserunt mollit anim id est laborum."]
[null,"I.06 Right of redemption","‘The holders of asset-referenced tokens have a right of redemption at any time’\r\nDescription of the conditions for such redemption","Predefined alphanumerical text\r\nFree alphanumerical text",null,"textBlock","error","The value of \"I.06 Right of redemption\" must be provided.",null,"Lorem ipsum dolor sit amet, consectetur adipiscing elit, sed do eiusmod tempor incididunt ut labore et dolore magna aliqua. Ut enim ad minim veniam, quis nostrud exercitation ullamco laboris nisi ut aliquip ex ea commodo consequat. Duis aute irure dolor in reprehenderit in voluptate velit esse cillum dolore eu fugiat nulla pariatur. Excepteur sint occaecat cupidatat non proident, sunt in culpa qui officia deserunt mollit anim id est laborum."]
[null,"I.07 Key information about the offer to the public and or admission to trading","Key information about the offer to the public of the asset-referenced token or the intended admission to trading of the asset-referenced token","Free alphanumerical text",null,"textBlock","error","The value of \"I.07 Key information about offer to public and or admission to trading\" must be provided.",null,"Lorem ipsum dolor sit amet, consectetur adipiscing elit, sed do eiusmod tempor incididunt ut labore et dolore magna aliqua. Ut enim ad minim veniam, quis nostrud exercitation ullamco laboris nisi ut aliquip ex ea commodo consequat. Duis aute irure dolor in reprehenderit in voluptate velit esse cillum dolore eu fugiat nulla pariatur. Excepteur sint occaecat cupidatat non proident, sunt in culpa qui officia deserunt mollit anim id est laborum."]
[null,"Part A – Information about issuer of asset-referenced token"]
[null,"A.1 Statutory Name","Statutory name","Free alphanumerical text",null,"text","error","The value of \"A.1 Statutory name\" must be provided.",null,"Sample text"]
[null,"A.2 Trading name","Trading name","Free alphanumerical text",null,"text","error","The value of \"A.2 Trading name\" must be provided.",null,"Sample text"]
[null,"A.3 Legal form","Field to be filled in only if an LEI is not provided in field A.7\r\nLegal form","ISO standard 20275 ‘Financial Services – Entity Legal Forms (ELF)’",null,"text","error","If \"A.7 Legal entity identifier\" is not provided with a fact value, then \"A.3 Legal form\" must be reported.",null,"Sample text",null,null,"Update formula: \nIf \"A.7 Legal entity identifier\" is not provided with a fact value, then \"A.3 Legal form\" must be reported.","Issue","Potential missing data"]
[null,"A.4 Registered address","Field to be filled in only if an LEI is not provided in field A.7\r\nAddress and country of registration","ISO standard 3166-1 alpha 2 country codes and codes for their subdivisions\r\nand\r\nFree alphanumerical text",null,null,"error\r\nerror\r\nerror","If \"A.7 Legal entity identifier\" is not provided with a fact value, then \"A.4 Registered address sub-division\" must be reported.\r\nIf \"A.7 Legal entity identifier\" is not provided with a fact value, then \"A.4 Registered address country\" must be reported.\r\nIf \"A.7 Legal entity identifier\" is not provided with a fact value, then \"A.4 Registered address sub-division\" must be reported.",null,null,null,null,"Update formula:\nIf \"A.7 Legal entity identifier\" is not provided with a fact value, then \"A.4 Registered address\" must be reported.\nIf \"A.7 Legal entity identifier\" is not provided with a fact value, then \"A.4 Registered address country\" must be reported.\nIf \"A.7 Legal entity identifier\" is not provided with a fact value, then \"A.4 Registered address sub-division\" must be reported.","Issue","Potential missing data"]
[null,"Registered addess",null,null,null,"text",null,null,null,"Sample text"]
[null,"Country",null,null,null,"enumeration",null,null,null,"Andorra"]
[null,"Sub-division",null,null,null,"text",null,null,null,"Sample text"]
[null,"A.5 Head office","Field to be filled in only if an LEI is not provided in field A.7\r\nAddress and country of the Head office, where different than registered address","ISO standard 3166-1 alpha 2 country codes and codes for their subdivisions\r\nand\r\nFree alphanumerical text",null,null,"error\r\nerror\r\nerror","If \"A.7 Legal entity identifier\" is not provided with a fact value, then \"A.5 Head office\" must be reported.\r\nIf \"A.7 Legal entity identifier\" is not provided with a fact value, then \"A.5 Head office country\" must be reported.\r\nIf \"A.7 Legal entity identifier\" is not provided with a fact value, then \"A.5 Head office sub-division\" must be reported.",null,null,null,null,"Update formulas:\nIf \"A.7 Legal entity identifier\" is not provided with a fact value, then \"A.5 Head office\" must be reported.\nIf \"A.7 Legal entity identifier\" is not provided with a fact value, then \"A.5 Head office country\" must be reported.\nIf \"A.7 Legal entity identifier\" is not provided with a fact value, then \"A.5 Head office sub-division\" must be reported.","Issue","Potential missing data"]
[null,"Head office",null,null,null,"text",null,null,null,"Sample text"]
[null,"Country",null,null,null,"enumeration",null,null,null,"Andorra"]
[null,"Sub-division",null,null,null,"text",null,null,null,"Sample text"]
[null,"A.6 Registration date","Date of the registration","ISO 8601 date format (YYYY-MM-DD)",null,"date","error","The value of \"A.6 Registration date\" must be provided.",null,"2025-12-31"]
[null,"A.7 Legal entity identifier","Legal entity identifier of the issuer","{LEI}",null,"LEI","error","If \"A.8 Other identifier required pursuant to applicable national law\" is not provided with a fact value, then \"A.7 Legal entity identifier\" must be reported.",null,"529900T8BM49AURSDO55",null,null,"Formula update:\nIf \"A.8 Other identifier required pursuant to applicable national law\" is not provided with a fact value, then \"A.7 Legal entity identifier\" must be reported.","Change request"]
[null,"A.8 Other identifier required pursuant to applicable national law","National identifier based on the nationality of the issuer, if required under the applicable national law.\r\nThis field only applies to entities for which a national identifieris required under applicable national law.","Free text",null,"text","error","If \"A.7 Legal entity identifier\" is not provided with a fact value, then \"A.8 Other identifier required pursuant to applicable national law\" must be reported.",null,"Sample text",null,null,"Formula update: \nIf  \"A.7 Legal entity identifier\" is not provided with a fact value, then \"A.8 Other identifier required pursuant to applicable national law\" must be reported.","Change request"]
[null,"A.9 Parent company","Field to be filled in only if an LEI is not provided in field A.7\r\nWhere applicable, the name of the parent company","Free alphanumerical text",null,"text","warning\r\nwarning","If \"A.7 Legal entity identifier\" is provided with a fact value, then \"A.9 Parent company\" should not be reported.\r\nIf \"A.9 Parent company\" is provided with fact value, \"A.12 Parent company business activity\" should also be provided with fact value.",null,"Sample text"]
[null,"A.10 Members of management body","Identity, business address and functions of each person that is member of the management body, as defined in Article 3(1), point (27), of Regulation (EU) 2023/1114, of the issuer","Free alphanumerical text presented in a tabular format",null,null,"error\r\nerror\r\nerror","The value of \"A.10 Members of management body / Identity\" must be provided.\r\nThe value of \"A.10 Members of management body / Business address\" must be provided.\r\nThe value of \"A.10 Members of management body / Function\" must be provided."]
[null,"Member #1",null,null,null,"id",null,null,null,1]
[null,"Identity",null,null,null,"text",null,null,null,"Sample text - Identity 1"]
[null,"Business address",null,null,null,"text",null,null,null,"Sample text - Business address 1"]
[null,"Function",null,null,null,"text",null,null,null,"Sample text - Function 1"]
[null,"Member #2",null,null,null,"id",null,null,null,2]
[null,"Identity",null,null,null,"text",null,null,null,"Sample text - Identity 2"]
[null,"Business address",null,null,null,"text",null,null,null,"Sample text - Business address 2"]
[null,"Function",null,null,null,"text",null,null,null,"Sample text - Function 2"]
[null,"Member #3",null,null,null,"id",null,null,null,3]
[null,"Identity",null,null,null,"text",null,null,null,"Sample text - Identity 3"]
[null,"Business address",null,null,null,"text",null,null,null,"Sample text - Business address 3"]
[null,"Function",null,null,null,"text",null,null,null,"Sample text - Function 3"]
[null,"Member #4",null,null,null,"id",null,null,null,4]
[null,"Identity",null,null,null,"text",null,null,null,"Sample text - Identity 4"]
[null,"Business address",null,null,null,"text",null,null,null,"Sample text - Business address 4"]
[null,"Function",null,null,null,"text",null,null,null,"Sample text - Function 4"]
[null,"Member #5",null,null,null,"id",null,null,null,5]
[null,"Identity",null,null,null,"text",null,null,null,"Sample text - Identity 5"]
[null,"Business address",null,null,null,"text",null,null,null,"Sample text - Business address 5"]
[null,"Function",null,null,null,"text",null,null,null,"Sample text - Function 5"]
[null,"Member #6",null,null,null,"id",null,null,null,6]
[null,"Identity",null,null,null,"text",null,null,null,"Sample text - Identity 6"]
[null,"Business address",null,null,null,"text",null,null,null,"Sample text - Business address 6"]
[null,"Function",null,null,null,"text",null,null,null,"Sample text - Function 6"]
[null,"Member #7",null,null,null,"id",null,null,null,7]
[null,"Identity",null,null,null,"text",null,null,null,"Sample text - Identity 7"]
[null,"Business address",null,null,null,"text",null,null,null,"Sample text - Business address 7"]
[null,"Function",null,null,null,"text",null,null,null,"Sample text - Function 7"]
[null,"Member #8",null,null,null,"id",null,null,null,8]
[null,"Identity",null,null,null,"text",null,null,null,"Sample text - Identity 8"]
[null,"Business address",null,null,null,"text",null,null,null,"Sample text - Business address 8"]
[null,"Function",null,null,null,"text",null,null,null,"Sample text - Function 8"]
[null,"Member #9",null,null,null,"id",null,null,null,9]
[null,"Identity",null,null,null,"text",null,null,null,"Sample text - Identity 9"]
[null,"Business address",null,null,null,"text",null,null,null,"Sample text - Business address 9"]
[null,"Function",null,null,null,"text",null,null,null,"Sample text - Function 9"]
[null,"Member #10",null,null,null,"id",null,null,null,10]
[null,"Identity",null,null,null,"text",null,null,null,"Sample text - Identity 10"]
[null,"Business address",null,null,null,"text",null,null,null,"Sample text - Business address 10"]
[null,"Function",null,null,null,"text",null,null,null,"Sample text - Function 10"]
[null,"A.11 Business activity","Business or professional activity of the issuer,","Free alphanumerical text",null,"textBlock","error","The value of \"A.11 Business activity\" must be provided.",null,"Lorem ipsum dolor sit amet, consectetur adipiscing elit, sed do eiusmod tempor incididunt ut labore et dolore magna aliqua. Ut enim ad minim veniam, quis nostrud exercitation ullamco laboris nisi ut aliquip ex ea commodo consequat. Duis aute irure dolor in reprehenderit in voluptate velit esse cillum dolore eu fugiat nulla pariatur. Excepteur sint occaecat cupidatat non proident, sunt in culpa qui officia deserunt mollit anim id est laborum."]
[null,"A.12 Parent company business activity","Business or professional activity of the parent company (if applicable)","Free alphanumerical text",null,"textBlock",null,null,null,"Lorem ipsum dolor sit amet, consectetur adipiscing elit, sed do eiusmod tempor incididunt ut labore et dolore magna aliqua. Ut enim ad minim veniam, quis nostrud exercitation ullamco laboris nisi ut aliquip ex ea commodo consequat. Duis aute irure dolor in reprehenderit in voluptate velit esse cillum dolore eu fugiat nulla pariatur. Excepteur sint occaecat cupidatat non proident, sunt in culpa qui officia deserunt mollit anim id est laborum.",null,null,"The following formula must be removed : \nThe value of \"A.12 Parent company business activity\" must be provided.","Issue","Compliancy with Technical Standards"]
[null,"A.13 Newly established","Indication as to whether the issuer has been established for the past three years","‘true’ – Yes\r\n‘false’ – No",null,"boolean","error","The value of \"A.13 Newly established\" must be provided.",null,"true"]
[null,"A.14 Financial condition for the past three years","Financial condition of the issuer over the past three years.\r\nThis shall be assessed based on a fair review of the development and performance of the business of the issuer and of its position for each year and interim period for which historical financial information is required, including the causes of material changes.\r\nThe review shall be a balanced and comprehensive analysis of the development and performance of the business of the issuer and of its position, consistent with the size and complexity of the business.","Free alphanumerical text",null,"textBlock","error","If \"A.13 Newly established\" is set to true, then \"A.14 Financial condition for past three years\" must be provided with a fact value.",null,"Lorem ipsum dolor sit amet, consectetur adipiscing elit, sed do eiusmod tempor incididunt ut labore et dolore magna aliqua. Ut enim ad minim veniam, quis nostrud exercitation ullamco laboris nisi ut aliquip ex ea commodo consequat. Duis aute irure dolor in reprehenderit in voluptate velit esse cillum dolore eu fugiat nulla pariatur. Excepteur sint occaecat cupidatat non proident, sunt in culpa qui officia deserunt mollit anim id est laborum.",null,null,"Update formula:\nIf \"A.13 Newly established\" is set to true, then \"A.14 Financial condition for past three years\" must be provided with a fact value.\n","Issue","True/False dependency"]
[null,"A.15 Financial condition since registration","Where the issuer has not been established for the past three years, its financial condition since the date of its registration.\r\nThis shall be assessed based on a fair review of the development and performance of the business of the issuer and of its position for each year and interim period for which historical financial information is required, including the causes of material changes.\r\nThe review shall be a balanced and comprehensive analysis of the development and performance of the business of the issuer and of its position, consistent with the size and complexity of the business.","Free alphanumerical text",null,"textBlock","error","If \"A.13 Newly established\" is set to false, then \"A.15 Financial condition since registration\" must be provided with a fact value.",null,"Lorem ipsum dolor sit amet, consectetur adipiscing elit, sed do eiusmod tempor incididunt ut labore et dolore magna aliqua. Ut enim ad minim veniam, quis nostrud exercitation ullamco laboris nisi ut aliquip ex ea commodo consequat. Duis aute irure dolor in reprehenderit in voluptate velit esse cillum dolore eu fugiat nulla pariatur. Excepteur sint occaecat cupidatat non proident, sunt in culpa qui officia deserunt mollit anim id est laborum.",null,null,"Update formula:\nIf \"A.13 Newly established\" is set to false, then \"A.15 Financial condition since registration\" must be provided with a fact value.","Issue","True/False dependency"]
[null,"A.16 Governance arrangements","A detailed description of the issuer’s governance arrangements","Free alphanumerical text",null,"textBlock","error","The value of \"A.16 Governance arrangements\" must be provided.",null,"Lorem ipsum dolor sit amet, consectetur adipiscing elit, sed do eiusmod tempor incididunt ut labore et dolore magna aliqua. Ut enim ad minim veniam, quis nostrud exercitation ullamco laboris nisi ut aliquip ex ea commodo consequat. Duis aute irure dolor in reprehenderit in voluptate velit esse cillum dolore eu fugiat nulla pariatur. Excepteur sint occaecat cupidatat non proident, sunt in culpa qui officia deserunt mollit anim id est laborum."]
[null,"A.17 Exemption from authorisation","Indication of whether the issuer of asset-referenced tokens is exempted from authorisation","‘NOEX’ – No exemption\r\n‘EX17’ – Exemption in accordance with Article 17\r\n‘EX16’ – Exemption in accordance with Article 16",null,"enumeration","error","The value of \"A17 Exemption from authorisation\" must be provided.",null,"No exemption"]
[null,"A.18 Authorisation as issuer of asset-referenced token","If not exempted from authorisation, details about the authorisation as an issuer of an asset-referenced token","Free alphanumerical text",null,"text","error","If \"A.17 Exemption from authorisation\" is set with 'NOEX' value, then \"A.18 Authorisation as issuer of asset-referenced token\" must be provided with a fact value.",null,"Sample text",null,null,"Update formula:\nIf \"A.17 Exemption from authorisation\" is set with 'NOEX' value, then \"A.18 Authorisation as issuer of asset-referenced token\" must be provided with a fact value.\n","Issue","True/False dependency"]
[null,"A.19 Authorisation authority","Name of the competent authority that granted the authorisation as issuer of asset-referenced tokens","Closed list of competent authorities – one per Member State",null,"enumeration","error","If \"A.17 Exemption from authorisation\" is set with 'NOEX' value, then \"A.19 Authorisation authority\" must be provided with a fact value.",null,"Financial Services and Markets Authority",null,null,"Update formula:\nIf \"A.17 Exemption from authorisation\" is set with 'NOEX' value, then \"A.19 Authorisation authority\" must be provided with a fact value.","Issue","True/False dependency"]
[null,"A.20 Competent authority for credit institutions","For credit institutions, name of the competent authority of the home Member State","Closed list of competent authorities – one per Member State",null,"enumeration","error","If \"A.17 Exemption from authorisation\" is set with 'EX17' value, then \"A.20 Competent authority for credit institutions\" must be provided with a fact value.",null,"National Bank of Slovakia",null,null,"Update formula:\nIf \"A.17 Exemption from authorisation\" is set with 'EX17' value, then \"A.20 Competent authority for credit institutions\" must be provided with a fact value.","Issue","True/False dependency"]
[null,"A.21 Issuance of other crypto-assets","Indication of whether the issuer of the asset-referenced token also issues other crypto-assets","‘true’ – Yes\r\n‘false’ – No",null,"boolean","error","The value of \"A.21 Issuance of other crypto-assets\" must be provided.",null,"true"]
[null,"A.22 Activities related to other crypto-assets","Indication of whether the issuer of the asset-referenced token also has activities related to other crypto-assets","‘true’ – Yes\r\n‘false’ – No",null,"boolean","error","If \"A.21 Issuance of other crypto-assets\" is set to true, then \"A.22 Activities related to other crypto-assets\" must be provided with a fact value.",null,"true",null,null,"Update formula:\nIf \"A.21 Issuance of other crypto-assets\" is set to true, then \"A.22 Activities related to other crypto-assets\" must be provided with a fact value.","Issue","True/False dependency"]
[null,"Asset-referenced token issuer and DLT business association"]
[null,"A.23 Connection between the issuer and the entity running the DLT","Indication of whether there is any connection between the issuer and the entity running the distributed ledger technology used to issue the crypto-asset, including if the protocols are run or controlled by a person closely connected to the project participants","‘true’ – Yes\r\n‘false’ – No",null,"boolean","error","The value of \"A.23 Connection between the issuer and entity running DLT\" must be provided.",null,"true"]
[null,"A.24 Description of the connection between the issuer and the entity running the DLT","Description of the connection between the issuer and entity running the distributed ledger technology used to issue the crypto-asset, including if the protocols are run or controlled by a person closely connected to the project participants","Free alphanumerical text",null,"textBlock","error","If \"A.23 Connection between the issuer and the entity running the DLT\" is set to true, then \"A.24 Description of the connection between the issuer and the entity running the DLT\" must be provided with a fact value.",null,"Lorem ipsum dolor sit amet, consectetur adipiscing elit, sed do eiusmod tempor incididunt ut labore et dolore magna aliqua. Ut enim ad minim veniam, quis nostrud exercitation ullamco laboris nisi ut aliquip ex ea commodo consequat. Duis aute irure dolor in reprehenderit in voluptate velit esse cillum dolore eu fugiat nulla pariatur. Excepteur sint occaecat cupidatat non proident, sunt in culpa qui officia deserunt mollit anim id est laborum.",null,null,"Update formula:\nIf \"A.23 Connection between the issuer and the entity running the DLT\" is set to true, then \"A.24 Description of the connection between the issuer and the entity running the DLT\" must be provided with a fact value.","Issue","True/False dependency"]
[null,"AA Information on other persons offering to the public or seeking admission to trading of asset-referenced tokens other than the issuer and on other persons drawing up the crypto-asset white paper in accordance with Article 19(1), second subparagraph, of Regulation (EU) 2023/1114"]
[null,"AA.1 Persons other than the issuer offering to the public or seeking admission to trading of the asset referenced token according to Article 19(1), second subparagraph, of Regulation (EU) 2023/1114","Where different from the issuer, indication of the identity of the person offering to the public or seeking admission to trading of the asset referenced token","{LEI}",null,"LEI","error\r\nerror","If \"AA.1 Persons other than the issuer offering to the public or seeking admission to trading of the asset referenced token according to Article 19(1), second subparagraph, of Regulation (EU) 2023/1114\" or \"AA.1.2 Persons other than the issuer offering to the public or seeking admission to trading of the asset referenced token according to Article 19(1), second subparagraph, of Regulation (EU) 2023/1114\" is provided with fact value, \"AA.2 Reason for offering to the public or seeking admission to trading the asset-referenced token by persons referred to in Article 19(1), second subparagraph, of Regulation (EU) 2023/1114\" must also be provided with fact value.\r\nIf \"AA.2 Reason for offering to the public or seeking admission to trading the asset-referenced token by persons referred to in Article 19(1), second subparagraph, of Regulation (EU) 2023/1114\" is provided with fact value and \"AA.1.2 Persons other than the issuer offering to the public or seeking admission to trading of the asset referenced token according to Article 19(1), second subparagraph, of Regulation (EU) 2023/1114\" is not provided with a fact value, then \"AA.1 Persons other than the issuer offering to the public or seeking admission to trading of the asset referenced token according to Article 19(1), second subparagraph, of Regulation (EU) 2023/1114\" must be provided with fact value.",null,"529900T8BM49AURSDO55",null,null,"New formula :\nIf \"AA.2 Reason for offering to the public or seeking admission to trading the asset-referenced token by persons referred to in Article 19(1), second subparagraph, of Regulation (EU) 2023/1114\" is provided with fact value and \"AA.1.2 Persons other than the issuer offering to the public or seeking admission to trading of the asset referenced token according to Article 19(1), second subparagraph, of Regulation (EU) 2023/1114\" is not provided with a fact value, then \"AA.1 Persons other than the issuer offering to the public or seeking admission to trading of the asset referenced token according to Article 19(1), second subparagraph, of Regulation (EU) 2023/1114\" must be provided with fact value.","Change request"]
[null,"AA.1.2 Persons other than the issuer offering to the public or seeking admission to trading of the asset referenced token according to Article 19(1), second subparagraph, of Regulation (EU) 2023/1114","Field to be filled in only if a legal entity identifier is not provided in field AA.1\r\nNational identifier based on the nationality of the person other than the issuer offering to the public or seeking admission to trading, if required under the applicable national law.\r\nThis field only applies to entities for which a national identifier is required in accordance with applicable national law.","Another identifier required pursuant to applicable national law",null,"text","error","If \"AA.2 Reason for offering to the public or seeking admission to trading the asset-referenced token by persons referred to in Article 19(1), second subparagraph, of Regulation (EU) 2023/1114\" is provided with fact value and \"AA.1 Persons other than the issuer offering to the public or seeking admission to trading of the asset referenced token according to Article 19(1), second subparagraph, of Regulation (EU) 2023/1114\" is not provided with a fact value, then \"AA.1.2 Persons other than the issuer offering to the public or seeking admission to trading of the asset referenced token according to Article 19(1), second subparagraph, of Regulation (EU) 2023/1114\" must be provided with fact value.",null,"Sample text",null,null,"New formula :\nIf \"AA.2 Reason for offering to the public or seeking admission to trading the asset-referenced token by persons referred to in Article 19(1), second subparagraph, of Regulation (EU) 2023/1114\" is provided with fact value and \"AA.1 Persons other than the issuer offering to the public or seeking admission to trading of the asset referenced token according to Article 19(1), second subparagraph, of Regulation (EU) 2023/1114\" is not provided with a fact value, then \"AA.1.2 Persons other than the issuer offering to the public or seeking admission to trading of the asset referenced token according to Article 19(1), second subparagraph, of Regulation (EU) 2023/1114\" must be provided with fact value.","Change request"]
[null,"AA.2 Reason for offering to the public or seeking admission to trading the asset-referenced token by persons referred to in Article 19(1), second subparagraph, of Regulation (EU) 2023/1114","Where the offeror or the person seeking admission to trading is different from the issuer, reason for offering to the public or seeking admission to trading of the asset-referenced token","Free alphanumerical text",null,"textBlock",null,null,null,"Lorem ipsum dolor sit amet, consectetur adipiscing elit, sed do eiusmod tempor incididunt ut labore et dolore magna aliqua. Ut enim ad minim veniam, quis nostrud exercitation ullamco laboris nisi ut aliquip ex ea commodo consequat. Duis aute irure dolor in reprehenderit in voluptate velit esse cillum dolore eu fugiat nulla pariatur. Excepteur sint occaecat cupidatat non proident, sunt in culpa qui officia deserunt mollit anim id est laborum.",null,null,"Update formula:\nIf \"AA.1 Persons other than the issuer offering to the public or seeking admission to trading of the asset referenced token according to Article 19(1), second subparagraph, of Regulation (EU) 2023/1114\" or \"AA.1.2 Persons other than the issuer offering to the public or seeking admission to trading of the asset referenced token according to Article 19(1), second subparagraph, of Regulation (EU) 2023/1114\" is provided with fact value, \"AA.2 Reason for offering to the public or seeking admission to trading the asset-referenced token by persons referred to in Article 19(1), second subparagraph, of Regulation (EU) 2023/1114\" must be provided with fact value.","Issue","True/False dependency"]
[null,"AA.3 Other persons drawing up the crypto-asset white paper according to Article 19(1), second subparagraph, of Regulation (EU) 2023/1114","Where different from the issuer, indication of the identity of the person drawing up the crypto-asset white paper","{LEI}",null,"LEI","error\r\nerror","If \"AA.4 Reason for drawing the white paper by persons referred to in Article 19(1), second subparagraph, of Regulation (EU) 2023/1114\" is provided with fact value and \"AA.3.1 Other persons drawing up the crypto-asset white paper according to Article 19(1), second subparagraph, of Regulation (EU) 2023/1114\" is not provided with a fact value, then \"AA.3 Other persons drawing up the crypto-asset white paper according to Article 19(1), second subparagraph, of Regulation (EU) 2023/1114\" must be provided with fact value.\r\nIf \"AA.3 Other persons drawing up the crypto-asset white paper according to Article 19(1), second subparagraph, of Regulation (EU) 2023/1114\" or \"AA.3.1 Other persons drawing up the crypto-asset white paper according to Article 19(1), second subparagraph, of Regulation (EU) 2023/1114\" is provided with fact value, \"AA.4 Reason for drawing the white paper by persons referred to in Article 19(1), second subparagraph, of Regulation (EU) 2023/1114\" must also be provided with fact value.",null,"529900T8BM49AURSDO55",null,null,"New formula:\nIf \"AA.4 Reason for drawing the white paper by persons referred to in Article 19(1), second subparagraph, of Regulation (EU) 2023/1114\" is provided with fact value and \"AA.3.1 Other persons drawing up the crypto-asset white paper according to Article 19(1), second subparagraph, of Regulation (EU) 2023/1114\" is not provided with a fact value, then \"AA.3 Other persons drawing up the crypto-asset white paper according to Article 19(1), second subparagraph, of Regulation (EU) 2023/1114\" must be provided with fact value.","Change request"]
[null,"AA.3.1 Other persons drawing up the crypto-asset white paper according to Article 19(1), second subparagraph, of Regulation (EU) 2023/1114","Field to be filled in only if a legal entity identifier is not provided in field AA.3\r\nNational identifier based on the nationality of the person drawing up the crypto-asset white paper, if required under the applicable national law.\r\nThis field only applies to entities for which a national identifier is required in accordance with applicable national law.","Another identifier required pursuant to applicable national law",null,"text","error","If \"AA.4 Reason for drawing the white paper by persons referred to in Article 19(1), second subparagraph, of Regulation (EU) 2023/1114\" is provided with fact value and \"AA.3 Other persons drawing up the crypto-asset white paper according to Article 19(1), second subparagraph, of Regulation (EU) 2023/1114\" is not provided with a fact value, then \"AA.3.1 Other persons drawing up the crypto-asset white paper according to Article 19(1), second subparagraph, of Regulation (EU) 2023/1114\" must be provided with fact value.",null,"Sample text",null,null,"New formula:\nIf \"AA.4 Reason for drawing the white paper by persons referred to in Article 19(1), second subparagraph, of Regulation (EU) 2023/1114\" is provided with fact value and \"AA.3 Other persons drawing up the crypto-asset white paper according to Article 19(1), second subparagraph, of Regulation (EU) 2023/1114\" is not provided with a fact value, then \"AA.3.1 Other persons drawing up the crypto-asset white paper according to Article 19(1), second subparagraph, of Regulation (EU) 2023/1114\" must be provided with fact value.","Change request"]
[null,"AA.4 Reason for drawing the white paper by persons referred to in Article 19(1), second subparagraph, of Regulation (EU) 2023/1114","Where the white paper is drawn up by a person different from the issuer, reason for drawing up the white paper","Free alphanumerical text",null,"textBlock",null,null,null,"Lorem ipsum dolor sit amet, consectetur adipiscing elit, sed do eiusmod tempor incididunt ut labore et dolore magna aliqua. Ut enim ad minim veniam, quis nostrud exercitation ullamco laboris nisi ut aliquip ex ea commodo consequat. Duis aute irure dolor in reprehenderit in voluptate velit esse cillum dolore eu fugiat nulla pariatur. Excepteur sint occaecat cupidatat non proident, sunt in culpa qui officia deserunt mollit anim id est laborum.",null,null,"Update formula:\nIf \"AA.3 Other persons drawing up the crypto-asset white paper according to Article 19(1), second subparagraph, of Regulation (EU) 2023/1114\" or \"AA.3.1 Other persons drawing up the crypto-asset white paper according to Article 19(1), second subparagraph, of Regulation (EU) 2023/1114\" is provided with fact value, \"AA.4 Reason for drawing the white paper by persons referred to in Article 19(1), second subparagraph, of Regulation (EU) 2023/1114\" must be provided with fact value.","Issue","True/False dependency"]
[null,"Part B - Information about asset-referenced token"]
[null,"B.1 Asset-referenced token name","Field to be filled in only if a DTI is not provided in field B.15\nName of the asset-referenced token","Free alphanumerical text",null,"text","error","If \"B.15 Digital token identifier code used to uniquely identify the crypto-asset or each of the several crypto assets to which the white paper relates, where available\" is not provided with a fact value, then \"B.1 Asset-referenced token name\" must be reported.",null,"Sample text",null,null,"Update formula:\nIf \"B.15 Digital token identifier code used to uniquely identify the crypto-asset or each of the several crypto assets to which the white paper relates, where available\" is not provided with a fact value, then \"B.1 Asset-referenced token name\" must be reported.","Issue","Compliancy with Technical Standards"]
[null,"B.2 Token abbreviation","Field to be filled in only if a DTI is not provided in field B.15\r\nAbbreviation or ticker handler of the asset-referenced token","Free alphanumerical text",null,"text","error","If \"B.15 Digital token identifier code used to uniquely identify the crypto-asset or each of the several crypto assets to which the white paper relates, where available\" is not provided with a fact value, then \"B.2 Token abbreviation\" must be reported.",null,"Sample text",null,null,"Update formula:\nIf \"B.15 Digital token identifier code used to uniquely identify the crypto-asset or each of the several crypto assets to which the white paper relates, where available\" is not provided with a fact value, then \"B.2 Token abbreviation\" must be reported.","Issue","Compliancy with Technical Standards"]
[null,"B.3 Details of all natural or legal persons involved in the operationalisation of the asset-referenced token","Details of advisors, development team, CASPs and all other natural or legal persons involved in the implementation of the crypto-asset project, including business addresses or domicile of the company","Free alphanumerical text presented in a tabular format",null,null,"error\r\nerror\r\nerror\r\nerror","The value of \"B.3 Details of all natural or legal persons involved in operationalisation of asset-referenced token / Type of person\" must be provided.\r\nThe value of \"B.3 Details of all natural or legal persons involved in operationalisation of asset-referenced token / Name of person\" must be provided.\r\nThe value of \"B.3 Details of all natural or legal persons involved in operationalisation of asset-referenced token / Business address of person\" must be provided.\r\nThe value of \"B.3 Details of all natural or legal persons involved in operationalisation of asset-referenced token / Domicle of company\" must be provided."]
[null,"Person #1",null,null,null,"id",null,null,null,1]
[null,"Type of person",null,null,null,"enumeration",null,null,null,"Advisor"]
[null,"Name of person ",null,null,null,"text",null,null,null,"Sample text"]
[null,"Business address of person",null,null,null,"text",null,null,null,"Sample text"]
[null,"Domicile of company",null,null,null,"enumeration",null,null,null,"Andorra"]
[null,"Person #2",null,null,null,"id",null,null,null,2]
[null,"Type of person",null,null,null,"enumeration",null,null,null,"Advisor"]
[null,"Name of person ",null,null,null,"text",null,null,null,"Sample text"]
[null,"Business address of person",null,null,null,"text",null,null,null,"Sample text"]
[null,"Domicile of company",null,null,null,"enumeration",null,null,null,"Andorra"]
[null,"Person #3",null,null,null,"id",null,null,null,3]
[null,"Type of person",null,null,null,"enumeration",null,null,null,"Advisor"]
[null,"Name of person ",null,null,null,"text",null,null,null,"Sample text"]
[null,"Business address of person",null,null,null,"text",null,null,null,"Sample text"]
[null,"Domicile of company",null,null,null,"enumeration",null,null,null,"Andorra"]
[null,"Person #4",null,null,null,"id",null,null,null,4]
[null,"Type of person",null,null,null,"enumeration",null,null,null,"Advisor"]
[null,"Name of person ",null,null,null,"text",null,null,null,"Sample text"]
[null,"Business address of person",null,null,null,"text",null,null,null,"Sample text"]
[null,"Domicile of company",null,null,null,"enumeration",null,null,null,"Andorra"]
[null,"Person #5",null,null,null,"id",null,null,null,5]
[null,"Type of person",null,null,null,"enumeration",null,null,null,"Advisor"]
[null,"Name of person ",null,null,null,"text",null,null,null,"Sample text"]
[null,"Business address of person",null,null,null,"text",null,null,null,"Sample text"]
[null,"Domicile of company",null,null,null,"enumeration",null,null,null,"Andorra"]
[null,"Person #6",null,null,null,"id",null,null,null,6]
[null,"Type of person",null,null,null,"enumeration",null,null,null,"Advisor"]
[null,"Name of person ",null,null,null,"text",null,null,null,"Sample text"]
[null,"Business address of person",null,null,null,"text",null,null,null,"Sample text"]
[null,"Domicile of company",null,null,null,"enumeration",null,null,null,"Andorra"]
[null,"Person #7",null,null,null,"id",null,null,null,7]
[null,"Type of person",null,null,null,"enumeration",null,null,null,"Advisor"]
[null,"Name of person ",null,null,null,"text",null,null,null,"Sample text"]
[null,"Business address of person",null,null,null,"text",null,null,null,"Sample text"]
[null,"Domicile of company",null,null,null,"enumeration",null,null,null,"Andorra"]
[null,"Person #8",null,null,null,"id",null,null,null,8]
[null,"Type of person",null,null,null,"enumeration",null,null,null,"Advisor"]
[null,"Name of person ",null,null,null,"text",null,null,null,"Sample text"]
[null,"Business address of person",null,null,null,"text",null,null,null,"Sample text"]
[null,"Domicile of company",null,null,null,"enumeration",null,null,null,"Andorra"]
[null,"Person #9",null,null,null,"id",null,null,null,9]
[null,"Type of person",null,null,null,"enumeration",null,null,null,"Advisor"]
[null,"Name of person ",null,null,null,"text",null,null,null,"Sample text"]
[null,"Business address of person",null,null,null,"text",null,null,null,"Sample text"]
[null,"Domicile of company",null,null,null,"enumeration",null,null,null,"Andorra"]
[null,"Person #10",null,null,null,"id",null,null,null,10]
[null,"Type of person",null,null,null,"enumeration",null,null,null,"Advisor"]
[null,"Name of person ",null,null,null,"text",null,null,null,"Sample text"]
[null,"Business address of person",null,null,null,"text",null,null,null,"Sample text"]
[null,"Domicile of company",null,null,null,"enumeration",null,null,null,"Andorra"]
[null,"B.4 Third-party roles","A description of the role, responsibility and accountability of any third-party entities referred to in Article 34(5), first subparagraph, point (h), of Regulation (EU) 2023/1114","Free alphanumerical text presented in a tabular format",null,"textBlock","error","The value of \"B.4 Third-party roles\" must be provided.",null,"Lorem ipsum dolor sit amet, consectetur adipiscing elit, sed do eiusmod tempor incididunt ut labore et dolore magna aliqua. Ut enim ad minim veniam, quis nostrud exercitation ullamco laboris nisi ut aliquip ex ea commodo consequat. Duis aute irure dolor in reprehenderit in voluptate velit esse cillum dolore eu fugiat nulla pariatur. Excepteur sint occaecat cupidatat non proident, sunt in culpa qui officia deserunt mollit anim id est laborum.",null,null,"Formula to be removed:\nIf \"A.13 Newly established\" is set to true, then \"B.4 Registered address\" and \"B.4 Registered address country\" should be provided with fact values.","Issue","Typo"]
[null,"B.5 Plans for the token","Information about the plans for the asset-referenced tokens, including description of past and expected future milestones","Free alphanumerical text",null,null,"warning\r\nwarning","The value of \"B.5 Plans for the token / Past milestones\" should be provided.\r\nThe value of \"B.5 Plans for the token / Future milestones\" should be provided.",null,null,null,null,"Update formula:\nThe value of \"B.5 Plans for the token / Past milestones\" should be provided.\nThe value of \"B.5 Plans for the token / Future milestones\" should be provided.","Change request"]
[null,"Past milestones",null,null,null,"textBlock",null,null,null,"Lorem ipsum dolor sit amet, consectetur adipiscing elit, sed do eiusmod tempor incididunt ut labore et dolore magna aliqua. Ut enim ad minim veniam, quis nostrud exercitation ullamco laboris nisi ut aliquip ex ea commodo consequat. Duis aute irure dolor in reprehenderit in voluptate velit esse cillum dolore eu fugiat nulla pariatur. Excepteur sint occaecat cupidatat non proident, sunt in culpa qui officia deserunt mollit anim id est laborum."]
[null,"Future milestones",null,null,null,"textBlock",null,null,null,"Lorem ipsum dolor sit amet, consectetur adipiscing elit, sed do eiusmod tempor incididunt ut labore et dolore magna aliqua. Ut enim ad minim veniam, quis nostrud exercitation ullamco laboris nisi ut aliquip ex ea commodo consequat. Duis aute irure dolor in reprehenderit in voluptate velit esse cillum dolore eu fugiat nulla pariatur. Excepteur sint occaecat cupidatat non proident, sunt in culpa qui officia deserunt mollit anim id est laborum."]
[null,"B.6 Resource allocation","Where applicable, information about resources already allocated to the project","Free alphanumerical text",null,"text",null,null,null,"Sample text",null,null,"Formula must be removed","Issue","Compliancy with Technical Standards"]
[null,"A description of the characteristics of the asset referenced token, including the data necessary for classification of the crypto-asset white paper in the register referred to in Article 109 of Regulation (EU) 2023/1114, as specified in accordance with paragraph 8 of that Article"]
[null,"B.7 Type of white paper","The type of white paper notified","ARTW",null,"enumeration","error","The value of \"B.7 Type of white paper\" must be provided.",null,"Asset-referenced token white paper"]
[null,"B.8 Type of submission","Type of submission","NEWT = New\r\nMODI = Modify\r\nEROR = Error\r\nCORR = Correction",null,"enumeration","error","The value of \"B.8 Type of submission\" must be provided.",null,"New"]
[null,"B.9 Crypto-asset characteristics","A description of the characteristics of the asset referenced token being offered or admitted to trading","Free alphanumerical text",null,"textBlock","error","The value of \"B.9 Crypto-asset characteristics\" must be provided.",null,"Lorem ipsum dolor sit amet, consectetur adipiscing elit, sed do eiusmod tempor incididunt ut labore et dolore magna aliqua. Ut enim ad minim veniam, quis nostrud exercitation ullamco laboris nisi ut aliquip ex ea commodo consequat. Duis aute irure dolor in reprehenderit in voluptate velit esse cillum dolore eu fugiat nulla pariatur. Excepteur sint occaecat cupidatat non proident, sunt in culpa qui officia deserunt mollit anim id est laborum."]
[null,"B.10 Website of the issuer","Website of the issuer","Free alphanumerical text",null,"text","error","The value of \"B.10 Website of the issuer\" must be provided.",null,"Sample text"]
[null,"B.11 Starting date of offer to the public or admission to trading","Starting date or, if not available at the time of the notification by the competent authority, the intended starting date of offer to the public or admission to trading","YYYY-MM-DD",null,"date","error","The value of \"B.11 Starting date of offert to the public or admission to trading\" must be provided.",null,"2025-12-31"]
[null,"B.12 Publication date","Effective or intended publication date of the white paper or of the modified white paper","YYYY-MM-DD",null,"date","error","The value of \"B.12 Publication date\" must be provided.",null,"2025-12-31"]
[null,"B.13 Any other services provided by issuer","Any other services provided by the issuer not covered by Regulation (EU) 2023/1114, with a reference to the applicable Union or national legal acts regulating those services","Free alphanumerical text",null,"textBlock","error","The value of \"B.13 Any other services provided by issuer\" must be provided.",null,"Lorem ipsum dolor sit amet, consectetur adipiscing elit, sed do eiusmod tempor incididunt ut labore et dolore magna aliqua. Ut enim ad minim veniam, quis nostrud exercitation ullamco laboris nisi ut aliquip ex ea commodo consequat. Duis aute irure dolor in reprehenderit in voluptate velit esse cillum dolore eu fugiat nulla pariatur. Excepteur sint occaecat cupidatat non proident, sunt in culpa qui officia deserunt mollit anim id est laborum."]
[null,"B.14 Language or languages of white paper","Language or languages in which the crypto-asset white paper is drafted\r\nWhen multiple languages have been used, this field shall be reported as many times as necessary","Closed list of EU languages",null,"text","error","The value of \"B.14 Language or languages of white paper\" must be provided.",null,"Sample text"]
[null,"B.15 Digital token identifier code used to uniquely identify the crypto-asset or each of the several crypto assets to which the white paper relates, where available","Code used to uniquely identify the crypto-asset or each of the several crypto assets to which the crypto-asset white paper relates, where available","ISO 24165 Digital Token Identifier",null,"text","error","The value of \"B.15 Digital token identifier code used to uniquely identify the crypto-asset or each of the several crypto assets to which the white paper relates, where availlable\" must be provided.",null,"Sample text",null,null,"Typo: update the error message to be aligned with field description","Issue","Typo"]
[null,"B.16 Functionally fungible group digital token identifier, where available","Code used to uniquely identify the functionally fungible group to which the digital asset belongs (i.e., common to each of the several assets to which the white paper relates, i.e. Code used to identify the white paper ISO 24165 DTI of type = 3 (i.e., functionally fungible group), where available","ISO 24165 FFG DTI",null,"text","error","The value of \"B.16 Functionally fungible group digital token identifier, where available\" must be provided.",null,"Sample text"]
[null,"B.17 Personal data flag","Flag indicating if the submitted white paper contains personal data","‘true’ – Yes\r\n‘false’ – No",null,"boolean","error","The value of \"B.17 Personal data flag\" must be provided.",null,"true"]
[null,"B.18 LEI eligibility","Indication that the issuer is eligible for a Legal Entity Identifier","‘true’ – eligible\r\n‘false’ – not eligible",null,"boolean","error","The value of \"B.18 LEI eligibility\" must be provided.",null,"true"]
[null,"B.19 Home member state","Home Member State as defined in Article 3(1), point (33), of Regulation (EU) 2023/1114","Closed list of EU Member States",null,"enumeration","error","The value of \"B.19 Home member state\" must be provided.",null,"Austria"]
[null,"B.20 Host member states #1","Host Member State as defined in Article 3(1), point (34), of Regulation (EU) 2023/1114","Closed list of EU Member States",null,"enumerationSet",null,null,null,"Austria",null,null,"This formula must be removed - it is not necessary to have host MS","Change request"]
[null,"B.20 Host member states #2",null,null,null,"enumerationSet",null,null,null,"Belgium"]
[null,"B.20 Host member states #3",null,null,null,"enumerationSet",null,null,null,"Bulgaria"]
[null,"B.20 Host member states #4",null,null,null,"enumerationSet",null,null,null,"Croatia"]
[null,"B.20 Host member states #5",null,null,null,"enumerationSet",null,null,null,"Cyprus"]
[null,"B.20 Host member states #6",null,null,null,"enumerationSet",null,null,null,"Czechia"]
[null,"B.20 Host member states #7",null,null,null,"enumerationSet",null,null,null,"Denmark"]
[null,"B.20 Host member states #8",null,null,null,"enumerationSet",null,null,null,"Estonia"]
[null,"B.20 Host member states #9",null,null,null,"enumerationSet",null,null,null,"Finland"]
[null,"B.20 Host member states #10",null,null,null,"enumerationSet",null,null,null,"France"]
[null,"Part C - Information about offer to public of asset-referenced token or its admission to trading"]
[null,"C.1 Public offering or admission to trading","Indication as to whether the crypto-asset white paper concerns an offer to the public of the asset-referenced token or its admission to trading","‘OTPC’ - offer to the public\n‘ATTR’ - admission to trading",null,"enumeration","error","The value of \"C.1 Public offering or admission to trading\" must be provided.",null,"Admission to trading"]
[null,"C.2 Fundraising target","Where applicable, the amount that the offer to the public of the asset-referenced token intends to raise in funds in an official currency or in any other crypto-asset","Amount in monetary value {DECIMAL-18/3}\r\nor\r\nNumerical {INTEGER-n}",null,null,"warning\r\nerror\r\nerror","If \"C.1 Public offering or admission to trading\" is set with 'OTPC' value, then \"C.2 Fund raising target\" should be either expressed in currency or unit (and then provided with the DTI value).\r\nIf \"C.2 Fundraising target / Target expressed in digital token identifier\" is provided with a fact value, then \"C.2 Fundraising target / Target expressed in units\" must be provided with a fact value.\r\nIf \"C.2 Fundraising target / Target expressed in units\" is provided with a fact value, then \"C.2 Fundraising target / Target expressed in digital token identifier\" must be provided with a fact value.",null,null,null,null,"New formula:\nIf \"C.1 Public offering or admission to trading\" is set with 'OTPC' value, then \"C.2 Fund raising target\" should be either expressed in currency or unit (and then provided with the DTI value).","Issue","Data check consistency with another Table"]
[null,"Target expressed in currency",null,null,null,"monetary",null,null,null,0,"EUR"]
[null,"Target expressed in units",null,null,null,"decimal",null,null,null,0,null,null,"New formula:\nIf \"C.2 Fundraising target / Target expressed in digital token identifier\" is provided with a fact value, then \"C.2 Fundraising target / Target expressed in units\" must be provided with a fact value.","Change request"]
[null,"Target expressed in digital token identifier",null,null,null,"text",null,null,null,"Sample text",null,null,"New formula:\nIf \"C.2 Fundraising target / Target expressed in units\" is provided with a fact value, then \"C.2 Fundraising target / Target expressed in digital token identifier\" must be provided with a fact value.","Change request"]
[null,"C.3 Minimum subscription goals","Where applicable, any minimum target subscription goals set for the offer to the public of the asset-referenced token in an official currency or any other crypto-assets","Amount in monetary value {DECIMAL-18/3}\r\nor\r\nNumerical {INTEGER-n}",null,null,"error\r\nerror","If \"C.3 Minimum subscription goals / Goals expressed in digital token identifier\" is provided with a fact value, then \"C.3 Minimum subscription goals / Goals expressed in units\" must be provided with a fact value.\r\nIf \"C.3 Minimum subscription goals / Goals expressed in units\" is provided with a fact value, then \"C.3 Minimum subscription goals / Goals expressed in digital token identifier\" must be provided with a fact value."]
[null,"Goals expressed in currency",null,null,null,"monetary",null,null,null,0,"EUR"]
[null,"Goals expressed in units",null,null,null,"decimal",null,null,null,0,null,null,"New formula:\nIf \"C.3 Minimum subscription goals / Goals expressed in digital token identifier\" is provided with a fact value, then \"C.3 Minimum subscription goals / Goals expressed in units\" must be provided with a fact value.","Change request"]
[null,"Goals expressed in digital token identifier",null,null,null,"text",null,null,null,"Sample text",null,null,"New formula:\nIf \"C.3 Minimum subscription goals / Goals expressed in units\" is provided with a fact value, then \"C.3 Minimum subscription goals / Goals expressed in digital token identifier\" must be provided with a fact value.","Change request"]
[null,"C.4 Maximum subscription goals","Where applicable, any maximum target subscription goals set for the offer to the public of the asset-referenced token in an official currency or any other crypto-assets","Amount in monetary value {DECIMAL-18/3}\r\nor\r\nNumerical {INTEGER-n}",null,null,"error\r\nerror","If \"C.4 Maximum subscription goals / Goals expressed in digital token identifier\" is provided with a fact value, then \"C.4 Maximum subscription goals / Goals expressed in units\" must be provided with a fact value.\r\nIf \"C.4 Maximum subscription goals / Goals expressed in units\" is provided with a fact value, then \"C.4 Maximum subscription goals / Goals expressed in digital token identifier\" must be provided with a fact value."]
[null,"Goals expressed in currency",null,null,null,"monetary",null,null,null,0,"EUR"]
[null,"Goals expressed in units",null,null,null,"decimal",null,null,null,0,null,null,"New formula:\nIf \"C.4 Maximum subscription goals / Goals expressed in digital token identifier\" is provided with a fact value, then \"C.4 Maximum subscription goals / Goals expressed in units\" must be provided with a fact value.","Change request"]
[null,"Goals expressed in digital token identifier",null,null,null,"text",null,null,null,"Sample text",null,null,"New formula:\nIf \"C.4 Maximum subscription goals / Goals expressed in units\" is provided with a fact value, then \"C.4 Maximum subscription goals / Goals expressed in digital token identifier\" must be provided with a fact value.","Change request"]
[null,"C.5 Oversubscription acceptance","Indication whether oversubscriptions are accepted","‘true’- Yes\r\n‘false’ - No\r\n‘NTAV’ - Not applicable",null,"boolean","error","If \"C.1 Public offering or admission to trading\" is set with 'OTPC' value, then \"C.5 Oversubscription acceptance\" must be provided with a fact value.",null,"true",null,null,"New formula:\nIf \"C.1 Public offering or admission to trading\" is set with 'OTPC' value, then \"C.5 Oversubscription acceptance\" must be provided with a fact value.","Change request"]
[null,"C.6 Oversubscription allocation","Where oversubscriptions are accepted, description of how they are allocated","Free alphanumerical text",null,"text","error","If \"C.5 Oversubscription acceptance\" is set to true, then \"C.6 Oversubscription allocation\" must be provided with a fact value.",null,"Sample text",null,null,"Formula update: \nIf \"C.5 Oversubscription acceptance\" is set to true, then \"C.6 Oversubscription allocation\" must be provided with a fact value.","Issue","True/False dependency"]
[null,"C.7 Token offering or trading quantity","Where applicable, the total number of units of the asset-referenced token to be offered or admitted to trading","Numerical {DECIMAL-18/3}",null,"integer",null,null,null,0]
[null,"C.8 Targeted holders","Indication of the prospective holders targeted by the offer to the public of the asset-referenced token or admission of such asset-referenced token to trading","‘RETL’ – retail investors\r\n‘PROF’ – professional investors",null,"enumeration","error","If \"C.1 Public offering or admission to trading\" is set with 'OTPC' value, then \"C.8 Targeted holders\" must be provided with a fact value.",null,"Professional investors",null,null,"Update formula\nIf \"C.1 Public offering or admission to trading\" is set with 'OTPC' value, then \"C.8 Targeted holders\" must be provided with a fact value.","Change request"]
[null,"C.9 Holders restrictions","Indication of any restriction as regards the type of holders for the asset-referenced token","Free alphanumerical text",null,"text","error","If \"C.1 Public offering or admission to trading\" is set with 'OTPC' value, then \"C.9 Holder restrictions\" must be provided with a fact value.",null,"Sample text",null,null,"Update formula\nIf \"C.1 Public offering or admission to trading\" is set with 'OTPC' value, then \"C.9 Holder restrictions\" must be provided with a fact value.","Change request"]
[null,"C.10 Reimbursement notice","‘Purchasers participating in the offer to the public of this asset-referenced token will be able to be reimbursed if the minimum target subscription goal is not reached at the end of the offer to the public, if they exercise the right to withdrawal provided for in Article 13 of Regulation (EU) 2023/1114 of the European Parliament and of the Council or if the offer is cancelled’","Predefined alphanumerical text",null,"boolean true","error","If \"C.1 Public offering or admission to trading\" is set with 'OTPC' value, then \"C.10 Reimbursement notice\" must be provided with a fact value.",null,"Purchasers participating in the offer to the public of this asset-referenced token will be able to be reimbursed if the minimum target subscription goal is not reached at the end of the offer to the public, if they exercise the right to withdrawal provided for in Article 13 of Regulation (EU) 2023/1114 of the European Parliament and of the Council or if the offer is cancelled",null,null,"Update formula\nIf \"C.1 Public offering or admission to trading\" is set with 'OTPC' value, then \"C.10 Reimbursement notice\" must be provided with a fact value.","Change request"]
[null,"C.11 Refund timeline","Expected timeline of when such refunds will be completed","Free alphanumerical text",null,"text","error","If \"C.1 Public offering or admission to trading\" is set with 'OTPC' value, then \"C.11 Refund timeline\" must be provided with a fact value.",null,"Sample text",null,null,"Update formula\nIf \"C.1 Public offering or admission to trading\" is set with 'OTPC' value, then \"C.11 Refund timeline\" must be provided with a fact value.","Change request"]
[null,"C.12 Explicit consequences","Description of the consequences of exceeding a maximum target subscription goal","Free alphanumerical text",null,"textBlock","error","If \"C.1 Public offering or admission to trading\" is set with 'OTPC' value, then \"C.12 Explicit consequences\" must be provided with a fact value.",null,"Lorem ipsum dolor sit amet, consectetur adipiscing elit, sed do eiusmod tempor incididunt ut labore et dolore magna aliqua. Ut enim ad minim veniam, quis nostrud exercitation ullamco laboris nisi ut aliquip ex ea commodo consequat. Duis aute irure dolor in reprehenderit in voluptate velit esse cillum dolore eu fugiat nulla pariatur. Excepteur sint occaecat cupidatat non proident, sunt in culpa qui officia deserunt mollit anim id est laborum.",null,null,"Update formula\nIf \"C.1 Public offering or admission to trading\" is set with 'OTPC' value, then \"C.12 Explicit consequences\" must be provided with a fact value.","Change request"]
[null,"C.13 Offer phases","Information about the various phases of the offer to the public of the asset-referenced token","Free alphanumerical text",null,"textBlock","warning","If \"C.1 Public offering or admission to trading\" is set with 'OTPC' value, then \"C.13 Offer phases\" should be provided with a fact value.",null,"Lorem ipsum dolor sit amet, consectetur adipiscing elit, sed do eiusmod tempor incididunt ut labore et dolore magna aliqua. Ut enim ad minim veniam, quis nostrud exercitation ullamco laboris nisi ut aliquip ex ea commodo consequat. Duis aute irure dolor in reprehenderit in voluptate velit esse cillum dolore eu fugiat nulla pariatur. Excepteur sint occaecat cupidatat non proident, sunt in culpa qui officia deserunt mollit anim id est laborum.",null,null,"Update formula\nIf \"C.1 Public offering or admission to trading\" is set with 'OTPC' value, then \"C.13 Offer phases\" should be provided with a fact value.","Change request"]
[null,"C.14 Early purchase discount","Information on discounted purchase price for early purchasers of the asset-referenced token (pre-public sales) and in the case of discounted purchase price for some purchasers, an explanation as to why the purchase prices may be different and a description of the impact on the other investors","Free alphanumerical text",null,"textBlock","warning","If \"C.1 Public offering or admission to trading\" is set with 'OTPC' value, then \"C.14 Early purchase discount\" should be provided with a fact value.",null,"Lorem ipsum dolor sit amet, consectetur adipiscing elit, sed do eiusmod tempor incididunt ut labore et dolore magna aliqua. Ut enim ad minim veniam, quis nostrud exercitation ullamco laboris nisi ut aliquip ex ea commodo consequat. Duis aute irure dolor in reprehenderit in voluptate velit esse cillum dolore eu fugiat nulla pariatur. Excepteur sint occaecat cupidatat non proident, sunt in culpa qui officia deserunt mollit anim id est laborum.",null,null,"Add formula:\nIf \"C.1 Public offering or admission to trading\" is set with 'OTPC' value, then \"C.14 Early purchase discount\" should be provided with a fact value.","Change request"]
[null,"C.15 Time-limited offer","Indication whether the offer is time-limited","‘true’- Yes\r\n‘false’ – No",null,"boolean","warning","If \"C.1 Public offering or admission to trading\" is set with 'OTPC' value, then \"C.15 Time-limited offer\" should be provided with a fact value.",null,"true",null,null,"Add formula:\nIf \"C.1 Public offering or admission to trading\" is set with 'OTPC' value, then \"C.15 Time-limited offer\" should be provided with a fact value.","Change request"]
[null,"C.16 Subscription period beginning","For time-limited offers, the beginning of the subscription period during which the offer to the public is open","ISO 8601 date format (YYYY-MM-DD)",null,"date","warning","If \"C.15 Time-limited offer\" is set to true, then \"C.16 Subscription period start\" should be provided with a fact value.",null,"2025-12-31"]
[null,"C.17 Subscription period end","For time-limited offers, the end of the subscription period during which the offer to the public is open","ISO 8601 date format (YYYY-MM-DD)",null,"date","warning\r\nwarning","If \"C.15 Time-limited offer\" is set to true, then \"C.17 Subscription period end\" should be provided with a fact value.\r\nThe \"C.17 Subscription period end\" should be greater than the \"C.16 Subscription period beginning\"",null,"2025-12-31"]
[null,"C.18 Token purchase or redemption payment","Methods of payment to purchase and to redeem the asset-referenced token offered","Free alphanumerical text",null,"textBlock","error","If \"C.1 Public offering or admission to trading\" is set with 'OTPC' value, then \"C.18 Token purchase or redemption payment\" must be provided with a fact value.",null,"Lorem ipsum dolor sit amet, consectetur adipiscing elit, sed do eiusmod tempor incididunt ut labore et dolore magna aliqua. Ut enim ad minim veniam, quis nostrud exercitation ullamco laboris nisi ut aliquip ex ea commodo consequat. Duis aute irure dolor in reprehenderit in voluptate velit esse cillum dolore eu fugiat nulla pariatur. Excepteur sint occaecat cupidatat non proident, sunt in culpa qui officia deserunt mollit anim id est laborum.",null,null,"Update formula\nIf \"C.1 Public offering or admission to trading\" is set with 'OTPC' value, then \"C.18 Token purchase or redemption payment\" must be provided with a fact value.","Change request"]
[null,"C.19 Token transfer","Information on the method and time schedule of transferring the purchased asset-referenced token to the holders","Free alphanumerical text",null,"text","error","If \"C.1 Public offering or admission to trading\" is set with 'OTPC' value, then \"C.19 Token transfer\" must be provided with a fact value.",null,"Sample text",null,null,"Update formula\nIf \"C.1 Public offering or admission to trading\" is set with 'OTPC' value, then \"C.19 Token transfer\" must be provided with a fact value.","Change request"]
[null,"C.20 Purchasers technical requirements","Information about technical requirements that the purchaser is required to fulfil to hold the asset-referenced token","Free alphanumerical text",null,"textBlock","error","If \"C.1 Public offering or admission to trading\" is set with 'OTPC' value, then \"C.20 Purchasers technical requirements\" must be provided with a fact value.",null,"Lorem ipsum dolor sit amet, consectetur adipiscing elit, sed do eiusmod tempor incididunt ut labore et dolore magna aliqua. Ut enim ad minim veniam, quis nostrud exercitation ullamco laboris nisi ut aliquip ex ea commodo consequat. Duis aute irure dolor in reprehenderit in voluptate velit esse cillum dolore eu fugiat nulla pariatur. Excepteur sint occaecat cupidatat non proident, sunt in culpa qui officia deserunt mollit anim id est laborum.",null,null,"Update formula\nIf \"C.1 Public offering or admission to trading\" is set with 'OTPC' value, then \"C.20 Purchasers technical requirements\" must be provided with a fact value.","Change request"]
[null,"Crypto-asset services provider characteristics"]
[null,"C.21 CASP name","Where applicable, the name of the crypto-asset service provider in charge of the placing of asset-referenced tokens","Free alphanumerical text",null,"text","error","If \"C.1 Public offering or admission to trading\" is set with 'OTPC' value, then \"C.21 CASP name\" must be provided with a fact value.",null,"Sample text",null,null,"Update formula\nIf \"C.1 Public offering or admission to trading\" is set with 'OTPC' value, then \"C.21 CASP name\" must be provided with a fact value.","Change request"]
[null,"C.22 CASP identifier","The legal entity identifier of the crypto-asset service provider in charge of the placing of asset-referenced tokens","{LEI}",null,"LEI","error","If \"C.1 Public offering or admission to trading\" is set with 'OTPC' value, then \"C.22 CASP identifier\" must be provided with a fact value.",null,"529900T8BM49AURSDO55",null,null,"Update formula\nIf \"C.1 Public offering or admission to trading\" is set with 'OTPC' value, then \"C.22 CASP identifier\" must be provided with a fact value.","Change request"]
[null,"C.23 Placement form","Where applicable, the form of such placement (with or without a firm commitment basis)","‘WITH- with a firm commitment basis\r\n‘WOUT’ - without a firm commitment basis\r\n‘NTAV’ - Not applicable",null,"enumeration","error","If \"C.1 Public offering or admission to trading\" is set with 'OTPC' value, then \"C.23 Placement form\" must be provided with a fact value.",null,"With a firm commitment basis",null,null,"Update formula\nIf \"C.1 Public offering or admission to trading\" is set with 'OTPC' value, then \"C.23 Placement form\" must be provided with a fact value.","Change request"]
[null,"Trading platform's characteristics"]
[null,"C.24 Trading platforms name","Where applicable, the name of the trading platforms for crypto-assets where admission to trading is sought","Free alphanumerical text",null,"text","error","If \"C.1 Public offering or admission to trading\" is set with 'ATTR' value, then \"C.24 Trading platforms name\" must be provided with a fact value.",null,"Sample text",null,null,"Update formula:\nIf \"C.1 Public offering or admission to trading\" is set with 'ATTR' value, then \"C.24 Trading platforms name\" must be provided with a fact value.","Change request"]
[null,"C.25 Trading platforms market identifier code (MIC)","Segment MIC for the trading platform operated by the CASP, where available, otherwise operating MIC.","{MIC}",null,"text","error","If \"C.1 Public offering or admission to trading\" is set with 'ATTR' value, then \"C.25 Trading platforms identifier code (MIC)\" must be provided with a fact value.",null,"Sample text",null,null,"Update formula:\nIf \"C.1 Public offering or admission to trading\" is set with 'ATTR' value, then \"C.25 Trading platforms identifier code (MIC)\" must be provided with a fact value.","Change request"]
[null,"C.26 Trading platforms access","Where applicable, information about how investors can access such trading platforms","Free alphanumerical text",null,"text","warning","If \"C.1 Public offering or admission to trading\" is set with 'ATTR' value, then \"C.26 Trading platforms platforms access\" should be provided with a fact value.",null,"Sample text",null,null,"If \"C.1 Public offering or admission to trading\" is set with 'ATTR' value, then \"C.26 Trading platforms platforms access\" should be provided with a fact value.","Change request"]
[null,"C.27 Involved costs","Where applicable, information about the costs involved for accessing the trading platform for investors","Free alphanumerical text",null,"text","warning","If \"C.1 Public offering or admission to trading\" is set with 'ATTR' value, then \"C.27 Involved costs\" should be provided with a fact value.",null,"Sample text",null,null,"If \"C.1 Public offering or admission to trading\" is set with 'ATTR' value, then \"C.27 Involved costs\" should be provided with a fact value.","Change request"]
[null,"C.28 Offer expenses","Expenses related to the offer to the public of the asset-referenced token, in an official currency or any other crypto-assets. If more than one type of expense, expenses should be presented in a tabular format.","Free alphanumerical text and Numerical {DECIMAL-18/3} presented in tabular format",null,"textBlock","error","If \"C.1 Public offering or admission to trading\" is set with 'ATTR' value, then \"C.28 Offer expenses\" must be provided with a fact value.",null,"Lorem ipsum dolor sit amet, consectetur adipiscing elit, sed do eiusmod tempor incididunt ut labore et dolore magna aliqua. Ut enim ad minim veniam, quis nostrud exercitation ullamco laboris nisi ut aliquip ex ea commodo consequat. Duis aute irure dolor in reprehenderit in voluptate velit esse cillum dolore eu fugiat nulla pariatur. Excepteur sint occaecat cupidatat non proident, sunt in culpa qui officia deserunt mollit anim id est laborum.",null,null,"Update formula:\nIf \"C.1 Public offering or admission to trading\" is set with 'ATTR' value, then \"C.28 Offer expenses\" must be provided with a fact value.","Change request"]
[null,"C.29 Conflicts of interest","Potential conflicts of interest of the persons involved in the offer to the public or admission to trading, arising in relation to the offer or admission to trading","Free alphanumerical text",null,"text","error","If \"C.1 Public offering or admission to trading\" is set with 'ATTR' value, then \"C.29 Conflicts of interest\" must be provided with a fact value.",null,"Sample text",null,null,"1/ Update formula:\nIf \"C.1 Public offering or admission to trading\" is set with 'ATTR' value, then \"C.28 Conflicts of interest\" must be provided with a fact value.\n\n2/ to add in the reporting instruction (William)","Change request"]
[null,"C.30 Applicable law","The law applicable to the offer to the public of the asset-referenced token","Drop-down list of applicable laws",null,"textBlock","error","If \"C.1 Public offering or admission to trading\" is set with 'ATTR' value, then \"C.30 Applicable law\" must be provided with a fact value.",null,"Lorem ipsum dolor sit amet, consectetur adipiscing elit, sed do eiusmod tempor incididunt ut labore et dolore magna aliqua. Ut enim ad minim veniam, quis nostrud exercitation ullamco laboris nisi ut aliquip ex ea commodo consequat. Duis aute irure dolor in reprehenderit in voluptate velit esse cillum dolore eu fugiat nulla pariatur. Excepteur sint occaecat cupidatat non proident, sunt in culpa qui officia deserunt mollit anim id est laborum.",null,null,"Update formula:\nIf \"C.1 Public offering or admission to trading\" is set with 'ATTR' value, then \"C.30 Applicable law\" must be provided with a fact value.","Change request"]
[null,"C.31 Competent court","Competent court","Free alphanumerical text",null,"textBlock","error","If \"C.1 Public offering or admission to trading\" is set with 'ATTR' value, then \"C.31 Competent court\" must be provided with a fact value.",null,"Lorem ipsum dolor sit amet, consectetur adipiscing elit, sed do eiusmod tempor incididunt ut labore et dolore magna aliqua. Ut enim ad minim veniam, quis nostrud exercitation ullamco laboris nisi ut aliquip ex ea commodo consequat. Duis aute irure dolor in reprehenderit in voluptate velit esse cillum dolore eu fugiat nulla pariatur. Excepteur sint occaecat cupidatat non proident, sunt in culpa qui officia deserunt mollit anim id est laborum.",null,null,"Update formula:\nIf \"C.1 Public offering or admission to trading\" is set with 'ATTR' value, then \"C.31 Competent court\" must be provided with a fact value.","Change request"]
[null,"Part D - Information on the rights and obligations attached to the asset-referenced token"]
[null,"D.1 Token functionalities","A description of the functionality of the asset-referenced token being offered or admitted to trading","Free alphanumerical text",null,"textBlock","error","The value of \"D.1 Token functionalities\" must be provided.",null,"Lorem ipsum dolor sit amet, consectetur adipiscing elit, sed do eiusmod tempor incididunt ut labore et dolore magna aliqua. Ut enim ad minim veniam, quis nostrud exercitation ullamco laboris nisi ut aliquip ex ea commodo consequat. Duis aute irure dolor in reprehenderit in voluptate velit esse cillum dolore eu fugiat nulla pariatur. Excepteur sint occaecat cupidatat non proident, sunt in culpa qui officia deserunt mollit anim id est laborum."]
[null,"D.2 Planned functional use","Information about when the functionalities are planned to apply","ISO 8601 date format (YYYY-MM-DD)",null,"date","error","The value of \"D.2 Planned functional use\" must be provided.",null,"2025-12-31"]
[null,"D.3 Purchaser rights and obligations","A description of the rights and obligations, if any, of the purchaser","Free alphanumerical text",null,"textBlock","error","The value of \"D.3 Purchases rights and obligations\" must be provided.",null,"Lorem ipsum dolor sit amet, consectetur adipiscing elit, sed do eiusmod tempor incididunt ut labore et dolore magna aliqua. Ut enim ad minim veniam, quis nostrud exercitation ullamco laboris nisi ut aliquip ex ea commodo consequat. Duis aute irure dolor in reprehenderit in voluptate velit esse cillum dolore eu fugiat nulla pariatur. Excepteur sint occaecat cupidatat non proident, sunt in culpa qui officia deserunt mollit anim id est laborum."]
[null,"D.4 Rights exercise procedure","A description of the procedure and conditions for the exercise of those rights","Free alphanumerical text",null,"textBlock","error","The value of \"D.4 Rights exercise procedure\" must be provided.",null,"Lorem ipsum dolor sit amet, consectetur adipiscing elit, sed do eiusmod tempor incididunt ut labore et dolore magna aliqua. Ut enim ad minim veniam, quis nostrud exercitation ullamco laboris nisi ut aliquip ex ea commodo consequat. Duis aute irure dolor in reprehenderit in voluptate velit esse cillum dolore eu fugiat nulla pariatur. Excepteur sint occaecat cupidatat non proident, sunt in culpa qui officia deserunt mollit anim id est laborum."]
[null,"D.5 Conditions for modifications of rights and obligations","A description of the conditions under which the rights and obligations may be modified","Free alphanumerical text",null,"textBlock","error","The value of \"D.5 Conditions for modifications of rights and obligations\" must be provided.",null,"Lorem ipsum dolor sit amet, consectetur adipiscing elit, sed do eiusmod tempor incididunt ut labore et dolore magna aliqua. Ut enim ad minim veniam, quis nostrud exercitation ullamco laboris nisi ut aliquip ex ea commodo consequat. Duis aute irure dolor in reprehenderit in voluptate velit esse cillum dolore eu fugiat nulla pariatur. Excepteur sint occaecat cupidatat non proident, sunt in culpa qui officia deserunt mollit anim id est laborum."]
[null,"D.6 Future public offers","Where applicable, information on the future offers to the public of the asset-referenced token by the issuer","Free alphanumerical text",null,"textBlock",null,null,null,"Lorem ipsum dolor sit amet, consectetur adipiscing elit, sed do eiusmod tempor incididunt ut labore et dolore magna aliqua. Ut enim ad minim veniam, quis nostrud exercitation ullamco laboris nisi ut aliquip ex ea commodo consequat. Duis aute irure dolor in reprehenderit in voluptate velit esse cillum dolore eu fugiat nulla pariatur. Excepteur sint occaecat cupidatat non proident, sunt in culpa qui officia deserunt mollit anim id est laborum."]
[null,"D.7 Issuer retained units","Where applicable, information on the number of units of the asset-referenced token retained by the issuer itself","Numerical {INTEGER-n}",null,"integer",null,null,null,0]
[null,"D.8 Non-trading request","Indication as to whether an admission to trading is sought","‘true’ –sought\r\n‘false’ – not sought",null,"boolean","error","The value of \"D.8 Non-trading request\" must be provided.",null,"true"]
[null,"D.9 Token purchase or sale modalities","Where an admission to trading is not sought, information on how and where the asset-referenced token can be purchased or sold after the offer to the public","Free alphanumerical text",null,"text","error","If \"D.8 Non-trading request\" is set to false, then \"D.9 Token purchase or sale modalities\" must be provided with a fact value.",null,"Sample text",null,null,"Update formula:\nIf \"D.8 Non-trading request\" is set to false, then \"D.9 Token purchase or sale modalities\" must be provided with a fact value.","Issue","True/False dependency"]
[null,"D.10 Token transfer restrictions","Any restrictions on the transferability of the asset-referenced token that is being offered or admitted to trading","Free alphanumerical text",null,"text","error","The value of \"D.10 Token transfer restrictions\" must be provided.",null,"Sample text"]
[null,"D.11 Supply adjustment protocols","Indication as to whether the asset-referenced token has protocols for the increase or decrease of their supply in response to changes in demand","‘true’ – Yes\r\n‘false’ – No",null,"boolean","error","The value of \"D.11 Supply adjustment protocols\" must be provided.",null,"true"]
[null,"D.12 Supply adjustment mechanisms","Where the asset-referenced token has protocols for the increase or decrease of their supply in response to changes in demand, a description of the functioning of such protocols","Free alphanumerical text",null,"text","error","If \"D.11 Supply adjustments protocols\" is set to true, then \"D.12 Supply adjustment mechanisms\" must be provided with a fact value.",null,"Sample text",null,null,"Update formula:\nIf \"D.11 Supply adjustments protocols\" is set to true, then \"D.12 Supply adjustment mechanisms\" must be provided with a fact value.","Issue","True/False dependency"]
[null,"Asset-referenced token schemes details"]
[null,"D.13 Token value protection schemes","Indication as to whether the asset-referenced token has a protection scheme protecting the value of the asset-referenced token","‘true’ – Yes\r\n‘false’ – No",null,"boolean","error","The value of \"D.13 Token value protection schemes\" must be provided.",null,"true"]
[null,"D.14 Token value protection schemes description","Where yes in the field D.13, a description of the protection schemes protecting the value of the asset-referenced token","Free alphanumerical text",null,"textBlock","error","If \"D.13 Token value protection schemes\" is set to true, then \"D.14 Token value protection schemes description\" must be provided with a fact value.",null,"Lorem ipsum dolor sit amet, consectetur adipiscing elit, sed do eiusmod tempor incididunt ut labore et dolore magna aliqua. Ut enim ad minim veniam, quis nostrud exercitation ullamco laboris nisi ut aliquip ex ea commodo consequat. Duis aute irure dolor in reprehenderit in voluptate velit esse cillum dolore eu fugiat nulla pariatur. Excepteur sint occaecat cupidatat non proident, sunt in culpa qui officia deserunt mollit anim id est laborum.",null,null,"Update formula:\nIf \"D.13 Token value protection schemes\" is set to true, then \"D.14 Token value protection schemes description\" must be provided with a fact value.","Issue","True/False dependency"]
[null,"D.15 Compensation schemes","Indication as to whether the asset-referenced token has a compensation scheme","‘true’ – Yes\r\n‘false’ – No",null,"boolean","error","The value of \"D.15 Token compensation schemes\" must be provided.",null,"true"]
[null,"D.16 Compensation schemes description","Where yes in the field D.15, a description of compensation schemes","Free alphanumerical text",null,"textBlock","error","If \"D.15 Compensation schemes\" is set to true, then \"D.16 Compensation schemes description\" must be provided with a fact value.",null,"Sample text",null,null,"Update formula:\nIf \"D.15 Compensation schemes\" is set to true, then \"D.16 Compensation schemes description\" must be provided with a fact value.","Issue","True/False dependency"]
[null,"D.17 Nature and enforceability of rights","Information on the nature and enforceability of rights, including permanent rights of redemption and any claims that holders and any legal or natural person as referred to in Article 39(2) of Regulation (EU) 2023/1114, may have against the issuer, including information on how such rights will be treated in the case of insolvency procedures and whether different rights are allocated to different holders and the non-discriminatory reasons for such different treatment","Free alphanumerical text",null,"textBlock","error","The value of \"D.17 Nature and enforceability of rights\" must be provided.",null,"Lorem ipsum dolor sit amet, consectetur adipiscing elit, sed do eiusmod tempor incididunt ut labore et dolore magna aliqua. Ut enim ad minim veniam, quis nostrud exercitation ullamco laboris nisi ut aliquip ex ea commodo consequat. Duis aute irure dolor in reprehenderit in voluptate velit esse cillum dolore eu fugiat nulla pariatur. Excepteur sint occaecat cupidatat non proident, sunt in culpa qui officia deserunt mollit anim id est laborum."]
[null,"D.18 Referenced assets description","Detailed description of the claim that the asset-referenced token represents for holders, including a description of each referenced asset including the ISIN code where available and specified proportions of each of those assets","Free alphanumerical text presented in a tabular format\r\n{ISIN} where applicable",null,"textBlock","error","The value of \"D.18 Referenced assets description\" must be provided.",null,"Lorem ipsum dolor sit amet, consectetur adipiscing elit, sed do eiusmod tempor incididunt ut labore et dolore magna aliqua. Ut enim ad minim veniam, quis nostrud exercitation ullamco laboris nisi ut aliquip ex ea commodo consequat. Duis aute irure dolor in reprehenderit in voluptate velit esse cillum dolore eu fugiat nulla pariatur. Excepteur sint occaecat cupidatat non proident, sunt in culpa qui officia deserunt mollit anim id est laborum."]
[null,"D.19 Referenced assets proportions","Description of the amount of the claim and the reserve of asset","Free alphanumerical text",null,"text","error","The value of \"D.19 Referenced assets proportions\" must be provided.",null,"Sample text"]
[null,"D.20 Value-claim-reserve interrelation","Relation between the value of the referenced assets and the amount of the claim and the reserve of assets","Free alphanumerical text",null,"text","error","The value of \"D.20 Value-claim-reserve interrelation\" must be provided.",null,"Sample text"]
[null,"D.21 Transparent claim valuation","Description how a fair and transparent valuation of components of the claim is undertaken, which identifies, where relevant, independent parties","Free alphanumerical text",null,"text","error","The value of \"D.21 Transparent claim valuation\" must be provided.",null,"Sample text"]
[null,"D.22 Other details about the claim the asset referenced token represents over referenced assets","Additional details describing the claim that the asset-referenced token represents for the holders","Free alphanumerical text",null,"textBlock",null,null,null,"Lorem ipsum dolor sit amet, consectetur adipiscing elit, sed do eiusmod tempor incididunt ut labore et dolore magna aliqua. Ut enim ad minim veniam, quis nostrud exercitation ullamco laboris nisi ut aliquip ex ea commodo consequat. Duis aute irure dolor in reprehenderit in voluptate velit esse cillum dolore eu fugiat nulla pariatur. Excepteur sint occaecat cupidatat non proident, sunt in culpa qui officia deserunt mollit anim id est laborum.",null,null,"Formula to be removed","Change request"]
[null,"D.23 Liquidity arrangements","Where applicable, information on the arrangements put in place by the issuer to ensure the liquidity of the asset-referenced token","Free alphanumerical text",null,"text","error","If \"D.23 Liquidity arrangements\" is provided with fact value, \"D.24 Liquidity providers\" must also be provided with fact value.",null,"Sample text"]
[null,"D.24 Liquidity providers","Where applicable, the name of the entities in charge of ensuring liquidity","Free alphanumerical text",null,"text",null,null,null,"Sample text",null,null,"Update formula:\nIf \"D.23 Liquidity arrangements\" is provided with fact value, \"D.24 Liquidity providers\" must be provided with fact value.","Issue","True/False dependency"]
[null,"D.25 Complaint submission contact","Contact details for submitting complaints","Free alphanumerical text",null,"text","error","The value of \"D.25 Complaint submission contact\" must be provided.",null,"Sample text"]
[null,"D.26 Complaints handling procedures","Description of the complaints-handling procedures","Free alphanumerical text",null,"textBlock","error","The value of \"D.26 Complaints handling procedures\" must be provided.",null,"Lorem ipsum dolor sit amet, consectetur adipiscing elit, sed do eiusmod tempor incididunt ut labore et dolore magna aliqua. Ut enim ad minim veniam, quis nostrud exercitation ullamco laboris nisi ut aliquip ex ea commodo consequat. Duis aute irure dolor in reprehenderit in voluptate velit esse cillum dolore eu fugiat nulla pariatur. Excepteur sint occaecat cupidatat non proident, sunt in culpa qui officia deserunt mollit anim id est laborum."]
[null,"D.27 Dispute resolution mechanism","Description of any dispute resolution mechanism or redress procedure established by the issuer of the asset-referenced token","Free alphanumerical text",null,"textBlock","error","The value of \"D.27 Dispute resolution mechanism\" must be provided.",null,"Lorem ipsum dolor sit amet, consectetur adipiscing elit, sed do eiusmod tempor incididunt ut labore et dolore magna aliqua. Ut enim ad minim veniam, quis nostrud exercitation ullamco laboris nisi ut aliquip ex ea commodo consequat. Duis aute irure dolor in reprehenderit in voluptate velit esse cillum dolore eu fugiat nulla pariatur. Excepteur sint occaecat cupidatat non proident, sunt in culpa qui officia deserunt mollit anim id est laborum."]
[null,"D.28 Holder rights in default or insolvency","A description of the rights of the holders when the issuer is not able to fulfil its obligations, including in insolvency","Free alphanumerical text",null,"textBlock","error","The value of \"D.28 Holder rights in default or insolvency\" must be provided.",null,"Lorem ipsum dolor sit amet, consectetur adipiscing elit, sed do eiusmod tempor incididunt ut labore et dolore magna aliqua. Ut enim ad minim veniam, quis nostrud exercitation ullamco laboris nisi ut aliquip ex ea commodo consequat. Duis aute irure dolor in reprehenderit in voluptate velit esse cillum dolore eu fugiat nulla pariatur. Excepteur sint occaecat cupidatat non proident, sunt in culpa qui officia deserunt mollit anim id est laborum."]
[null,"D.29 Rights in recovery plan implementation","A description of the rights in the context of the implementation of the recovery plan","Free alphanumerical text",null,"textBlock","error","The value of \"D.29 Rights in recovery plan implementation\" must be provided.",null,"Lorem ipsum dolor sit amet, consectetur adipiscing elit, sed do eiusmod tempor incididunt ut labore et dolore magna aliqua. Ut enim ad minim veniam, quis nostrud exercitation ullamco laboris nisi ut aliquip ex ea commodo consequat. Duis aute irure dolor in reprehenderit in voluptate velit esse cillum dolore eu fugiat nulla pariatur. Excepteur sint occaecat cupidatat non proident, sunt in culpa qui officia deserunt mollit anim id est laborum."]
[null,"D.30 Rights in redemption plan implementation","A description of the rights in the context of the implementation of the redemption plan","Free alphanumerical text",null,"textBlock","error","The value of \"D.30 Rights in redemption plan implementation\" must be provided.",null,"Lorem ipsum dolor sit amet, consectetur adipiscing elit, sed do eiusmod tempor incididunt ut labore et dolore magna aliqua. Ut enim ad minim veniam, quis nostrud exercitation ullamco laboris nisi ut aliquip ex ea commodo consequat. Duis aute irure dolor in reprehenderit in voluptate velit esse cillum dolore eu fugiat nulla pariatur. Excepteur sint occaecat cupidatat non proident, sunt in culpa qui officia deserunt mollit anim id est laborum."]
[null,"D.31 Redemption form","Detailed information on how the asset-referenced token is redeemed","Free alphanumerical text",null,"textBlock","error","The value of \"D.31 Redemption form\" must be provided.",null,"Lorem ipsum dolor sit amet, consectetur adipiscing elit, sed do eiusmod tempor incididunt ut labore et dolore magna aliqua. Ut enim ad minim veniam, quis nostrud exercitation ullamco laboris nisi ut aliquip ex ea commodo consequat. Duis aute irure dolor in reprehenderit in voluptate velit esse cillum dolore eu fugiat nulla pariatur. Excepteur sint occaecat cupidatat non proident, sunt in culpa qui officia deserunt mollit anim id est laborum."]
[null,"D.32 Redemption form options","Indication whether the holder will be able to choose the form of redemption","‘true’ – Yes\r\n‘false’ – No",null,"boolean","error","The value of \"D.32 Redemption form options\" must be provided.",null,"true"]
[null,"D.33 Transference form options","Indication as to whether the holder will be able to choose the form of transference","‘true’ – Yes\r\n‘false’ – No",null,"boolean","error","The value of \"D.33 Transference form options\" must be provided.",null,"true"]
[null,"D.34 Form of transference","Form of transference","Free alphanumerical text",null,"text","error","If \"D.33 Transference form options\" is set to true, then \"D.34 Form of transference\" must be provided with a fact value.",null,"Sample text",null,null,"Update formula:\nIf \"D.33 Transference form options\" is set to true, then \"D.34 Form of transference\" must be provided with a fact value.","Issue","True/False dependency"]
[null,"D.35 Redemption currency","The official currency of redemption","{CURRENCYCODE_3}",null,"enumeration","error","The value of \"D.35 Redemption currency\" must be provided.",null,"Andorran Peseta (before 2003-07)"]
[null,"D.36 Applicable law","The law applicable to the asset-referenced token","Drop-down list of applicable laws",null,"textBlock","error","The value of \"D.36 Applicable law\" must be provided.",null,"Lorem ipsum dolor sit amet, consectetur adipiscing elit, sed do eiusmod tempor incididunt ut labore et dolore magna aliqua. Ut enim ad minim veniam, quis nostrud exercitation ullamco laboris nisi ut aliquip ex ea commodo consequat. Duis aute irure dolor in reprehenderit in voluptate velit esse cillum dolore eu fugiat nulla pariatur. Excepteur sint occaecat cupidatat non proident, sunt in culpa qui officia deserunt mollit anim id est laborum."]
[null,"D.37 Competent court","Competent court","Free alphanumerical text",null,"textBlock","error","The value of \"D.37 Competent court\" must be provided.",null,"Lorem ipsum dolor sit amet, consectetur adipiscing elit, sed do eiusmod tempor incididunt ut labore et dolore magna aliqua. Ut enim ad minim veniam, quis nostrud exercitation ullamco laboris nisi ut aliquip ex ea commodo consequat. Duis aute irure dolor in reprehenderit in voluptate velit esse cillum dolore eu fugiat nulla pariatur. Excepteur sint occaecat cupidatat non proident, sunt in culpa qui officia deserunt mollit anim id est laborum."]
[null,"Part E - Information on the underlying technology"]
[null,"E.1 Distributed ledger technology","Fill in the field only if a DTI is not provided in field B.15\r\nInformation on the distributed ledger technology","Free alphanumerical text",null,"text","error","If \"B.15 Digital token identifier code used to uniquely identify the crypto-asset or each of the several crypto assets to which the white paper relates, where available\" is not provided with a fact value, then \"E.1 Distributed ledger technology\" must be reported.",null,"Sample text",null,null,"Update formula:\nIf \"B.15 Digital token identifier code used to uniquely identify the crypto-asset or each of the several crypto assets to which the white paper relates, where available\" is not provided with a fact value, then \"E.1 Distributed ledger technology\" must be reported.","Issue","Potential missing data"]
[null,"E.2 Protocols and technical standards","Information on the protocols and technical standards used, allowing for the holding, storing and transfer of the asset-referenced token","Free alphanumerical text",null,"textBlock","error","The value of \"E.2 Protocols and technical standards\" must be provided.",null,"Lorem ipsum dolor sit amet, consectetur adipiscing elit, sed do eiusmod tempor incididunt ut labore et dolore magna aliqua. Ut enim ad minim veniam, quis nostrud exercitation ullamco laboris nisi ut aliquip ex ea commodo consequat. Duis aute irure dolor in reprehenderit in voluptate velit esse cillum dolore eu fugiat nulla pariatur. Excepteur sint occaecat cupidatat non proident, sunt in culpa qui officia deserunt mollit anim id est laborum."]
[null,"E.3 Technology used","Other information on the technology used allowing for the holding, storing and transfer of asset-referenced tokens, if relevant","Free alphanumerical text",null,"textBlock","error","The value of \"E.3 Technology used\" must be provided.",null,"Lorem ipsum dolor sit amet, consectetur adipiscing elit, sed do eiusmod tempor incididunt ut labore et dolore magna aliqua. Ut enim ad minim veniam, quis nostrud exercitation ullamco laboris nisi ut aliquip ex ea commodo consequat. Duis aute irure dolor in reprehenderit in voluptate velit esse cillum dolore eu fugiat nulla pariatur. Excepteur sint occaecat cupidatat non proident, sunt in culpa qui officia deserunt mollit anim id est laborum."]
[null,"E.4 Consensus mechanism","The consensus mechanism, where applicable","Free alphanumerical text",null,"text",null,null,null,"Sample text"]
[null,"E.5 Incentive mechanisms and applicable fees","Incentive mechanisms to secure transactions and any fees applicable","Free alphanumerical text",null,"text","error","The value of \"E.5 Incentive mechanisms and applicable fees\" must be provided.",null,"Sample text"]
[null,"E.6 Use of distributed ledger technology","Indication as to whether the asset-referenced tokens are issued, transferred and stored using distributed ledger technology that is operated by the issuer or a third-party acting on the issuer’s behalf","‘true’ – Yes, DLT operated by the issuer or a third-party acting on the issuer’s behalf\r\n‘false’ – No, DLT not operated by the issuer or a third-party acting on the issuer’s behalf",null,"boolean","error","The value of \"E.6 Use of distributed ledger technology\" must be provided.",null,"true"]
[null,"E.7 DLT functionality description","If the DLT is operated by the issuer or a third party acting on the issuer’s behalf, a detailed description of the functioning of such distributed ledger technology","Free alphanumerical text",null,"textBlock","error","If \"E.6 Use of distributed ledger technology\" is set to true, then \"E.7 DLT functionality description\" must be provided with a fact value.",null,"Lorem ipsum dolor sit amet, consectetur adipiscing elit, sed do eiusmod tempor incididunt ut labore et dolore magna aliqua. Ut enim ad minim veniam, quis nostrud exercitation ullamco laboris nisi ut aliquip ex ea commodo consequat. Duis aute irure dolor in reprehenderit in voluptate velit esse cillum dolore eu fugiat nulla pariatur. Excepteur sint occaecat cupidatat non proident, sunt in culpa qui officia deserunt mollit anim id est laborum.",null,null,"Add formula:\nIf \"E.6 Use of distributed ledger technology\" is set to true, then \"E.7 DLT functionality description\" must be provided with a fact value.","Issue","True/False dependency"]
[null,"Asset-referenced token's audit details"]
[null,"E.8 Audit","Indication as to whether an audit of the technology used was conducted","‘true’ – Yes\r\n‘false’ – No",null,"boolean","error","The value of \"E.8 Audit\" must be provided.",null,"true"]
[null,"E.9 Audit outcome","If an audit was conducted, information on the outcome of the audit of the technology used","Free alphanumerical text",null,"textBlock","error","If \"E.8 Audit\" is set to true, then \"E.9 Audit outcome\" must be provided with a fact value.",null,"Lorem ipsum dolor sit amet, consectetur adipiscing elit, sed do eiusmod tempor incididunt ut labore et dolore magna aliqua. Ut enim ad minim veniam, quis nostrud exercitation ullamco laboris nisi ut aliquip ex ea commodo consequat. Duis aute irure dolor in reprehenderit in voluptate velit esse cillum dolore eu fugiat nulla pariatur. Excepteur sint occaecat cupidatat non proident, sunt in culpa qui officia deserunt mollit anim id est laborum.",null,null,"Update formula:\nIf \"E.8 Audit\" is set to true, then \"E.9 Audit outcome\" must be provided with a fact value.","Issue","True/False dependency"]
[null,"Part F - Information on the risks"]
[null,"F.1 Risks related to asset reserve","The risks related to the reserve of assets, when the issuer is not able to fulfil its obligations","Free alphanumerical text",null,"textBlock","error","The value of \"F.1 Risks related to asset reserve\" must be provided.",null,"Lorem ipsum dolor sit amet, consectetur adipiscing elit, sed do eiusmod tempor incididunt ut labore et dolore magna aliqua. Ut enim ad minim veniam, quis nostrud exercitation ullamco laboris nisi ut aliquip ex ea commodo consequat. Duis aute irure dolor in reprehenderit in voluptate velit esse cillum dolore eu fugiat nulla pariatur. Excepteur sint occaecat cupidatat non proident, sunt in culpa qui officia deserunt mollit anim id est laborum."]
[null,"F.2 Issuer-related risks","A description of the risks associated with the issuer of the asset-referenced token","Free alphanumerical text",null,"textBlock","error","The value of \"F.2 Issuer-related risks\" must be provided.",null,"Lorem ipsum dolor sit amet, consectetur adipiscing elit, sed do eiusmod tempor incididunt ut labore et dolore magna aliqua. Ut enim ad minim veniam, quis nostrud exercitation ullamco laboris nisi ut aliquip ex ea commodo consequat. Duis aute irure dolor in reprehenderit in voluptate velit esse cillum dolore eu fugiat nulla pariatur. Excepteur sint occaecat cupidatat non proident, sunt in culpa qui officia deserunt mollit anim id est laborum."]
[null,"F.3 Offer-related risks","A description of the risks associated with the offer to the public of the asset-referenced token or its admission to trading","Free alphanumerical text",null,"textBlock","error","The value of \"F.3 Offer-related risks\" must be provided.",null,"Lorem ipsum dolor sit amet, consectetur adipiscing elit, sed do eiusmod tempor incididunt ut labore et dolore magna aliqua. Ut enim ad minim veniam, quis nostrud exercitation ullamco laboris nisi ut aliquip ex ea commodo consequat. Duis aute irure dolor in reprehenderit in voluptate velit esse cillum dolore eu fugiat nulla pariatur. Excepteur sint occaecat cupidatat non proident, sunt in culpa qui officia deserunt mollit anim id est laborum."]
[null,"F.4 Token-related risks","Description of the risks associated with the asset-referenced token, in particular with regard to the asset referenced","Free alphanumerical text",null,"textBlock","error","The value of \"F.4 Token-related risks\" must be provided.",null,"Lorem ipsum dolor sit amet, consectetur adipiscing elit, sed do eiusmod tempor incididunt ut labore et dolore magna aliqua. Ut enim ad minim veniam, quis nostrud exercitation ullamco laboris nisi ut aliquip ex ea commodo consequat. Duis aute irure dolor in reprehenderit in voluptate velit esse cillum dolore eu fugiat nulla pariatur. Excepteur sint occaecat cupidatat non proident, sunt in culpa qui officia deserunt mollit anim id est laborum."]
[null,"F.5 Risks related to operationalisation of the asset-referenced token project","A description of the risks associated with the operationalisation of the asset-referenced token project","Free alphanumerical text",null,"textBlock","error","The value of \"F.5 Risks related to operationalisation of asset-referenced token project\" must be provided.",null,"Lorem ipsum dolor sit amet, consectetur adipiscing elit, sed do eiusmod tempor incididunt ut labore et dolore magna aliqua. Ut enim ad minim veniam, quis nostrud exercitation ullamco laboris nisi ut aliquip ex ea commodo consequat. Duis aute irure dolor in reprehenderit in voluptate velit esse cillum dolore eu fugiat nulla pariatur. Excepteur sint occaecat cupidatat non proident, sunt in culpa qui officia deserunt mollit anim id est laborum."]
[null,"F.6 Technology-related risks","Description of the risks associated with the technology used","Free alphanumerical text",null,"textBlock","error","The value of \"F.6 Technology-related risks\" must be provided.",null,"Lorem ipsum dolor sit amet, consectetur adipiscing elit, sed do eiusmod tempor incididunt ut labore et dolore magna aliqua. Ut enim ad minim veniam, quis nostrud exercitation ullamco laboris nisi ut aliquip ex ea commodo consequat. Duis aute irure dolor in reprehenderit in voluptate velit esse cillum dolore eu fugiat nulla pariatur. Excepteur sint occaecat cupidatat non proident, sunt in culpa qui officia deserunt mollit anim id est laborum."]
[null,"F.7 Mitigation measures","Mitigation measures of the risks associated with the technology used, if any","Free alphanumerical text",null,"text",null,null,null,"Sample text"]
[null,"Part G - Information on the reserve of assets"]
[null,"G.1 Value alignment mechanism","Detailed description of the mechanism aimed at aligning the value of the reserve of assets with the claim associated with the asset-referenced token, including legal and technical aspects","Free alphanumerical text",null,"textBlock","error","The value of \"G.1 Value alignment mechanism\" must be provided.",null,"Lorem ipsum dolor sit amet, consectetur adipiscing elit, sed do eiusmod tempor incididunt ut labore et dolore magna aliqua. Ut enim ad minim veniam, quis nostrud exercitation ullamco laboris nisi ut aliquip ex ea commodo consequat. Duis aute irure dolor in reprehenderit in voluptate velit esse cillum dolore eu fugiat nulla pariatur. Excepteur sint occaecat cupidatat non proident, sunt in culpa qui officia deserunt mollit anim id est laborum.",null,null,"Formula update:correct the typo \"G.1\" instead of \"F.1\"","Issue","Typo"]
[null,"G.2 Asset reserve description","Detailed description of the reserve of assets and their composition","Free alphanumerical text",null,"textBlock","error","The value of \"G.2 Asset reserve description\" must be provided.",null,"Lorem ipsum dolor sit amet, consectetur adipiscing elit, sed do eiusmod tempor incididunt ut labore et dolore magna aliqua. Ut enim ad minim veniam, quis nostrud exercitation ullamco laboris nisi ut aliquip ex ea commodo consequat. Duis aute irure dolor in reprehenderit in voluptate velit esse cillum dolore eu fugiat nulla pariatur. Excepteur sint occaecat cupidatat non proident, sunt in culpa qui officia deserunt mollit anim id est laborum."]
[null,"G.3 Token issuance and redemption mechanisms","A description of the mechanisms through which asset-referenced tokens are issued and redeemed","Free alphanumerical text",null,"textBlock","error","The value of \"G.3 Token issuance and redemption mechanisms\" must be provided.",null,"Lorem ipsum dolor sit amet, consectetur adipiscing elit, sed do eiusmod tempor incididunt ut labore et dolore magna aliqua. Ut enim ad minim veniam, quis nostrud exercitation ullamco laboris nisi ut aliquip ex ea commodo consequat. Duis aute irure dolor in reprehenderit in voluptate velit esse cillum dolore eu fugiat nulla pariatur. Excepteur sint occaecat cupidatat non proident, sunt in culpa qui officia deserunt mollit anim id est laborum."]
[null,"G.4 Investment of reserve of assets","Information on whether a part of the reserve assets are invested","‘true’ – Yes\r\n‘false’ – No",null,"boolean","error","The value of \"G.4 Investment of reserve of assets\" must be provided.",null,"true"]
[null,"G.5 Reserve asset investment policy","If a part of the reserve assets are invested, a description of the investment policy for the reserve assets","Free alphanumerical text",null,"textBlock","error","If \"G.4 Investment of reserve of assets\" is set to true, then \"G.5 Reserve asset investment policy\" must be provided with a fact value.",null,"Lorem ipsum dolor sit amet, consectetur adipiscing elit, sed do eiusmod tempor incididunt ut labore et dolore magna aliqua. Ut enim ad minim veniam, quis nostrud exercitation ullamco laboris nisi ut aliquip ex ea commodo consequat. Duis aute irure dolor in reprehenderit in voluptate velit esse cillum dolore eu fugiat nulla pariatur. Excepteur sint occaecat cupidatat non proident, sunt in culpa qui officia deserunt mollit anim id est laborum.",null,null,"Update formula\nIf \"G.4 Investment of reserve of assets\" is set to true, then \"G.5 Reserve asset investment policy\" should be provided with a fact value.","Issue","True/False dependency"]
[null,"G.6 Reserve asset custody arrangements","Description of the custody arrangements for the reserve assets, including their segregation","Free alphanumerical text",null,"textBlock","error","The value of \"G.6 Reserve asset custody arrangements\" must be provided.",null,"Lorem ipsum dolor sit amet, consectetur adipiscing elit, sed do eiusmod tempor incididunt ut labore et dolore magna aliqua. Ut enim ad minim veniam, quis nostrud exercitation ullamco laboris nisi ut aliquip ex ea commodo consequat. Duis aute irure dolor in reprehenderit in voluptate velit esse cillum dolore eu fugiat nulla pariatur. Excepteur sint occaecat cupidatat non proident, sunt in culpa qui officia deserunt mollit anim id est laborum."]
[null,"Custodian service providers characteristics"]
[null,"G.7 Custodian service providers","Name of crypto-asset service providers providing custody and administration of crypto-assets on behalf of clients, credit institutions, or investment firms appointed as custodians of the reserve assets","Free alphanumerical text",null,"textBlock","error","The value of \"G.7 Custodian service providers\" must be provided.",null,"Lorem ipsum dolor sit amet, consectetur adipiscing elit, sed do eiusmod tempor incididunt ut labore et dolore magna aliqua. Ut enim ad minim veniam, quis nostrud exercitation ullamco laboris nisi ut aliquip ex ea commodo consequat. Duis aute irure dolor in reprehenderit in voluptate velit esse cillum dolore eu fugiat nulla pariatur. Excepteur sint occaecat cupidatat non proident, sunt in culpa qui officia deserunt mollit anim id est laborum."]
[null,"G.8 Custodian service providers","LEI of the CASP providing custody and administration of crypto-assets on behalf of clients, credit institutions, or investment firms appointed as custodians of the reserve assets","{LEI}",null,"LEI","error","The value of \"G.8 Custodian service providers\" must be provided.",null,"529900T8BM49AURSDO55"]
[null,"Part H - Information on the sustainability indicators in relation to adverse impact on the climate and other environment-related adverse impacts"]
[null,"H.1 Adverse impacts on climate and other environment-related adverse impacts","Include information referred to Commission Delegated Regulation establishing technical standards adopted pursuant to Article 6(12), fourth subparagraph, Article 19(11), fourth subparagraph, Article 51(15), fourth subparagraph, and Article 66(6), fourth subparagraph of Regulation (EU) 2023/1114 of the European Parliament and of the Council","Free alphanumerical text",null,"textBlock",null,null,null,"Lorem ipsum dolor sit amet, consectetur adipiscing elit, sed do eiusmod tempor incididunt ut labore et dolore magna aliqua. Ut enim ad minim veniam, quis nostrud exercitation ullamco laboris nisi ut aliquip ex ea commodo consequat. Duis aute irure dolor in reprehenderit in voluptate velit esse cillum dolore eu fugiat nulla pariatur. Excepteur sint occaecat cupidatat non proident, sunt in culpa qui officia deserunt mollit anim id est laborum."]
[null,"Mandatory information on principal adverse impacts on the climate and other environment-related adverse impacts of the consensus mechanism"]
[null,"General information about adverse impacts"]
[null,"S.1 Name","Name reported in Annex II to Commission Implementing Regulation (EU) 2024/2984 (1), Table 2, fields A.1, B.2 or C.1, Table 3, field A.1, or Table 4, or name of the crypto-asset service provider","Free alphanumerical text",null,"text","error","The value of \"S.1 Name\" must be provided.",null,"Sample text"]
[null,"S.2 Relevant legal entity identifier","Identifier referred to in Annex II to Implementing Regulation (EU) 2024/2984, Table 2, fields A.6 or A.7, B.7 or B.8 or C.6 or C.7, Table 3, fields A.7 and A.8 or Table 4, fields A.7 and A.8 or identifier of the crypto-asset service provider referred to in Article 1 of Commission Delegated Regulation (EU) 2025/305 (2)","Free alphanumerical text",null,"text","error","The value of \"S.2 Relevant legal entity identifier\" must be provided.",null,"529900T8BM49AURSDO55",null,null,"Taxonomy update: field format must be text, not LEI","Issue","Compliancy with Technical Standards"]
[null,"S.3 Name of the crypto-asset","Name of the crypto-asset, as reported in Annex II to Implementing Regulation (EU) 2024/2984, Table 2, field D.2, Table 3, field B.1, or Table 4, field B.1 where relevant","Free alphanumerical text",null,"text","error","The value of \"S.3 \"Name of crypto-asset\" must be provided.",null,"Sample text"]
[null,"S.4 Consensus mechanism","The consensus mechanism, as reported in Annex II to Implementing Regulation (EU) 2024/2984, Table 2, field H.4, Table 3, field E.4, or Table 4, field E.5, where relevant, including the information referred to in Article 6(1), point (b), of this Regulation.","Free alphanumerical text",null,"text","error","The value of \"S.4 Consensus mechanism\" must be provided.",null,"Sample text"]
[null,"S.5 Incentive mechanisms and applicable fees","Incentive mechanisms to secure transactions and any fees applicable, as reported in Annex II to Implementing Regulation (EU) 2024/2984, Table 2, field H.5, Table 3, field E.5 or Table 4, field E.6, where relevant.\r\nFor persons drawing up a crypto-asset white paper pursuant to Articles 6, 19 or 51 of Regulation (EU) 2023/1114, the information may be provided by including a cross-reference to the aforementioned fields.","Free alphanumerical text",null,"text","error","The value of \"S.5 Incentive mechanisms and applicable fees\" must be provided.",null,"Sample text"]
[null,"S.6 Beginning of period to which disclosed information relates","Start date of the period covered by the disclosed information","{DATEFORMAT}",null,"date","error","The value of \"S.6 Beginning of period to which disclosure relates\" must be provided.",null,"2025-01-01"]
[null,"S.7 End of period to which disclosed information relates","End date of the period covered by the disclosed information","{DATEFORMAT}",null,"date","error","The value of \"S.7 End of period to which disclosure relates\" must be provided.",null,"2025-12-31"]
[null,"Mandatory key indicator"]
[null,"S.8 Energy consumption","Total amount of energy used for the validation of transactions and the maintenance of the integrity of the distributed ledger, expressed in kilowatt-hours per calendar year","Amount in kilowatt-hours (kWh) {DECIMAL-18/5}",null,"energy (kWh) ","error","The value of \"S.8 Energy consumption\" must be provided.",null,0]
[null,"Sources and methodologies"]
[null,"S.9 Energy consumption sources and methodologies","Sources and methodologies used in relation to the information reported in field S.8","Free alphanumerical text",null,"textBlock","error","The value of \"S.9 Energy consumption sources and methodologies\" must be provided.",null,"Sample text",null,null,"Formula correction: remove typo \"yy\" in the error message","Issue","Typo"]
[null,"Supplementary information on principal adverse impacts on climate and other environment-related adverse impacts of consensus mechanism"]
[null,"Supplementary key indicators"]
[null,"S.10 Renewable energy consumption","Share of energy from renewable sources, used for the validation of transactions and the maintenance of the integrity of the distributed ledger, expressed as a percentage of the total amount of energy used per calendar year","Percentage {DECIMAL-11/10}",null,"percent",null,null,null,0]
[null,"S.11 Energy intensity","Average amount of energy used per validated transaction","Amount in kWh {DECIMAL-18/5}",null,"energy (kWh)",null,null,null,0]
[null,"S.12 Scope 1 DLT GHG emissions - controlled","Scope 1 GHG emissions per calendar year for the validation of transactions and the maintenance of the integrity of the distributed ledger","Amount in tonnes (t) carbon dioxide equivalent (CO2e) {DECIMAL-18/5}",null,"GHG emissions (tCO2e)",null,null,null,0]
[null,"S.13 Scope 2 DLT GHG emissions - purchased","Scope 2 GHG emissions, expressed in tCO2e per calendar year for the validation of transactions and the maintenance of the integrity of the distributed ledger","Amount in tCO2e {DECIMAL-18/5}",null,"GHG emissions (tCO2e)",null,null,null,0]
[null,"S.14 GHG intensity","Average GHG emissions (scope 1 and scope 2) per validated transaction","Amount in kilogram (kg) CO2e (Tx) {DECIMAL-18/5}",null,"GHG emissions (tCO2e)",null,null,null,0]
[null,"Sources and methodologies"]
[null,"S.15 Key energy sources and methodologies","Sources and methodologies used in relation to the information reported in fields S.10 and S.11","Free alphanumerical text",null,"textBlock",null,null,null,"Lorem ipsum dolor sit amet, consectetur adipiscing elit, sed do eiusmod tempor incididunt ut labore et dolore magna aliqua. Ut enim ad minim veniam, quis nostrud exercitation ullamco laboris nisi ut aliquip ex ea commodo consequat. Duis aute irure dolor in reprehenderit in voluptate velit esse cillum dolore eu fugiat nulla pariatur. Excepteur sint occaecat cupidatat non proident, sunt in culpa qui officia deserunt mollit anim id est laborum."]
[null,"S.16 Key GHG sources and methodologies","Sources and methodologies used in relation to the information reported in fields S.12, S.13 and S.14","Free alphanumerical text",null,"textBlock",null,null,null,"Lorem ipsum dolor sit amet, consectetur adipiscing elit, sed do eiusmod tempor incididunt ut labore et dolore magna aliqua. Ut enim ad minim veniam, quis nostrud exercitation ullamco laboris nisi ut aliquip ex ea commodo consequat. Duis aute irure dolor in reprehenderit in voluptate velit esse cillum dolore eu fugiat nulla pariatur. Excepteur sint occaecat cupidatat non proident, sunt in culpa qui officia deserunt mollit anim id est laborum."]
[null,"Optional information on principal adverse impacts on the climate and on other environment-related adverse impacts of the consensus mechanism"]
[null,"Optional indicators"]
[null,"S. 17 Energy mix","Description of the relative contributions of each different primary energy source used for the validation of transactions and the maintenance of the integrity of the distributed ledger, expressed as percentages","Percentage {DECIMAL-11/10}",null,"percent",null,null,null,0]
[null,"S.18 Energy use reduction","Energy use reduction targets or commitments, expressed in absolute or relative reduction of energy use over one calendar year","Amount in kWh {DECIMAL-18/5} or Percentage {DECIMAL-11/10}"]
[null,"Energy use reduction target (absolute value)",null,null,null,"energy (kWh)",null,null,null,0]
[null,"Energy use reduction target (percentage)",null,null,null,"percent",null,null,null,0]
[null,"S.19 Carbon intensity","Carbon intensity of the energy used for the validation of transactions and the maintenance of the integrity of the distributed ledger","Amount in kgCO2e per kWh {DECIMAL-18/5}",null,"decimal",null,null,null,0]
[null,"S.20 Scope 3 DLT GHG emissions - value chain","Scope 3 GHG emissions for the validation of transactions and the maintenance of the integrity of the distributed ledger per calendar year","Amount in tCO2e {DECIMAL-18/5}",null,"GHG emissions (tCO2e)",null,null,null,0]
[null,"S.21 GHG emissions reduction targets or commitments","GHG emissions reduction targets or commitments, expressed in terms of absolute or relative reduction in GHG emissions over one calendar year","Free alphanumerical text",null,"textBlock",null,null,null,"Lorem ipsum dolor sit amet, consectetur adipiscing elit, sed do eiusmod tempor incididunt ut labore et dolore magna aliqua. Ut enim ad minim veniam, quis nostrud exercitation ullamco laboris nisi ut aliquip ex ea commodo consequat. Duis aute irure dolor in reprehenderit in voluptate velit esse cillum dolore eu fugiat nulla pariatur. Excepteur sint occaecat cupidatat non proident, sunt in culpa qui officia deserunt mollit anim id est laborum."]
[null,"S.22 Generation of waste electrical and electronic equipment (WEEE)","Total amount of WEEE generated for the validation of transactions and the maintenance of the integrity of the distributed ledger per calendar year","Amount in t {DECIMAL-18/5}",null,"mass (tonnes)",null,null,null,0]
[null,"S.23 Non-recycled WEEE ratio","Share of the total amount of WEEE generated for the validation of transactions and the maintenance of the integrity of the distributed ledger, not recycled per calendar year","Percentage {DECIMAL-11/10}",null,"percent",null,null,null,0]
[null,"S.24 Generation of hazardous waste","Total amount of hazardous waste generated for the validation of transactions and the maintenance of the integrity of the distributed ledger per calendar year","Amount in t {DECIMAL-18/5}",null,"mass (tonnes)",null,null,null,0]
[null,"S.25 Generation of waste (all types)","Total amount of waste generated by the validation of transactions and the maintenance of the integrity of the distributed ledger","Amount in t {DECIMAL-18/5}",null,"mass (tonnes)",null,null,null,0]
[null,"S.26 Non-recycled waste ratio (all types)","Share of the total amount of waste generated for the validation of transactions and the maintenance of the integrity of the distributed ledger not recycled per calendar year","Percentage {DECIMAL-11/10}",null,"percent",null,null,null,0]
[null,"S.27 Waste intensity (all types)","Total amount of waste generated per transaction validated","Amount in grams (g) per Tx {DECIMAL-18/5}",null,"mass (tonnes)",null,null,null,0]
[null,"S.28 Waste reduction targets or commitments (all types)","Waste reduction targets or commitments, expressed in absolute or relative reduction in waste generation over one calendar year","Free alphanumerical text",null,"textBlock",null,null,null,"Lorem ipsum dolor sit amet, consectetur adipiscing elit, sed do eiusmod tempor incididunt ut labore et dolore magna aliqua. Ut enim ad minim veniam, quis nostrud exercitation ullamco laboris nisi ut aliquip ex ea commodo consequat. Duis aute irure dolor in reprehenderit in voluptate velit esse cillum dolore eu fugiat nulla pariatur. Excepteur sint occaecat cupidatat non proident, sunt in culpa qui officia deserunt mollit anim id est laborum."]
[null,"S.29 Impact of use of equipment on natural resources","Description of the impact on natural resources of the production, the use and the disposal of the devices of the DLT network nodes","Free alphanumerical text",null,"textBlock",null,null,null,"Lorem ipsum dolor sit amet, consectetur adipiscing elit, sed do eiusmod tempor incididunt ut labore et dolore magna aliqua. Ut enim ad minim veniam, quis nostrud exercitation ullamco laboris nisi ut aliquip ex ea commodo consequat. Duis aute irure dolor in reprehenderit in voluptate velit esse cillum dolore eu fugiat nulla pariatur. Excepteur sint occaecat cupidatat non proident, sunt in culpa qui officia deserunt mollit anim id est laborum."]
[null,"S.30 Natural resources use reduction targets or commitments","Natural resources use reduction targets or commitments, expressed in absolute or relative reduction in use of natural resources over one calendar year","Free alphanumerical text",null,"textBlock",null,null,null,"Lorem ipsum dolor sit amet, consectetur adipiscing elit, sed do eiusmod tempor incididunt ut labore et dolore magna aliqua. Ut enim ad minim veniam, quis nostrud exercitation ullamco laboris nisi ut aliquip ex ea commodo consequat. Duis aute irure dolor in reprehenderit in voluptate velit esse cillum dolore eu fugiat nulla pariatur. Excepteur sint occaecat cupidatat non proident, sunt in culpa qui officia deserunt mollit anim id est laborum."]
[null,"S.31 Water use","Total water consumption linked to the validation of transactions and the maintenance of the integrity of the distributed ledger, expressed in cubic meters","Amount in cubic meters {DECIMAL-18/5}",null,"volume (m3)",null,null,null,0]
[null,"S.32 Non recycled water ratio","Share of the total water consumed not recycled and not reused linked to the validation of transactions and the maintenance of the integrity of the distributed ledger per calendar year, expressed as a percentage","Percentage {DECIMAL-11/10}",null,"percent",null,null,null,0]
[null,"Sources and methodologies"]
[null,"S.33 Other energy sources and methodologies","Sources and methodologies used in relation to the information reported in fields S.17 and S.18","Free alphanumerical text",null,"textBlock",null,null,null,"Lorem ipsum dolor sit amet, consectetur adipiscing elit, sed do eiusmod tempor incididunt ut labore et dolore magna aliqua. Ut enim ad minim veniam, quis nostrud exercitation ullamco laboris nisi ut aliquip ex ea commodo consequat. Duis aute irure dolor in reprehenderit in voluptate velit esse cillum dolore eu fugiat nulla pariatur. Excepteur sint occaecat cupidatat non proident, sunt in culpa qui officia deserunt mollit anim id est laborum."]
[null,"S.34 Other GHG sources and methodologies","Sources and methodologies used in relation to the information reported in fields S.19, S.20 and S.21","Free alphanumerical text",null,"textBlock",null,null,null,"Lorem ipsum dolor sit amet, consectetur adipiscing elit, sed do eiusmod tempor incididunt ut labore et dolore magna aliqua. Ut enim ad minim veniam, quis nostrud exercitation ullamco laboris nisi ut aliquip ex ea commodo consequat. Duis aute irure dolor in reprehenderit in voluptate velit esse cillum dolore eu fugiat nulla pariatur. Excepteur sint occaecat cupidatat non proident, sunt in culpa qui officia deserunt mollit anim id est laborum."]
[null,"S.35 Waste sources and methodologies","Sources and methodologies used in relation to the information reported in fields S.22, S.23, S.24, S.25, S.26, S.27 and S.28","Free alphanumerical text",null,"textBlock",null,null,null,"Lorem ipsum dolor sit amet, consectetur adipiscing elit, sed do eiusmod tempor incididunt ut labore et dolore magna aliqua. Ut enim ad minim veniam, quis nostrud exercitation ullamco laboris nisi ut aliquip ex ea commodo consequat. Duis aute irure dolor in reprehenderit in voluptate velit esse cillum dolore eu fugiat nulla pariatur. Excepteur sint occaecat cupidatat non proident, sunt in culpa qui officia deserunt mollit anim id est laborum."]
[null,"S.36 Natural resources sources and methodologies","Sources and methodologies used in relation to the information reported in fields S.29, S.30, S.31 and S.32","Free alphanumerical text",null,"textBlock",null,null,null,"Lorem ipsum dolor sit amet, consectetur adipiscing elit, sed do eiusmod tempor incididunt ut labore et dolore magna aliqua. Ut enim ad minim veniam, quis nostrud exercitation ullamco laboris nisi ut aliquip ex ea commodo consequat. Duis aute irure dolor in reprehenderit in voluptate velit esse cillum dolore eu fugiat nulla pariatur. Excepteur sint occaecat cupidatat non proident, sunt in culpa qui officia deserunt mollit anim id est laborum."]